BEGIN:VCALENDAR
VERSION:2.0
PRODID:-//台中頂尖整合行銷-音樂教室.樂器.燈光音響.出租 - ECPv6.15.20//NONSGML v1.0//EN
CALSCALE:GREGORIAN
METHOD:PUBLISH
X-WR-CALNAME:台中頂尖整合行銷-音樂教室.樂器.燈光音響.出租
X-ORIGINAL-URL:https://topteamimc.com
X-WR-CALDESC:Events for 台中頂尖整合行銷-音樂教室.樂器.燈光音響.出租
REFRESH-INTERVAL;VALUE=DURATION:PT1H
X-Robots-Tag:noindex
X-PUBLISHED-TTL:PT1H
BEGIN:VTIMEZONE
TZID:Asia/Taipei
BEGIN:STANDARD
TZOFFSETFROM:+0800
TZOFFSETTO:+0800
TZNAME:CST
DTSTART:20160101T000000
END:STANDARD
END:VTIMEZONE
BEGIN:VEVENT
DTSTART;VALUE=DATE:20170927
DTEND;VALUE=DATE:20170928
DTSTAMP:20260424T062900
CREATED:20200309T010333Z
LAST-MODIFIED:20200309T010348Z
UID:7351-1506470400-1506556799@topteamimc.com
SUMMARY:【活動紀錄】Argyll 雅格瑞科技 簡報會議活動
DESCRIPTION:Argyll 雅格瑞科技  \n簡報會議活動 \n 【器材項目】 \n\n\n	【出租 / 搭設】5000流明投影機\n查看內容	\n			\n\n\n	【出租】150吋手拉式投影布幕\n查看內容	\n			\n\n\n \n 【圖片 & 活動照片連結】
URL:https://topteamimc.com/event/2017-09-27/
LOCATION:富王大飯店\, 西屯區文心路二段636號
CATEGORIES:公司活動
ATTACH;FMTTYPE=image/jpeg:https://topteamimc.com/wp-content/uploads/2016/11/argyll-雅格瑞科技投影設備-5.jpg
END:VEVENT
BEGIN:VEVENT
DTSTART;VALUE=DATE:20170812
DTEND;VALUE=DATE:20170813
DTSTAMP:20260424T062900
CREATED:20170813T182149Z
LAST-MODIFIED:20200219T100721Z
UID:4995-1502496000-1502582399@topteamimc.com
SUMMARY:【音響活動紀錄】2017匯竑家庭遊趣日
DESCRIPTION:2017匯竑家庭遊趣日 \n 【支援項目】 \n\n\n	【出租 / 搭設】Welcome充氣拱門\n查看內容	\n			\n\n\n	【出租 / 搭設】接龍帳\n查看內容	\n			\n\n\n	【出租 / 搭設】歐式帳篷\n查看內容	\n			\n\n\n	【出租 / 組裝】點歌機設備\n查看內容	\n			\n\n\n	【出租 / 載運】18吋電風扇\n查看內容	\n			\n\n\n	【出租 / 載運】基本型發電機\n查看內容	\n			\n\n\n	【出租 / 載運】大摺疊會議桌\n查看內容	\n			\n\n\n	【出租 / 載運】紅色塑膠椅評分 5.00 滿分 5\n查看內容	\n			\n\n\n	【出租 / 載運】黑色摺疊椅\n查看內容	\n			\n\n\n	【出租】壓重沙包\n查看內容	\n			\n\n\n	【搭設】標準舞台（含主舞台、舞台腳圍布、舞台面地毯、兩側舞台樓梯）\n查看內容	\n			\n\n\n \n 【圖片 & 活動連結】
URL:https://topteamimc.com/event/2017-08-12/
LOCATION:九九莊園\, 斗六市十三南路55-2號\, 雲林縣\, 台灣
CATEGORIES:公司活動
ATTACH;FMTTYPE=image/jpeg:https://topteamimc.com/wp-content/uploads/2016/11/匯竑家庭日音響-44.jpg
END:VEVENT
END:VCALENDAR