BEGIN:VCALENDAR
VERSION:2.0
PRODID:-//台中頂尖整合行銷-音樂教室.樂器.燈光音響.出租 - ECPv6.15.20//NONSGML v1.0//EN
CALSCALE:GREGORIAN
METHOD:PUBLISH
X-ORIGINAL-URL:https://topteamimc.com
X-WR-CALDESC:Events for 台中頂尖整合行銷-音樂教室.樂器.燈光音響.出租
REFRESH-INTERVAL;VALUE=DURATION:PT1H
X-Robots-Tag:noindex
X-PUBLISHED-TTL:PT1H
BEGIN:VTIMEZONE
TZID:Asia/Taipei
BEGIN:STANDARD
TZOFFSETFROM:+0800
TZOFFSETTO:+0800
TZNAME:CST
DTSTART:20210101T000000
END:STANDARD
END:VTIMEZONE
BEGIN:VEVENT
DTSTART;VALUE=DATE:20220325
DTEND;VALUE=DATE:20220509
DTSTAMP:20260424T051558
CREATED:20220509T090849Z
LAST-MODIFIED:20220517T021503Z
UID:8877-1648166400-1652054399@topteamimc.com
SUMMARY:【活動紀錄】做工的人 電視劇集拍攝
DESCRIPTION:做工的人  \n電視劇集拍攝 \n 【器材項目】 \n\n\n	【出租 / 搭設】300W場地照明燈\n查看內容	\n			\n\n\n	【出租 / 搭設】3米快速帳\n查看內容	\n			\n\n\n	【出租 / 載運】大摺疊會議桌\n查看內容	\n			\n\n\n	【出租 / 載運】紅色塑膠椅評分 5.00 滿分 5\n查看內容	\n			\n\n\n	【出租 / 運送】交通錐組\n查看內容	\n			\n\n\n	【出租】帳篷圍布\n查看內容	\n			\n\n\n	【出租】簡單活動主持 / 音樂播放專用《行動音響》\n查看內容	\n			\n\n\n \n 【活動照片連結】 \n麗寶樂園拍攝 \n\n \n自然科學博物館拍攝\n \n日月潭拍攝\n \n北屯捷運站 & 北屯Costco旁停車場 拍攝
URL:https://topteamimc.com/event/2022-05-09/
LOCATION:麗寶樂園\, 后里區福容路8號
CATEGORIES:劇組拍攝
ATTACH;FMTTYPE=image/jpeg:https://topteamimc.com/wp-content/uploads/2022/05/做工的人第二季-日月潭取景拍攝活動-快速帳-摺疊桌-ibm桌-塑膠椅-帳篷圍布-出租運送搭設-5.jpg
END:VEVENT
BEGIN:VEVENT
DTSTART;VALUE=DATE:20220318
DTEND;VALUE=DATE:20220319
DTSTAMP:20260424T051558
CREATED:20220513T015206Z
LAST-MODIFIED:20220513T015316Z
UID:8900-1647561600-1647647999@topteamimc.com
SUMMARY:【活動紀錄】老少女奇遇記 劇組拍攝場地佈置
DESCRIPTION:老少女奇遇記  \n劇組拍攝場地佈置  \n 【支援器材項目】 \n\n\n	【出租 / 搭設】3米快速帳\n查看內容	\n			\n\n\n	【出租 / 搭設】LED裝飾串燈\n查看內容	\n			\n\n\n	【出租】壓重沙包\n查看內容	\n			\n\n\n \n 【活動照片連結】
URL:https://topteamimc.com/event/2022-03-18/
CATEGORIES:劇組拍攝
ATTACH;FMTTYPE=image/jpeg:https://topteamimc.com/wp-content/uploads/2020/06/老少女奇遇記-劇組拍攝活動-場地佈置-裝飾串燈-出租施工搭設-23.jpg
END:VEVENT
END:VCALENDAR