BEGIN:VCALENDAR
VERSION:2.0
PRODID:-//台中頂尖整合行銷-音樂教室.樂器.燈光音響.出租 - ECPv6.15.20//NONSGML v1.0//EN
CALSCALE:GREGORIAN
METHOD:PUBLISH
X-WR-CALNAME:台中頂尖整合行銷-音樂教室.樂器.燈光音響.出租
X-ORIGINAL-URL:https://topteamimc.com
X-WR-CALDESC:Events for 台中頂尖整合行銷-音樂教室.樂器.燈光音響.出租
REFRESH-INTERVAL;VALUE=DURATION:PT1H
X-Robots-Tag:noindex
X-PUBLISHED-TTL:PT1H
BEGIN:VTIMEZONE
TZID:Asia/Taipei
BEGIN:STANDARD
TZOFFSETFROM:+0800
TZOFFSETTO:+0800
TZNAME:CST
DTSTART:20150101T000000
END:STANDARD
END:VTIMEZONE
BEGIN:VEVENT
DTSTART;TZID=Asia/Taipei:20220403T080000
DTEND;TZID=Asia/Taipei:20220429T170000
DTSTAMP:20260424T020843
CREATED:20220509T093712Z
LAST-MODIFIED:20220509T093901Z
UID:8891-1648972800-1651251600@topteamimc.com
SUMMARY:【活動紀錄】Cooler Master 酷玩行者體驗活動
DESCRIPTION:Cooler Master  \n酷玩行者體驗活動  \n 【器材項目】 \n\n\n	【出租 / 載運】大摺疊會議桌\n查看內容	\n			\n\n\n	【出租 / 載運】白色摺疊椅\n查看內容	\n			\n\n\n	【出租 / 運送】舞台紅龍伸縮圍欄\n查看內容	\n			\n\n\n \n 【活動照片連結】 \n馬拉灣開團活動 \n \nWe Are Family中信主題日 \n \nWe Are Family中信主題日
URL:https://topteamimc.com/event/2022-04-29/
LOCATION:麗寶樂園\, 后里區福容路8號
CATEGORIES:宣傳活動,特賣活動
ATTACH;FMTTYPE=image/jpeg:https://topteamimc.com/wp-content/uploads/2022/05/Cooler-Master-馬拉灣開園-酷玩行者-體驗活動-黑帶紅龍柱-出租運送-7.jpg
END:VEVENT
BEGIN:VEVENT
DTSTART;TZID=Asia/Taipei:20210508T080000
DTEND;TZID=Asia/Taipei:20210508T120000
DTSTAMP:20260424T020843
CREATED:20210508T130540Z
LAST-MODIFIED:20210508T130540Z
UID:8472-1620460800-1620475200@topteamimc.com
SUMMARY:【活動紀錄】美夢雲床墊體驗活動
DESCRIPTION:美夢雲記憶綿床墊 \n體驗活動 \n 【器材項目】 \n\n\n	【出租 / 搭設】6米宮廷帳\n查看內容	\n			\n\n\n	【出租 / 載運】大摺疊會議桌\n查看內容	\n			\n\n\n	【出租 / 載運】小型發電機\n查看內容	\n			\n\n\n	【出租 / 載運】白色摺疊椅\n查看內容	\n			\n\n\n	【出租】帳篷吊燈\n查看內容	\n			\n\n\n	【出租】帳篷圍布\n查看內容	\n			\n\n\n \n 【活動圖片】
URL:https://topteamimc.com/event/2021-05-08/
CATEGORIES:特賣活動
ATTACH;FMTTYPE=image/jpeg:https://topteamimc.com/wp-content/uploads/2021/05/美夢雲促銷活動-宮廷帳-摺疊桌-折疊椅-圍布-帳棚燈-發電機-出租搭設-16.jpg
END:VEVENT
BEGIN:VEVENT
DTSTART;VALUE=DATE:20201123
DTEND;VALUE=DATE:20201130
DTSTAMP:20260424T020843
CREATED:20201124T013327Z
LAST-MODIFIED:20201124T013327Z
UID:7914-1606089600-1606694399@topteamimc.com
SUMMARY:【活動紀錄】昇恆昌免稅商店 Family Sale 活動
DESCRIPTION:昇恆昌免稅商店 Family Sale 活動 \n 【器材項目】 \n\n\n	【出租 / 搭設】照明 / 背板打光《基本燈光組》\n查看內容	\n			\n\n\n	【出租 / 載運】大摺疊會議桌\n查看內容	\n			\n\n\n \n 【圖片】
URL:https://topteamimc.com/event/2020-11-23/
LOCATION:臻悅美饌花園婚宴會館\, 北屯區昌平東三路68號
CATEGORIES:特賣活動
ATTACH;FMTTYPE=image/jpeg:https://topteamimc.com/wp-content/uploads/2020/11/昇恆昌特賣會活動-摺疊桌-照明燈-出租運送-1.jpg
END:VEVENT
BEGIN:VEVENT
DTSTART;VALUE=DATE:20201120
DTEND;VALUE=DATE:20201221
DTSTAMP:20260424T020843
CREATED:20201118T044033Z
LAST-MODIFIED:20201118T100409Z
UID:8199-1605830400-1608508799@topteamimc.com
SUMMARY:【活動紀錄】Costco好市多 北台中店開幕活動
DESCRIPTION:Costco好市多 \n北台中店開幕活動 \n 【器材項目】 \n\n\n	【出租 / 搭設】3米快速帳\n查看內容	\n			\n\n\n	【出租 / 運送】交通錐組\n查看內容	\n			\n\n\n	【出租 / 運送】舞台紅龍伸縮圍欄\n查看內容	\n			\n\n\n	【出租】壓重沙包\n查看內容	\n			\n\n\n \n 【圖片】
URL:https://topteamimc.com/event/2020-11-20/
LOCATION:Costco北台中店\, 北屯區敦富路366號\, 台中市
CATEGORIES:特賣活動,開幕活動
ATTACH;FMTTYPE=image/jpeg:https://topteamimc.com/wp-content/uploads/2020/11/Costco-北台中店-開幕活動-排隊線-紅龍柱-伸縮圍欄-出租運送.jpg
END:VEVENT
BEGIN:VEVENT
DTSTART;TZID=Asia/Taipei:20200530T080000
DTEND;TZID=Asia/Taipei:20200531T170000
DTSTAMP:20260424T020843
CREATED:20200531T004752Z
LAST-MODIFIED:20200928T104949Z
UID:7723-1590825600-1590944400@topteamimc.com
SUMMARY:【活動紀錄】中原大學 卓然果園食果市集活動
DESCRIPTION:中原大學 卓然果園食果市集 \n小農市集 x 生態教育 x 遊戲體驗 \n 【器材項目】 \n\n\n	【出租 / 載運】大摺疊會議桌\n查看內容	\n			\n\n\n	【出租 / 載運】白色塑膠靠背椅\n查看內容	\n			\n\n\n	【出租 / 載運】白色摺疊椅\n查看內容	\n			\n\n\n	【出租 / 運送】交通錐組\n查看內容	\n			\n\n\n	【出租 / 運送】水冷扇\n查看內容	\n			\n\n\n	【出租 / 運送】白色塑膠圓桌\n查看內容	\n			\n\n\n	【出租 / 運送】舞台紅龍伸縮圍欄\n查看內容	\n			\n\n\n	【出租】100吋手拉式投影布幕\n查看內容	\n			\n\n\n	【出租】帳篷吊燈\n查看內容	\n			\n\n\n \n 【圖片 & 活動照片連結】
URL:https://topteamimc.com/event/2020-05-31/
LOCATION:內灣國小白帆分校\, 內灣里白布帆61號\, 苗栗縣
CATEGORIES:市集活動,特賣活動
ATTACH;FMTTYPE=image/jpeg:https://topteamimc.com/wp-content/uploads/2020/05/中原大學-卓然果園食果市集活動-歐式帳篷-3米帳-帳篷燈-出租運送-42.jpg
END:VEVENT
BEGIN:VEVENT
DTSTART;VALUE=DATE:20200412
DTEND;VALUE=DATE:20200413
DTSTAMP:20260424T020843
CREATED:20200429T024526Z
LAST-MODIFIED:20200429T024526Z
UID:7632-1586649600-1586735999@topteamimc.com
SUMMARY:【活動紀錄】IGcar 愛駒養車 促銷體驗活動
DESCRIPTION:IGcar 愛駒養車 促銷體驗活動 \n 【器材項目】 \n\n\n	【出租 / 載運】大摺疊會議桌\n查看內容	\n			\n\n\n	【出租 / 載運】白色塑膠靠背椅\n查看內容	\n			\n\n\n	【出租 / 載運】白色摺疊椅\n查看內容	\n			\n\n\n	【出租 / 運送】白色塑膠圓桌\n查看內容	\n			\n\n\n \n 【圖片 & 活動照片連結】
URL:https://topteamimc.com/event/2020-04-12/
LOCATION:O3汽車美容-河南旗艦店\, 河南路二段西屯區台中市407
CATEGORIES:特賣活動
ATTACH;FMTTYPE=image/jpeg:https://topteamimc.com/wp-content/uploads/2020/04/O3汽車美容-河南旗艦店漆面透明保護膜店-促銷體驗活動-投影布幕-出租搭設-2.jpg
END:VEVENT
BEGIN:VEVENT
DTSTART;VALUE=DATE:20200315
DTEND;VALUE=DATE:20200316
DTSTAMP:20260424T020843
CREATED:20200316T022352Z
LAST-MODIFIED:20200411T021328Z
UID:7473-1584230400-1584316799@topteamimc.com
SUMMARY:【活動紀錄】亞太三民直營店促銷活動
DESCRIPTION:亞太三民直營店促銷活動 \n 【器材項目】 \n\n\n	【出租 / 搭設】歐式帳篷\n查看內容	\n			\n\n\n	【出租 / 載運】大摺疊會議桌\n查看內容	\n			\n\n\n	【出租 / 載運】紅色塑膠椅評分 5.00 滿分 5\n查看內容	\n			\n\n\n	【出租】帳篷吊燈\n查看內容	\n			\n\n\n	【出租】帳篷圍布\n查看內容	\n			\n\n\n \n 【圖片 & 活動照片連結】
URL:https://topteamimc.com/event/2020-03-15/
LOCATION:亞太電信三民直營門市\, 北區三民路三段194之1號
CATEGORIES:特賣活動
ATTACH;FMTTYPE=image/jpeg:https://topteamimc.com/wp-content/uploads/2020/03/亞太三民直營-showtime秀泰促銷活動-桌椅帳棚出租搭設-7.jpg
END:VEVENT
BEGIN:VEVENT
DTSTART;TZID=Asia/Taipei:20191220T150000
DTEND;TZID=Asia/Taipei:20191220T213000
DTSTAMP:20260424T020843
CREATED:20200218T012204Z
LAST-MODIFIED:20200928T105009Z
UID:7025-1576854000-1576877400@topteamimc.com
SUMMARY:【活動紀錄】Bright Light聖誕音樂會
DESCRIPTION:安平愛鄰協會  \nBright Light聖誕音樂會 \n 【支援器材項目】 \n\n\n	【出租 / 搭設】LED裝飾串燈\n查看內容	\n			\n\n\n	【出租 / 搭設】器材支撐架《I字Truss》\n查看內容	\n			\n\n\n	【出租 / 載運】基本型發電機\n查看內容	\n			\n\n\n	【出租 / 載運】大摺疊會議桌\n查看內容	\n			\n\n\n	【出租 / 載運】白色塑膠靠背椅\n查看內容	\n			\n\n\n	【出租 / 載運】黑色摺疊椅\n查看內容	\n			\n\n\n	【出租 / 運送】白色塑膠圓桌\n查看內容	\n			\n\n\n	【出租 / 運送】舞台紅龍伸縮圍欄\n查看內容	\n			\n\n\n	【出租】帳篷吊燈\n查看內容	\n			\n\n\n \n 【圖片 & 活動連結】
URL:https://topteamimc.com/event/2019-12-20/
LOCATION:安億公園\, 安平區安億路
CATEGORIES:市集活動,特賣活動,節日活動
ATTACH;FMTTYPE=image/jpeg:https://topteamimc.com/wp-content/uploads/2019/06/安平愛鄰協會-聖誕草地音樂會-Bright-Light-攤位區-LED裝飾串燈-出租搭設-10.jpg
END:VEVENT
BEGIN:VEVENT
DTSTART;VALUE=DATE:20191125
DTEND;VALUE=DATE:20191202
DTSTAMP:20260424T020843
CREATED:20200221T015143Z
LAST-MODIFIED:20200221T015352Z
UID:7131-1574640000-1575244799@topteamimc.com
SUMMARY:【活動紀錄】Costco好市多《黑色購物節》
DESCRIPTION:Costco好市多《黑色購物節》 \n 【支援器材項目】 \n\n\n	【出租 / 運送】舞台紅龍伸縮圍欄\n查看內容	\n			\n\n\n \n 【圖片 & 活動連結】
URL:https://topteamimc.com/event/2019-11-25/
LOCATION:Costco好市多\, 南屯區文心南三路289號\, 台中市\, 台灣
CATEGORIES:特賣活動
ATTACH;FMTTYPE=image/jpeg:https://topteamimc.com/wp-content/uploads/2016/04/2018-Costco黑色購物節-紅龍伸縮圍欄運送出租-10.jpg
END:VEVENT
BEGIN:VEVENT
DTSTART;VALUE=DATE:20190919
DTEND;VALUE=DATE:20190920
DTSTAMP:20260424T020843
CREATED:20200314T012024Z
LAST-MODIFIED:20200314T012024Z
UID:7441-1568851200-1568937599@topteamimc.com
SUMMARY:【活動紀錄】V-tex 運動鞋促銷活動
DESCRIPTION:V-tex 運動鞋促銷活動 \n 【器材項目】 \n\n\n	【出租 / 搭設】3米快速帳\n查看內容	\n			\n\n\n	【出租 / 搭設】照明 / 背板打光《基本燈光組》\n查看內容	\n			\n\n\n	【出租 / 載運】大摺疊會議桌\n查看內容	\n			\n\n\n	【出租 / 載運】紅色塑膠椅評分 5.00 滿分 5\n查看內容	\n			\n\n\n	【出租 / 運送】關東旗\n查看內容	\n			\n\n\n \n 【圖片 & 活動照片連結】
URL:https://topteamimc.com/event/2019-09-19/
LOCATION:草悟道廣場\, 西區英才路534號\, 台中市\, 台灣
CATEGORIES:特賣活動
ATTACH;FMTTYPE=image/jpeg:https://topteamimc.com/wp-content/uploads/2019/03/V-tex-運動鞋促銷活動-勤美草悟道-3m快速帳-出租搭設-2.jpg
END:VEVENT
BEGIN:VEVENT
DTSTART;VALUE=DATE:20190728
DTEND;VALUE=DATE:20190729
DTSTAMP:20260424T020843
CREATED:20200217T113604Z
LAST-MODIFIED:20200928T105043Z
UID:7001-1564272000-1564358399@topteamimc.com
SUMMARY:【活動紀錄】感覺實驗室 綠川小市集
DESCRIPTION:感覺實驗室 綠川小市集 \n 【支援器材項目】 \n\n\n	【出租 / 搭設】3米快速帳\n查看內容	\n			\n\n\n	【出租 / 搭設】LED裝飾串燈\n查看內容	\n			\n\n\n	【出租 / 載運】基本型發電機\n查看內容	\n			\n\n\n	【出租 / 載運】大摺疊會議桌\n查看內容	\n			\n\n\n	【出租 / 載運】黑色摺疊椅\n查看內容	\n			\n\n\n	【出租 / 運送】戶外休閒傘\n查看內容	\n			\n\n\n	【出租 / 運送】白色塑膠圓桌\n查看內容	\n			\n\n\n \n 【圖片 & 活動連結】
URL:https://topteamimc.com/event/2019-07-28/
LOCATION:台中綠川
CATEGORIES:市集活動,特賣活動
ATTACH;FMTTYPE=image/jpeg:https://topteamimc.com/wp-content/uploads/2019/03/感覺實驗室-綠川小市集-攤位快速帳-出租搭設.jpg
END:VEVENT
BEGIN:VEVENT
DTSTART;VALUE=DATE:20190616
DTEND;VALUE=DATE:20190617
DTSTAMP:20260424T020843
CREATED:20190616T082329Z
LAST-MODIFIED:20200217T091625Z
UID:6988-1560643200-1560729599@topteamimc.com
SUMMARY:【活動紀錄】尊任咖啡文酷展
DESCRIPTION:尊任咖啡文酷展 \n 【支援項目】 \n\n\n	【出租 / 載運】大摺疊會議桌\n查看內容	\n			\n\n\n	【出租 / 載運】紅色塑膠椅評分 5.00 滿分 5\n查看內容	\n			\n\n\n	【出租 / 載運】黑色摺疊椅\n查看內容	\n			\n\n\n	【出租】10000流明投影機\n查看內容	\n			\n\n\n	【出租】150吋手拉式投影布幕\n查看內容	\n			\n\n\n	【出租】X展架\n查看內容	\n			\n\n\n	【出租】香檳金桌巾\n查看內容	\n			\n\n\n \n 【圖片 & 活動連結】
URL:https://topteamimc.com/event/2019-06-15/
LOCATION:台中大魯閣新時代\, 復興路四段186號\, 台中\, 台灣
CATEGORIES:特賣活動
ATTACH;FMTTYPE=image/jpeg:https://topteamimc.com/wp-content/uploads/2020/02/尊任咖啡-大魯閣新時代-文酷展桌椅出租運送-7.jpg
END:VEVENT
BEGIN:VEVENT
DTSTART;VALUE=DATE:20190611
DTEND;VALUE=DATE:20190612
DTSTAMP:20260424T020843
CREATED:20200302T085307Z
LAST-MODIFIED:20200302T085710Z
UID:7243-1560211200-1560297599@topteamimc.com
SUMMARY:【活動紀錄】小北百貨25週年慶
DESCRIPTION:小北百貨25週年慶 \n 【支援器材項目】 \n\n\n	【出租 / 搭設】3米快速帳\n查看內容	\n			\n\n\n	【出租 / 搭設】55吋液晶電視\n查看內容	\n			\n\n\n	【出租 / 搭設】簡易燈光音響組\n查看內容	\n			\n\n\n	【出租 / 運送】舞台紅龍伸縮圍欄\n查看內容	\n			\n\n\n	【出租 / 運送】貴賓椅\n查看內容	\n			\n\n\n	【出租 / 鋪設】舞台面 / 走道 《紅色地毯》\n查看內容	\n			\n\n\n	【搭設】主題背板 / 照相背板《ㄇ字型Truss》\n查看內容	\n			\n\n\n \n 【圖片 & 活動連結】
URL:https://topteamimc.com/event/2019-06-11/
LOCATION:小北百貨樹孝店\, 太平區樹孝路272號
CATEGORIES:特賣活動
ATTACH;FMTTYPE=image/jpeg:https://topteamimc.com/wp-content/uploads/2020/03/太平小北百貨25週年慶摸彩-桌椅-紅龍題背板truss-55吋電視-音響租用-紅地毯鋪設.jpg
END:VEVENT
BEGIN:VEVENT
DTSTART;VALUE=DATE:20180811
DTEND;VALUE=DATE:20180812
DTSTAMP:20260424T020843
CREATED:20200309T084837Z
LAST-MODIFIED:20200309T084837Z
UID:7359-1533945600-1534031999@topteamimc.com
SUMMARY:【活動紀錄】KTM新車發表會
DESCRIPTION:KTM新車發表會 \n 【器材項目】 \n\n\n	【出租 / 搭設】LED電視牆\n查看內容	\n			\n\n\n	【搭設】主題背板 / 照相背板《ㄇ字型Truss》\n查看內容	\n			\n\n\n	【搭設】標準舞台（含主舞台、舞台腳圍布、舞台面地毯、兩側舞台樓梯）\n查看內容	\n			\n\n\n	【製作 / 施工】珍珠背板\n查看內容	\n			\n\n\n \n 【圖片 & 活動照片連結】
URL:https://topteamimc.com/event/2018-08-11/
LOCATION:大鵬灣國際賽車場\, 東港鎮鵬灣大道二段1號
CATEGORIES:特賣活動
ATTACH;FMTTYPE=image/jpeg:https://topteamimc.com/wp-content/uploads/2020/03/大鵬灣國際賽車場-KTM新車發表-投影設備-燈光音響-斜坡道舞台-Truss背板-3.jpg
END:VEVENT
BEGIN:VEVENT
DTSTART;VALUE=DATE:20180111
DTEND;VALUE=DATE:20180114
DTSTAMP:20260424T020843
CREATED:20180210T140136Z
LAST-MODIFIED:20200225T005519Z
UID:5642-1515628800-1515887999@topteamimc.com
SUMMARY:【Truss搭設紀錄】達新工業《2018年度回饋特賣活動》
DESCRIPTION:達新工業《2018年度回饋特賣活動》 \n 【支援項目】 \n\n\n	【出租 / 運送】活動歌唱 & 主持用《無線麥克風套組》\n查看內容	\n			\n\n\n	【搭設】主題背板 / 照相背板《ㄇ字型Truss》\n查看內容	\n			\n\n\n	【搭設】廣告看板 / 活動主題背板《口字型Truss》\n查看內容	\n			\n\n\n	【製作】主題輸出帆布\n查看內容	\n			\n\n\n	【配套】Bose802喇叭\n查看內容	\n			\n\n\n \n 【圖片】
URL:https://topteamimc.com/event/2018-01-11/
LOCATION:達新工業\, 西屯區工業區三十五路51號\, 台中市
CATEGORIES:特賣活動
ATTACH;FMTTYPE=image/jpeg:https://topteamimc.com/wp-content/uploads/2016/12/2018達新特賣活動-路口廣告背板truss.jpg
END:VEVENT
BEGIN:VEVENT
DTSTART;TZID=Asia/Taipei:20170108T080000
DTEND;TZID=Asia/Taipei:20170111T170000
DTSTAMP:20260424T020843
CREATED:20161229T125213Z
LAST-MODIFIED:20200224T005848Z
UID:4617-1483862400-1484154000@topteamimc.com
SUMMARY:【活動紀錄】達新2017年度回饋特賣活動
DESCRIPTION:達新工業《2017年度回饋特賣活動》 \n 【支援項目】 \n\n\n	【出租 / 搭設】簡易燈光音響組\n查看內容	\n			\n\n\n	【出租 / 運送】活動歌唱 & 主持用《無線麥克風套組》\n查看內容	\n			\n\n\n	【搭設】主題背板 / 照相背板《ㄇ字型Truss》\n查看內容	\n			\n\n\n	【搭設】廣告看板 / 活動主題背板《口字型Truss》\n查看內容	\n			\n\n\n	【配套】Bose802喇叭\n查看內容	\n			\n\n\n	【配套】外場區域專用《15吋喇叭》\n查看內容	\n			\n\n\n \n 【圖片】
URL:https://topteamimc.com/event/2017-01-08/
LOCATION:達新工業\, 西屯區工業區三十五路51號\, 台中市
CATEGORIES:特賣活動
ATTACH;FMTTYPE=image/jpeg:https://topteamimc.com/wp-content/uploads/2016/12/達新工業年度回饋特賣活動-4.jpg
END:VEVENT
BEGIN:VEVENT
DTSTART;VALUE=DATE:20160204
DTEND;VALUE=DATE:20160215
DTSTAMP:20260424T020843
CREATED:20200402T073445Z
LAST-MODIFIED:20200402T073445Z
UID:7554-1454544000-1455494399@topteamimc.com
SUMMARY:【活動紀錄】安平親子嘉年華
DESCRIPTION:安平親子嘉年華 \n 【支援器材項目】 \n\n\n	【出租 / 搭設】3米快速帳\n查看內容	\n			\n\n\n	【出租 / 搭設】簡易燈光音響組\n查看內容	\n			\n\n\n	【出租 / 載運】大摺疊會議桌\n查看內容	\n			\n\n\n	【出租 / 配套】場地染色效果《染色燈光組》\n查看內容	\n			\n\n\n	【搭設】主題背板 / 照相背板《ㄇ字型Truss》\n查看內容	\n			\n\n\n	【搭設】廣告看板 / 活動主題背板《口字型Truss》\n查看內容	\n			\n\n\n \n 【圖片 & 活動連結】
URL:https://topteamimc.com/event/2016-02-04/
LOCATION:西門國小\, 安平區安北路180號
CATEGORIES:特賣活動,節日活動
ATTACH;FMTTYPE=image/jpeg:https://topteamimc.com/wp-content/uploads/2020/04/安平親子嘉年華-年貨大街活動-帳篷燈光音響-主題背板truss-出租搭設-2.jpg
END:VEVENT
END:VCALENDAR