BEGIN:VCALENDAR
VERSION:2.0
PRODID:-//台中頂尖整合行銷-音樂教室.樂器.燈光音響.出租 - ECPv6.15.20//NONSGML v1.0//EN
CALSCALE:GREGORIAN
METHOD:PUBLISH
X-ORIGINAL-URL:https://topteamimc.com
X-WR-CALDESC:Events for 台中頂尖整合行銷-音樂教室.樂器.燈光音響.出租
REFRESH-INTERVAL;VALUE=DURATION:PT1H
X-Robots-Tag:noindex
X-PUBLISHED-TTL:PT1H
BEGIN:VTIMEZONE
TZID:Asia/Taipei
BEGIN:STANDARD
TZOFFSETFROM:+0800
TZOFFSETTO:+0800
TZNAME:CST
DTSTART:20150101T000000
END:STANDARD
END:VTIMEZONE
BEGIN:VEVENT
DTSTART;TZID=Asia/Taipei:20180929T180000
DTEND;TZID=Asia/Taipei:20180929T210000
DTSTAMP:20260424T043402
CREATED:20200312T095735Z
LAST-MODIFIED:20200312T095735Z
UID:7411-1538244000-1538254800@topteamimc.com
SUMMARY:【活動紀錄】芯晴愛啾直播主 粉絲見面會
DESCRIPTION:芯晴愛啾直播主 \n粉絲見面會 \n 【器材項目】 \n\n\n	【出租 / 搭設】32吋液晶電視\n查看內容	\n			\n\n\n	【出租 / 搭設】簡易燈光音響組\n查看內容	\n			\n\n\n	【出租 / 配套】場地染色效果《染色燈光組》\n查看內容	\n			\n\n\n	【搭設】主題背板 / 照相背板《ㄇ字型Truss》\n查看內容	\n			\n\n\n	【搭設】標準舞台（含主舞台、舞台腳圍布、舞台面地毯、兩側舞台樓梯）\n查看內容	\n			\n\n\n \n 【圖片 & 活動照片連結】
URL:https://topteamimc.com/event/2018-09-29/
LOCATION:牛排大叔\, 漢口路二段146號
CATEGORIES:直播活動
ATTACH;FMTTYPE=image/jpeg:https://topteamimc.com/wp-content/uploads/2020/03/芯晴愛啾直播主-牛排大叔2F見面會-舞台-主題背板-Truss立架-燈光音響搭設-18.jpg
END:VEVENT
BEGIN:VEVENT
DTSTART;VALUE=DATE:20171014
DTEND;VALUE=DATE:20171015
DTSTAMP:20260424T043402
CREATED:20200303T073339Z
LAST-MODIFIED:20200303T073515Z
UID:7280-1507939200-1508025599@topteamimc.com
SUMMARY:【活動紀錄】喬立雍容公益 電影欣賞自助餐會
DESCRIPTION:喬立雍容公益 \n看見台灣電影欣賞 自助餐會 \n 【器材項目】 \n\n\n	【出租 / 搭設】300吋投影布幕\n查看內容	\n			\n\n\n	【出租 / 搭設】接龍帳\n查看內容	\n			\n\n\n	【出租 / 搭設】簡易燈光音響組\n查看內容	\n			\n\n\n	【出租 / 載運】白色塑膠靠背椅\n查看內容	\n			\n\n\n	【出租 / 運送】白色塑膠圓桌\n查看內容	\n			\n\n\n	【出租】16000流明投影機\n查看內容	\n			\n\n\n	【搭設】廣告看板 / 活動主題背板《口字型Truss》\n查看內容	\n			\n\n\n \n 【圖片 & 活動連結】
URL:https://topteamimc.com/event/2017-10-14/
LOCATION:喬立雍容\, 西屯區台灣大道三段686-1號\, 台中市
CATEGORIES:直播活動
ATTACH;FMTTYPE=image/jpeg:https://topteamimc.com/wp-content/uploads/2016/11/喬立建設-看見台灣-300吋投影設備.jpg
END:VEVENT
BEGIN:VEVENT
DTSTART;TZID=Asia/Taipei:20160821T130000
DTEND;TZID=Asia/Taipei:20160821T180000
DTSTAMP:20260424T043402
CREATED:20161130T123842Z
LAST-MODIFIED:20200225T004639Z
UID:4494-1471784400-1471802400@topteamimc.com
SUMMARY:【活動紀錄】閃電狼英雄聯盟 LMS夏季總決賽現場投影直播
DESCRIPTION:閃電狼 英雄聯盟LMS夏季總決賽  \n台中新時代現場投影直播派對 \n 【支援項目】 \n\n\n	【出租 / 搭設】300吋投影布幕\n查看內容	\n			\n\n\n	【出租 / 載運】手搖式燈架 / 喇叭架\n查看內容	\n			\n\n\n	【出租 / 運送】活動歌唱 & 主持用《無線麥克風套組》\n查看內容	\n			\n\n\n	【出租】16000流明投影機\n查看內容	\n			\n\n\n	【配套】外場區域專用《15吋喇叭》\n查看內容	\n			\n\n\n \n 【影片-精彩片段】 \n \n 【圖片】
URL:https://topteamimc.com/event/2016-08-21/
LOCATION:台中大魯閣新時代\, 復興路四段186號\, 台中\, 台灣
CATEGORIES:直播活動
ATTACH;FMTTYPE=image/jpeg:https://topteamimc.com/wp-content/uploads/2016/08/閃電狼LMS夏季總決賽直播派對-Truss投影設備搭設-8.jpg
END:VEVENT
END:VCALENDAR