BEGIN:VCALENDAR
VERSION:2.0
PRODID:-//台中頂尖整合行銷-音樂教室.樂器.燈光音響.出租 - ECPv6.15.20//NONSGML v1.0//EN
CALSCALE:GREGORIAN
METHOD:PUBLISH
X-ORIGINAL-URL:https://topteamimc.com
X-WR-CALDESC:Events for 台中頂尖整合行銷-音樂教室.樂器.燈光音響.出租
REFRESH-INTERVAL;VALUE=DURATION:PT1H
X-Robots-Tag:noindex
X-PUBLISHED-TTL:PT1H
BEGIN:VTIMEZONE
TZID:Asia/Taipei
BEGIN:STANDARD
TZOFFSETFROM:+0800
TZOFFSETTO:+0800
TZNAME:CST
DTSTART:20140101T000000
END:STANDARD
END:VTIMEZONE
BEGIN:VEVENT
DTSTART;VALUE=DATE:20201128
DTEND;VALUE=DATE:20201129
DTSTAMP:20260424T045546
CREATED:20201129T090634Z
LAST-MODIFIED:20201129T090634Z
UID:8228-1606521600-1606607999@topteamimc.com
SUMMARY:【活動紀錄】埔里蔬食生活節
DESCRIPTION:埔里蔬食生活節 \n 【器材項目】 \n\n\n	【出租 / 搭設】3米快速帳\n查看內容	\n			\n\n\n	【出租 / 搭設】LED裝飾串燈\n查看內容	\n			\n\n\n	【出租 / 搭設】器材支撐架《I字Truss》\n查看內容	\n			\n\n\n	【出租 / 載運】大摺疊會議桌\n查看內容	\n			\n\n\n	【出租 / 載運】手搖式燈架 / 喇叭架\n查看內容	\n			\n\n\n	【出租 / 載運】白色摺疊椅\n查看內容	\n			\n\n\n	【出租 / 載運】紅色塑膠椅評分 5.00 滿分 5\n查看內容	\n			\n\n\n	【出租 / 運送】戶外休閒傘\n查看內容	\n			\n\n\n	【出租 / 運送】舞台紅龍伸縮圍欄\n查看內容	\n			\n\n\n \n 【圖片】
URL:https://topteamimc.com/event/2020-11-28/
CATEGORIES:市集活動,節日活動,餐會活動
ATTACH;FMTTYPE=image/jpeg:https://topteamimc.com/wp-content/uploads/2020/11/埔里蔬食節-戶外餐會用裝飾串燈-出租運送-4.jpg
END:VEVENT
BEGIN:VEVENT
DTSTART;VALUE=DATE:20201031
DTEND;VALUE=DATE:20201101
DTSTAMP:20260424T045546
CREATED:20201101T074254Z
LAST-MODIFIED:20201113T072417Z
UID:8141-1604102400-1604188799@topteamimc.com
SUMMARY:【活動紀錄】穿梭草悟道遇見英語角
DESCRIPTION:穿梭草悟道遇見英語角 \n萬聖節活動 \n 【器材項目】 \n\n\n	【出租 / 搭設】3米快速帳\n查看內容	\n			\n\n\n	【出租 / 搭設】簡易燈光音響組\n查看內容	\n			\n\n\n	【出租 / 載運】大摺疊會議桌\n查看內容	\n			\n\n\n	【出租 / 載運】白色摺疊椅\n查看內容	\n			\n\n\n	【出租 / 鋪設】舞台面 / 走道 《紅色地毯》\n查看內容	\n			\n\n\n	【出租】外場表演專用《譜架》\n查看內容	\n			\n\n\n	【出租】麥克風架\n查看內容	\n			\n\n\n	【搭設】主題背板 / 照相背板《ㄇ字型Truss》\n查看內容	\n			\n\n\n \n 【圖片】
URL:https://topteamimc.com/event/2020-10-31/
LOCATION:勤美草悟道\, 西區公益路68號\, 台中市
CATEGORIES:節日活動
ATTACH;FMTTYPE=image/jpeg:https://topteamimc.com/wp-content/uploads/2020/11/穿梭草悟道遇見英語角-主題背板-truss-出租搭設.jpg
END:VEVENT
BEGIN:VEVENT
DTSTART;TZID=Asia/Taipei:20201021T080000
DTEND;TZID=Asia/Taipei:20201021T120000
DTSTAMP:20260424T045546
CREATED:20201103T014624Z
LAST-MODIFIED:20201103T014802Z
UID:8157-1603267200-1603281600@topteamimc.com
SUMMARY:【活動紀錄】清潔員節慶祝活動
DESCRIPTION:清潔員節慶祝活動 \n 【器材項目】 \n\n\n	【出租 / 搭設】3米快速帳\n查看內容	\n			\n\n\n	【出租 / 搭設】6米宮廷帳\n查看內容	\n			\n\n\n	【出租 / 搭設】城堡型充氣拱門\n查看內容	\n			\n\n\n	【出租 / 運送】貴賓椅\n查看內容	\n			\n\n\n	【出租】壓重沙包\n查看內容	\n			\n\n\n	【搭設】舞台屋頂型Truss\n查看內容	\n			\n\n\n	【製作】主題輸出帆布\n查看內容	\n			\n\n\n \n 【圖片】
URL:https://topteamimc.com/event/2020-10-21/
LOCATION:新平公園\, 北屯區中平路783號
CATEGORIES:節日活動
ATTACH;FMTTYPE=image/jpeg:https://topteamimc.com/wp-content/uploads/2020/11/清潔隊員節慶祝活動-屋型Truss-出租搭設-5.jpg
END:VEVENT
BEGIN:VEVENT
DTSTART;VALUE=DATE:20200919
DTEND;VALUE=DATE:20200920
DTSTAMP:20260424T045546
CREATED:20200919T034337Z
LAST-MODIFIED:20200924T120610Z
UID:7993-1600473600-1600559999@topteamimc.com
SUMMARY:【活動紀錄】豐邑菁科城中秋烤肉活動
DESCRIPTION:豐邑菁科城中秋烤肉活動 \n 【支援器材項目】 \n\n\n	【出租 / 載運】18吋電風扇\n查看內容	\n			\n\n\n	【出租 / 載運】白色摺疊椅\n查看內容	\n			\n\n\n	【出租 / 運送】白色塑膠圓桌\n查看內容	\n			\n\n\n	【出租】小塑膠椅（點心椅、烤肉椅）\n查看內容	\n			\n\n\n	【出租】帳篷吊燈\n查看內容	\n			\n\n\n	【出租】帳篷圍布\n查看內容	\n			\n\n\n	【施工】帳篷攤位配線\n查看內容	\n			\n\n\n \n 【圖片 & 活動連結】
URL:https://topteamimc.com/event/2020-09-18/
LOCATION:豐邑菁科城\, 南屯區五權西路二段
CATEGORIES:節日活動,餐會活動
ATTACH;FMTTYPE=image/jpeg:https://topteamimc.com/wp-content/uploads/2020/09/豐邑菁科城中秋烤肉活動-圓桌-折疊椅-出租運送.jpg
END:VEVENT
BEGIN:VEVENT
DTSTART;TZID=Asia/Taipei:20200809T080000
DTEND;TZID=Asia/Taipei:20200809T170000
DTSTAMP:20260424T045546
CREATED:20200809T083534Z
LAST-MODIFIED:20200809T083534Z
UID:7874-1596960000-1596992400@topteamimc.com
SUMMARY:【活動紀錄】2020梨山水蜜桃節
DESCRIPTION:2020梨山水蜜桃節 \n 【器材項目】 \n\n\n	【出租 / 搭設】6米宮廷帳\n查看內容	\n			\n\n\n	【出租 / 搭設】接龍帳\n查看內容	\n			\n\n\n	【出租 / 搭設】歐式帳篷\n查看內容	\n			\n\n\n	【出租 / 搭設】流星燈\n查看內容	\n			\n\n\n \n 【圖片 & 活動照片連結】
URL:https://topteamimc.com/event/2020-08-08/
LOCATION:梨山賓館\, 和平區中正路91號\, 台中市
CATEGORIES:節日活動
ATTACH;FMTTYPE=image/jpeg:https://topteamimc.com/wp-content/uploads/2017/12/梨山水蜜桃節-營火晚會-樹裝飾用流星燈管冷白色款-出租搭設.jpg
END:VEVENT
BEGIN:VEVENT
DTSTART;VALUE=DATE:20191225
DTEND;VALUE=DATE:20200102
DTSTAMP:20260424T045546
CREATED:20200303T010624Z
LAST-MODIFIED:20200303T010624Z
UID:7270-1577232000-1577923199@topteamimc.com
SUMMARY:【活動紀錄】國定古蹟頤圃105週年
DESCRIPTION:霧峰頤園國定古蹟頤圃105週年 \n活動場地佈置 \n 【支援器材項目】 \n\n\n	【出租 / 搭設】LED聖誕燈\n查看內容	\n			\n\n\n	【出租 / 搭設】LED裝飾串燈\n查看內容	\n			\n\n\n	【出租 / 搭設】LED裝飾網燈\n查看內容	\n			\n\n\n \n 【圖片 & 活動連結】
URL:https://topteamimc.com/event/2019-12-25/
LOCATION:霧峰頤園\, 霧峰區民生路26號
CATEGORIES:節日活動
ATTACH;FMTTYPE=image/jpeg:https://topteamimc.com/wp-content/uploads/2019/11/霧峰林家-頤圃園區-古蹟推廣活動-串燈-聖誕燈-小彩燈-網燈-出租搭設-14.jpg
END:VEVENT
BEGIN:VEVENT
DTSTART;VALUE=DATE:20191221
DTEND;VALUE=DATE:20191222
DTSTAMP:20260424T045546
CREATED:20200219T012210Z
LAST-MODIFIED:20200219T012231Z
UID:7055-1576886400-1576972799@topteamimc.com
SUMMARY:【活動紀錄】紐洛琳聖誕百老匯
DESCRIPTION:紐洛琳英語學院 \n聖誕百老匯 \n 【支援器材項目】 \n\n\n	【出租 / 搭設】LED電視牆\n查看內容	\n			\n\n\n	【出租 / 搭設】照明 / 背板打光《基本燈光組》\n查看內容	\n			\n\n\n	【搭設】標準舞台（含主舞台、舞台腳圍布、舞台面地毯、兩側舞台樓梯）\n查看內容	\n			\n\n\n	【配套】樂團表演專用《監聽喇叭》\n查看內容	\n			\n\n\n \n 【圖片 & 活動連結】
URL:https://topteamimc.com/event/2019-12-21/
LOCATION:豐樂公園\, 文心南五路一段331號
CATEGORIES:學校活動,節日活動
ATTACH;FMTTYPE=image/jpeg:https://topteamimc.com/wp-content/uploads/2020/02/紐洛琳英語學院-聖誕百老匯活動-電視牆-音響-出租搭設-2.jpg
END:VEVENT
BEGIN:VEVENT
DTSTART;TZID=Asia/Taipei:20191220T150000
DTEND;TZID=Asia/Taipei:20191220T213000
DTSTAMP:20260424T045546
CREATED:20200218T012204Z
LAST-MODIFIED:20200928T105009Z
UID:7025-1576854000-1576877400@topteamimc.com
SUMMARY:【活動紀錄】Bright Light聖誕音樂會
DESCRIPTION:安平愛鄰協會  \nBright Light聖誕音樂會 \n 【支援器材項目】 \n\n\n	【出租 / 搭設】LED裝飾串燈\n查看內容	\n			\n\n\n	【出租 / 搭設】器材支撐架《I字Truss》\n查看內容	\n			\n\n\n	【出租 / 載運】基本型發電機\n查看內容	\n			\n\n\n	【出租 / 載運】大摺疊會議桌\n查看內容	\n			\n\n\n	【出租 / 載運】白色塑膠靠背椅\n查看內容	\n			\n\n\n	【出租 / 載運】黑色摺疊椅\n查看內容	\n			\n\n\n	【出租 / 運送】白色塑膠圓桌\n查看內容	\n			\n\n\n	【出租 / 運送】舞台紅龍伸縮圍欄\n查看內容	\n			\n\n\n	【出租】帳篷吊燈\n查看內容	\n			\n\n\n \n 【圖片 & 活動連結】
URL:https://topteamimc.com/event/2019-12-20/
LOCATION:安億公園\, 安平區安億路
CATEGORIES:市集活動,特賣活動,節日活動
ATTACH;FMTTYPE=image/jpeg:https://topteamimc.com/wp-content/uploads/2019/06/安平愛鄰協會-聖誕草地音樂會-Bright-Light-攤位區-LED裝飾串燈-出租搭設-10.jpg
END:VEVENT
BEGIN:VEVENT
DTSTART;VALUE=DATE:20191209
DTEND;VALUE=DATE:20200102
DTSTAMP:20260424T045546
CREATED:20200226T081015Z
LAST-MODIFIED:20200302T020458Z
UID:7213-1575849600-1577923199@topteamimc.com
SUMMARY:【活動紀錄】國碩電子遊藝場 聖誕活動場地佈置
DESCRIPTION:國碩電子遊藝場  \n聖誕活動場地佈置 \n 【支援器材項目】 \n\n\n	【出租 / 搭設】LED聖誕燈\n查看內容	\n			\n\n\n	【出租 / 搭設】LED裝飾串燈\n查看內容	\n			\n\n\n	【出租 / 搭設】LED裝飾網燈\n查看內容	\n			\n\n\n	【出租 / 搭設】流星燈\n查看內容	\n			\n\n\n \n 【圖片 & 活動連結】
URL:https://topteamimc.com/event/2019-12-09/
LOCATION:國碩電子遊藝場\, 北屯區河北路三段89號\, 台中市
CATEGORIES:節日活動
ATTACH;FMTTYPE=image/jpeg:https://topteamimc.com/wp-content/uploads/2019/11/國碩電子遊戲場-聖誕節活動-樹裝飾小彩燈-網燈-流星燈-出租施工搭設-4.jpg
END:VEVENT
BEGIN:VEVENT
DTSTART;VALUE=DATE:20191205
DTEND;VALUE=DATE:20191208
DTSTAMP:20260424T045546
CREATED:20200223T032935Z
LAST-MODIFIED:20200223T033122Z
UID:7174-1575504000-1575763199@topteamimc.com
SUMMARY:【活動紀錄】世界飛盤運動精神日
DESCRIPTION:世界飛盤運動精神日 \n  \n 【支援器材項目】 \n\n\n	【出租 / 搭設】3米快速帳\n查看內容	\n			\n\n\n	【出租 / 載運】大摺疊會議桌\n查看內容	\n			\n\n\n	【出租 / 載運】紅色塑膠椅評分 5.00 滿分 5\n查看內容	\n			\n\n\n	【搭設】主題背板 / 照相背板《ㄇ字型Truss》\n查看內容	\n			\n\n\n \n 【圖片 & 活動連結】
URL:https://topteamimc.com/event/2019-12-05/
LOCATION:朝馬運動中心\, 西屯區朝貴路199號
CATEGORIES:學校活動,節日活動
ATTACH;FMTTYPE=image/jpeg:https://topteamimc.com/wp-content/uploads/2019/03/2019世界飛盤運動精神日-休息區服務台-3m快速帳-1.jpg
END:VEVENT
BEGIN:VEVENT
DTSTART;VALUE=DATE:20191016
DTEND;VALUE=DATE:20191017
DTSTAMP:20260424T045546
CREATED:20200221T063246Z
LAST-MODIFIED:20200221T063320Z
UID:7142-1571184000-1571270399@topteamimc.com
SUMMARY:【活動紀錄】龍華靜修院義賣活動
DESCRIPTION:龍華靜修院義賣活動 \n 【支援器材項目】 \n\n\n	【出租 / 搭設】200吋投影布幕\n查看內容	\n			\n\n\n	【出租 / 搭設】Welcome充氣拱門\n查看內容	\n			\n\n\n	【出租 / 搭設】器材支撐架《I字Truss》\n查看內容	\n			\n\n\n	【出租】10000流明投影機\n查看內容	\n			\n\n\n	【搭設】主題背板 / 照相背板《ㄇ字型Truss》\n查看內容	\n			\n\n\n \n 【圖片 & 活動連結】
URL:https://topteamimc.com/event/2019-10-16/
LOCATION:龍華靜修院\, 南屯區新鎮和路636號
CATEGORIES:節日活動
ATTACH;FMTTYPE=image/jpeg:https://topteamimc.com/wp-content/uploads/2016/11/龍華靜修院-義賣活動-入口Welcome型拱門出租搭設.jpg
END:VEVENT
BEGIN:VEVENT
DTSTART;VALUE=DATE:20190429
DTEND;VALUE=DATE:20190430
DTSTAMP:20260424T045546
CREATED:20200329T003519Z
LAST-MODIFIED:20200329T082736Z
UID:7538-1556496000-1556582399@topteamimc.com
SUMMARY:【活動紀錄】首席春上樹幼兒園 親子闖關趣
DESCRIPTION:首席春上樹幼兒園  \n親子闖關趣 \n 【器材項目】 \n\n\n	【出租 / 搭設】6米宮廷帳\n查看內容	\n			\n\n\n	【出租 / 搭設】Welcome充氣拱門\n查看內容	\n			\n\n\n	【出租 / 載運】18吋電風扇\n查看內容	\n			\n\n\n	【出租 / 運送】關東旗\n查看內容	\n			\n\n\n	【搭設】主題背板 / 照相背板《ㄇ字型Truss》\n查看內容	\n			\n\n\n	【搭設】標準舞台（含主舞台、舞台腳圍布、舞台面地毯、兩側舞台樓梯）\n查看內容	\n			\n\n\n \n 【活動圖片】
URL:https://topteamimc.com/event/2019-04-29/
LOCATION:首席春上樹幼兒園\, 西屯區河南路四段211號
CATEGORIES:學校活動,節日活動
ATTACH;FMTTYPE=image/jpeg:https://topteamimc.com/wp-content/uploads/2016/11/首席春上樹-親子闖關活動-Welcome-充氣拱門-出租搭設-2.jpg
END:VEVENT
BEGIN:VEVENT
DTSTART;TZID=Asia/Taipei:20181231T183000
DTEND;TZID=Asia/Taipei:20190101T003000
DTSTAMP:20260424T045546
CREATED:20200228T024233Z
LAST-MODIFIED:20200228T024332Z
UID:7224-1546281000-1546302600@topteamimc.com
SUMMARY:【活動紀錄】益民一中商圈跨年活動
DESCRIPTION:益民一中商圈跨年活動 \n 【支援器材項目】(支援馬德里音響) \n\n\n	【出租 / 搭設】200吋投影布幕\n查看內容	\n			\n\n\n	【出租 / 搭設】器材支撐架《I字Truss》\n查看內容	\n			\n\n\n	【出租 / 搭設】照明 / 背板打光《基本燈光組》\n查看內容	\n			\n\n\n	【出租】10000流明投影機\n查看內容	\n			\n\n\n	【搭設】廣告看板 / 活動主題背板《口字型Truss》\n查看內容	\n			\n\n\n \n 【圖片 & 活動連結】
URL:https://topteamimc.com/event/2018-12-31/
LOCATION:益民一中商圈\, 北區一中街150號
CATEGORIES:節日活動
ATTACH;FMTTYPE=image/jpeg:https://topteamimc.com/wp-content/uploads/2016/10/一中益民商圈-跨年活動-投影設備搭設-支援馬德里燈光音響-2.jpg
END:VEVENT
BEGIN:VEVENT
DTSTART;TZID=Asia/Taipei:20181006T080000
DTEND;TZID=Asia/Taipei:20181006T180000
DTSTAMP:20260424T045546
CREATED:20181010T005302Z
LAST-MODIFIED:20200219T042443Z
UID:6008-1538812800-1538848800@topteamimc.com
SUMMARY:【燈光音響紀錄】蘭嶼旅台青年 雙十節聯誼球賽
DESCRIPTION:蘭嶼旅台青年 雙十節聯誼球賽 \n 【支援項目】 \n\n\n	【出租 / 搭設】3米快速帳\n查看內容	\n			\n\n\n	【出租 / 搭設】接龍帳\n查看內容	\n			\n\n\n	【出租 / 搭設】歐式帳篷\n查看內容	\n			\n\n\n	【出租 / 載運】基本型發電機\n查看內容	\n			\n\n\n	【出租 / 載運】大摺疊會議桌\n查看內容	\n			\n\n\n	【出租 / 載運】紅色塑膠椅評分 5.00 滿分 5\n查看內容	\n			\n\n\n	【出租 / 載運】黑色摺疊椅\n查看內容	\n			\n\n\n	【搭設】主題背板 / 照相背板《ㄇ字型Truss》\n查看內容	\n			\n\n\n \n 【圖片 & 活動連結】
URL:https://topteamimc.com/event/2018-10-06/
LOCATION:台灣體育大學\, 雙十路一段16號\, 台中市
CATEGORIES:節日活動
ATTACH;FMTTYPE=image/jpeg:https://topteamimc.com/wp-content/uploads/2018/10/蘭嶼鄉-旅台青年雙十節聯誼球賽-燈光音響-桌椅帳篷-主題背板Truss-1.jpg
END:VEVENT
BEGIN:VEVENT
DTSTART;TZID=Asia/Taipei:20180922T180000
DTEND;TZID=Asia/Taipei:20180922T213000
DTSTAMP:20260424T045546
CREATED:20200312T103141Z
LAST-MODIFIED:20200312T103141Z
UID:7419-1537639200-1537651800@topteamimc.com
SUMMARY:【活動紀錄】葫蘆墩中秋音樂會
DESCRIPTION:葫蘆墩中秋音樂會 \n 【支援器材項目】 \n\n\n	【出租 / 搭設】3米快速帳\n查看內容	\n			\n\n\n	【出租 / 載運】外場表演指定《JC-120電吉他音箱》\n查看內容	\n			\n\n\n	【出租 / 載運】紅色塑膠椅評分 5.00 滿分 5\n查看內容	\n			\n\n\n	【出租 / 運送】線槽板\n查看內容	\n			\n\n\n	【出租 / 運送】貴賓椅\n查看內容	\n			\n\n\n	【出租 / 運送組裝】外場表演專用《JD五粒組爵士鼓》\n查看內容	\n			\n\n\n	【搭設】標準舞台（含主舞台、舞台腳圍布、舞台面地毯、兩側舞台樓梯）\n查看內容	\n			\n\n\n \n 【圖片 & 活動連結】
URL:https://topteamimc.com/event/2018-09-22/
LOCATION:葫蘆墩文化中心\, 豐原區圓環東路782號
CATEGORIES:節日活動
ATTACH;FMTTYPE=image/jpeg:https://topteamimc.com/wp-content/uploads/2020/03/2018-葫蘆墩中秋音樂會-燈光音響-桌椅帳篷-舞台Truss背板搭設-31.jpg
END:VEVENT
BEGIN:VEVENT
DTSTART;VALUE=DATE:20180921
DTEND;VALUE=DATE:20180922
DTSTAMP:20260424T045546
CREATED:20200402T093204Z
LAST-MODIFIED:20200402T093204Z
UID:7570-1537488000-1537574399@topteamimc.com
SUMMARY:【活動紀錄】于美人偏遠地區弱勢關懷協會 中秋活動
DESCRIPTION:于美人偏遠地區弱勢關懷協會  \n中秋活動 \n 【器材項目】 \n\n\n	【出租 / 搭設】器材支撐架《I字Truss》\n查看內容	\n			\n\n\n	【出租 / 搭設】接龍帳\n查看內容	\n			\n\n\n	【出租 / 載運】大摺疊會議桌\n查看內容	\n			\n\n\n	【出租 / 載運】紅色塑膠椅評分 5.00 滿分 5\n查看內容	\n			\n\n\n \n 【圖片】
URL:https://topteamimc.com/event/2018-09-21/
LOCATION:東峰公園\, 東區立德東街仁和路
CATEGORIES:節日活動
ATTACH;FMTTYPE=image/jpeg:https://topteamimc.com/wp-content/uploads/2020/04/于美人偏遠地區弱勢關懷協會-228紀念公園中秋活動-主題背板-Truss-桌椅帳篷-燈光音響-液晶電視出租搭設-8.jpg
END:VEVENT
BEGIN:VEVENT
DTSTART;VALUE=DATE:20180908
DTEND;VALUE=DATE:20180909
DTSTAMP:20260424T045546
CREATED:20200313T003013Z
LAST-MODIFIED:20200313T003013Z
UID:7424-1536364800-1536451199@topteamimc.com
SUMMARY:【活動紀錄】阿善師公益 武藝群英會
DESCRIPTION:阿善師公益 武藝群英會 \n 【器材項目】 \n\n\n	【出租 / 搭設】3米快速帳\n查看內容	\n			\n\n\n	【出租 / 搭設】6米宮廷帳\n查看內容	\n			\n\n\n	【出租 / 搭設】活動鷹架\n查看內容	\n			\n\n\n	【出租 / 搭設】照明 / 背板打光《基本燈光組》\n查看內容	\n			\n\n\n	【出租 / 運送】交通錐組\n查看內容	\n			\n\n\n	【出租 / 運送】標示架 / 指示立牌\n查看內容	\n			\n\n\n	【出租 / 運送】水冷扇\n查看內容	\n			\n\n\n	【出租 / 運送】貴賓椅\n查看內容	\n			\n\n\n	【出租 / 運送】關東旗\n查看內容	\n			\n\n\n	【搭設】主題背板 / 照相背板《ㄇ字型Truss》\n查看內容	\n			\n\n\n	【搭設】廣告看板 / 活動主題背板《口字型Truss》\n查看內容	\n			\n\n\n	【搭設】標準舞台（含主舞台、舞台腳圍布、舞台面地毯、兩側舞台樓梯）\n查看內容	\n			\n\n\n \n 【圖片 & 活動照片連結】
URL:https://topteamimc.com/event/2018-09-07/
LOCATION:二崙國民中學\, 二崙鄉中正路88號
CATEGORIES:節日活動
ATTACH;FMTTYPE=image/jpeg:https://topteamimc.com/wp-content/uploads/2017/10/阿善師公益活動-活動入口看板拱門型Truss-支援意林公關-2.jpg
END:VEVENT
BEGIN:VEVENT
DTSTART;TZID=Asia/Taipei:20180218T110000
DTEND;TZID=Asia/Taipei:20180218T160000
DTSTAMP:20260424T045546
CREATED:20180221T015210Z
LAST-MODIFIED:20200220T074657Z
UID:5726-1518951600-1518969600@topteamimc.com
SUMMARY:【活動紀錄】宇成鋼模《員工新年歌唱活動》
DESCRIPTION:宇成鋼模《員工新年歌唱活動》 \n 【支援項目】 \n\n\n	【出租 / 搭設】5000流明投影機\n查看內容	\n			\n\n\n	【出租 / 組裝】點歌機設備\n查看內容	\n			\n\n\n	【出租 / 運送】活動歌唱 & 主持用《無線麥克風套組》\n查看內容	\n			\n\n\n	【出租】100吋手拉式投影布幕\n查看內容	\n			\n\n\n	【搭設】標準舞台（含主舞台、舞台腳圍布、舞台面地毯、兩側舞台樓梯）\n查看內容	\n			\n\n\n \n 【圖片】
URL:https://topteamimc.com/event/2018-02-18/
CATEGORIES:公司活動,節日活動
ATTACH;FMTTYPE=image/jpeg:https://topteamimc.com/wp-content/uploads/2018/02/宇成鋼模-新年卡拉ok設備出租搭設-1.jpg
END:VEVENT
BEGIN:VEVENT
DTSTART;TZID=Asia/Taipei:20170924T170000
DTEND;TZID=Asia/Taipei:20170924T210000
DTSTAMP:20260424T045546
CREATED:20170926T034008Z
LAST-MODIFIED:20200226T005551Z
UID:5171-1506272400-1506286800@topteamimc.com
SUMMARY:【活動紀錄】2017龜山爵士音樂季 -大壩整合行銷
DESCRIPTION:2017龜山爵士音樂季 -大壩整合行銷 \n 【支援項目】 \n\n\n	【出租 / 載運】外場表演專用《貝斯音箱》\n查看內容	\n			\n\n\n	【出租 / 載運】外場表演指定《JC-120電吉他音箱》\n查看內容	\n			\n\n\n	【出租 / 運送】外場表演專用《Roland KC-550電子琴音箱》\n查看內容	\n			\n\n\n	【出租 / 配套】場地染色效果《染色燈光組》\n查看內容	\n			\n\n\n	【出租】外場表演專用《譜架》\n查看內容	\n			\n\n\n	【出租】照明地燈 / 背板補光用燈光設備\n查看內容	\n			\n\n\n	【出租】爵士鼓專用收音麥克風\n查看內容	\n			\n\n\n	【節目】爵士三人組樂團\n查看內容	\n			\n\n\n	【配套】多人樂團收音用《ShotGun廣角收音麥》\n查看內容	\n			\n\n\n \n 【圖片 & 活動連結】
URL:https://topteamimc.com/event/2017-09-24/
LOCATION:龜山集會所\, 龜山區明興街36號\, 桃園市\, 台灣
CATEGORIES:節日活動
ATTACH;FMTTYPE=image/jpeg:https://topteamimc.com/wp-content/uploads/2017/09/龜山爵士-燈光音響樂團-85.jpg
END:VEVENT
BEGIN:VEVENT
DTSTART;TZID=Asia/Taipei:20170923T170000
DTEND;TZID=Asia/Taipei:20170923T193000
DTSTAMP:20260424T045546
CREATED:20170923T141249Z
LAST-MODIFIED:20200219T075428Z
UID:5157-1506186000-1506195000@topteamimc.com
SUMMARY:【活動紀錄】一德洋樓《皮克尼刻找月亮》
DESCRIPTION:一德洋樓《皮克尼刻找月亮》 \n 【支援項目】 \n\n\n	【出租 / 搭設】歐式帳篷\n查看內容	\n			\n\n\n	【出租 / 載運】大摺疊會議桌\n查看內容	\n			\n\n\n	【出租 / 運送】舞台紅龍伸縮圍欄\n查看內容	\n			\n\n\n	【搭設】主題背板 / 照相背板《ㄇ字型Truss》\n查看內容	\n			\n\n\n	【搭設】標準舞台（含主舞台、舞台腳圍布、舞台面地毯、兩側舞台樓梯）\n查看內容	\n			\n\n\n	【節目】爵士三人組樂團\n查看內容	\n			\n\n\n	【配套】多人樂團收音用《ShotGun廣角收音麥》\n查看內容	\n			\n\n\n	【配套】樂團表演專用《監聽喇叭》\n查看內容	\n			\n\n\n \n 【圖片 & 活動連結】
URL:https://topteamimc.com/event/2017-09-23/
LOCATION:一德洋樓\, 北屯區文昌東十一街14巷1號\, 台中市\, 台灣
CATEGORIES:節日活動
ATTACH;FMTTYPE=image/jpeg:https://topteamimc.com/wp-content/uploads/2017/09/一德洋樓-皮克尼刻找月亮中秋野餐-燈光音響舞台truss爵士樂團.jpg
END:VEVENT
BEGIN:VEVENT
DTSTART;TZID=Asia/Taipei:20170507T080000
DTEND;TZID=Asia/Taipei:20170507T170000
DTSTAMP:20260424T045546
CREATED:20170518T055926Z
LAST-MODIFIED:20200220T010637Z
UID:4897-1494144000-1494176400@topteamimc.com
SUMMARY:【活動紀錄】于美人關懷弱勢感恩五月親子活動
DESCRIPTION:于美人關懷弱勢感恩五月親子活動 \n 【支援項目】 \n\n\n	【出租 / 搭設】接龍帳\n查看內容	\n			\n\n\n	【出租 / 搭設】歐式帳篷\n查看內容	\n			\n\n\n	【出租 / 載運】大摺疊會議桌\n查看內容	\n			\n\n\n	【出租 / 載運】紅色塑膠椅評分 5.00 滿分 5\n查看內容	\n			\n\n\n	【出租 / 運送】舞台紅龍伸縮圍欄\n查看內容	\n			\n\n\n	【出租】帳篷吊扇\n查看內容	\n			\n\n\n	【搭設】主題背板 / 照相背板《ㄇ字型Truss》\n查看內容	\n			\n\n\n	【配套】外場區域專用《15吋喇叭》\n查看內容	\n			\n\n\n \n 【圖片 & 活動連結】
URL:https://topteamimc.com/event/2017-05-07/
CATEGORIES:節日活動
ATTACH;FMTTYPE=image/jpeg:https://topteamimc.com/wp-content/uploads/2016/11/音響桌椅帳篷搭設-12.jpg
END:VEVENT
BEGIN:VEVENT
DTSTART;VALUE=DATE:20170422
DTEND;VALUE=DATE:20170423
DTSTAMP:20260424T045546
CREATED:20200409T033224Z
LAST-MODIFIED:20200409T033553Z
UID:7582-1492819200-1492905599@topteamimc.com
SUMMARY:【活動紀錄】世界地球日揪愛淨灘
DESCRIPTION:世界地球日揪愛淨灘 \n 【器材項目】 \n\n\n	【出租 / 搭設】城堡型充氣拱門\n查看內容	\n			\n\n\n	【出租 / 搭設】簡易燈光音響組\n查看內容	\n			\n\n\n	【出租 / 載運】基本型發電機\n查看內容	\n			\n\n\n	【出租 / 運送】貴賓椅\n查看內容	\n			\n\n\n	【出租 / 運送】關東旗\n查看內容	\n			\n\n\n	【搭設】主題背板 / 照相背板《ㄇ字型Truss》\n查看內容	\n			\n\n\n	【搭設】標準舞台（含主舞台、舞台腳圍布、舞台面地毯、兩側舞台樓梯）\n查看內容	\n			\n\n\n	【製作 / 施工】珍珠背板\n查看內容	\n			\n\n\n \n 【圖片 & 活動照片連結】
URL:https://topteamimc.com/event/2017-04-22/
LOCATION:大安濱海樂園\, 大安區福住村北汕路86巷1號
CATEGORIES:宣傳活動,節日活動
ATTACH;FMTTYPE=image/jpeg:https://topteamimc.com/wp-content/uploads/2020/04/世界地球日揪愛淨灘-主題背板-TRUSS-充氣拱門-燈光音響-標準舞台-貴賓椅-關東旗-人形立牌-發電機-出租運送-1.jpg
END:VEVENT
BEGIN:VEVENT
DTSTART;TZID=Asia/Taipei:20170218T090000
DTEND;TZID=Asia/Taipei:20170218T170000
DTSTAMP:20260424T045546
CREATED:20170217T093515Z
LAST-MODIFIED:20170217T111220Z
UID:4800-1487408400-1487437200@topteamimc.com
SUMMARY:【燈光音響活動紀錄】西屯區公所《全國客家日樂活西屯慶天穿》
DESCRIPTION:全國客家日樂活西屯慶 \n 【支援項目】 \n \n 【圖片】
URL:https://topteamimc.com/event/2017-02-17/
LOCATION:西屯區公所\, 西屯區市政北二路386號\, 台中市
CATEGORIES:節日活動
ATTACH;FMTTYPE=image/jpeg:https://topteamimc.com/wp-content/uploads/2017/02/燈光音響.jpg
END:VEVENT
BEGIN:VEVENT
DTSTART;TZID=Asia/Taipei:20161231T190000
DTEND;TZID=Asia/Taipei:20170101T010000
DTSTAMP:20260424T045546
CREATED:20170102T064122Z
LAST-MODIFIED:20200222T002948Z
UID:4625-1483210800-1483232400@topteamimc.com
SUMMARY:【活動紀錄】2016望高寮跨年活動
DESCRIPTION:2016望高寮跨年活動 \n 【支援項目】 \n\n\n	【出租 / 搭設】燈光Truss套組\n查看內容	\n			\n\n\n	【出租 / 搭設】簡易燈光音響組\n查看內容	\n			\n\n\n	【出租】舞台表演效果《噴霧機》\n查看內容	\n			\n\n\n	【搭設】主題背板 / 照相背板《ㄇ字型Truss》\n查看內容	\n			\n\n\n	【配套】戶外高空效果《光束電腦燈》\n查看內容	\n			\n\n\n \n 【圖片 & 活動連結】
URL:https://topteamimc.com/event/2016-12-31/
LOCATION:望高寮莊園\, 南屯區中台路398號\, 台中市\, 台灣
CATEGORIES:節日活動
ATTACH;FMTTYPE=image/jpeg:https://topteamimc.com/wp-content/uploads/2017/01/望高寮跨年活動-16.jpg
END:VEVENT
BEGIN:VEVENT
DTSTART;TZID=Asia/Taipei:20161223T150000
DTEND;TZID=Asia/Taipei:20161224T200000
DTSTAMP:20260424T045546
CREATED:20161225T015121Z
LAST-MODIFIED:20200222T005206Z
UID:4598-1482505200-1482609600@topteamimc.com
SUMMARY:【活動紀錄】屯區藝文中心《咘鈴咘鈴的奇拉聖誕節音樂會》
DESCRIPTION:咘鈴咘鈴的奇拉聖誕節音樂會 \n 【支援項目】 \n\n\n	【出租 / 搭設】歐式帳篷\n查看內容	\n			\n\n\n	【出租 / 配套】場地染色效果《染色燈光組》\n查看內容	\n			\n\n\n	【出租】照明地燈 / 背板補光用燈光設備\n查看內容	\n			\n\n\n	【出租】麥克風架\n查看內容	\n			\n\n\n	【配套】外場區域專用《15吋喇叭》\n查看內容	\n			\n\n\n	【配套】多人樂團收音用《ShotGun廣角收音麥》\n查看內容	\n			\n\n\n \n 【圖片 & 活動連結】
URL:https://topteamimc.com/event/2016-12-24/
LOCATION:屯區藝文中心\, 太平區大興路201號\, 台中市\, 台灣
CATEGORIES:節日活動
ATTACH;FMTTYPE=image/jpeg:https://topteamimc.com/wp-content/uploads/2016/12/屯區藝文中心聖誕音樂會-31.jpg
END:VEVENT
BEGIN:VEVENT
DTSTART;TZID=Asia/Taipei:20161001T130000
DTEND;TZID=Asia/Taipei:20161001T170000
DTSTAMP:20260424T045546
CREATED:20161203T135136Z
LAST-MODIFIED:20200222T003514Z
UID:4526-1475326800-1475341200@topteamimc.com
SUMMARY:【活動紀錄】2016台灣國際咖啡感恩日
DESCRIPTION:2016 台灣國際咖啡感恩日 \n 【支援項目】 \n\n\n	【出租 / 搭設】接龍帳\n查看內容	\n			\n\n\n	【出租 / 搭設】歐式帳篷\n查看內容	\n			\n\n\n	【出租 / 載運】大摺疊會議桌\n查看內容	\n			\n\n\n	【出租 / 載運】黑色摺疊椅\n查看內容	\n			\n\n\n	【出租 / 鋪設】舞台面 / 走道 《紅色地毯》\n查看內容	\n			\n\n\n	【搭設】主題背板 / 照相背板《ㄇ字型Truss》\n查看內容	\n			\n\n\n	【搭設】標準舞台（含主舞台、舞台腳圍布、舞台面地毯、兩側舞台樓梯）\n查看內容	\n			\n\n\n \n 【圖片】
URL:https://topteamimc.com/event/2016-10-01/
LOCATION:無名地點\, 北區學士路\, 台中\, 台灣
CATEGORIES:節日活動
ATTACH;FMTTYPE=image/jpeg:https://topteamimc.com/wp-content/uploads/2016/10/國際咖啡日-Truss-舞台-桌椅帳篷出租搭設-35.jpg
END:VEVENT
BEGIN:VEVENT
DTSTART;VALUE=DATE:20160617
DTEND;VALUE=DATE:20160618
DTSTAMP:20260424T045546
CREATED:20200314T095344Z
LAST-MODIFIED:20200314T095344Z
UID:7459-1466121600-1466207999@topteamimc.com
SUMMARY:【活動紀錄】城市美學日活動
DESCRIPTION:臺中國家歌劇院  \n城市美學日活動 \n 【器材項目】 \n\n\n	【出租 / 搭設】6米宮廷帳\n查看內容	\n			\n\n\n	【出租 / 搭設】歐式帳篷\n查看內容	\n			\n\n\n	【出租 / 搭設】簡易燈光音響組\n查看內容	\n			\n\n\n	【出租 / 載運】基本型發電機\n查看內容	\n			\n\n\n	【出租 / 載運】紅色塑膠椅評分 5.00 滿分 5\n查看內容	\n			\n\n\n	【出租】X展架\n查看內容	\n			\n\n\n \n 【圖片 & 活動照片連結】
URL:https://topteamimc.com/event/2016-06-17/
LOCATION:臺中國家歌劇院\, 西屯區惠來路二段101號
CATEGORIES:節日活動
ATTACH;FMTTYPE=image/jpeg:https://topteamimc.com/wp-content/uploads/2020/03/城市美學日-6米宮廷帳搭設.jpg
END:VEVENT
BEGIN:VEVENT
DTSTART;VALUE=DATE:20160204
DTEND;VALUE=DATE:20160215
DTSTAMP:20260424T045546
CREATED:20200402T073445Z
LAST-MODIFIED:20200402T073445Z
UID:7554-1454544000-1455494399@topteamimc.com
SUMMARY:【活動紀錄】安平親子嘉年華
DESCRIPTION:安平親子嘉年華 \n 【支援器材項目】 \n\n\n	【出租 / 搭設】3米快速帳\n查看內容	\n			\n\n\n	【出租 / 搭設】簡易燈光音響組\n查看內容	\n			\n\n\n	【出租 / 載運】大摺疊會議桌\n查看內容	\n			\n\n\n	【出租 / 配套】場地染色效果《染色燈光組》\n查看內容	\n			\n\n\n	【搭設】主題背板 / 照相背板《ㄇ字型Truss》\n查看內容	\n			\n\n\n	【搭設】廣告看板 / 活動主題背板《口字型Truss》\n查看內容	\n			\n\n\n \n 【圖片 & 活動連結】
URL:https://topteamimc.com/event/2016-02-04/
LOCATION:西門國小\, 安平區安北路180號
CATEGORIES:特賣活動,節日活動
ATTACH;FMTTYPE=image/jpeg:https://topteamimc.com/wp-content/uploads/2020/04/安平親子嘉年華-年貨大街活動-帳篷燈光音響-主題背板truss-出租搭設-2.jpg
END:VEVENT
BEGIN:VEVENT
DTSTART;VALUE=DATE:20150228
DTEND;VALUE=DATE:20150301
DTSTAMP:20260424T045546
CREATED:20200402T090716Z
LAST-MODIFIED:20200402T090716Z
UID:7562-1425081600-1425167999@topteamimc.com
SUMMARY:【活動紀錄】二二八追思會
DESCRIPTION:二二八追思會 \n 【器材項目】 \n\n\n	【出租 / 搭設】6米宮廷帳\n查看內容	\n			\n\n\n	【出租 / 搭設】歐式帳篷\n查看內容	\n			\n\n\n	【出租 / 載運】Truss壓克力講桌\n查看內容	\n			\n\n\n	【出租 / 載運】大摺疊會議桌\n查看內容	\n			\n\n\n	【出租 / 運送】貴賓椅\n查看內容	\n			\n\n\n	【出租 / 運送】關東旗\n查看內容	\n			\n\n\n \n 【圖片 & 活動照片連結】
URL:https://topteamimc.com/event/2015-02-28/
LOCATION:東峰公園\, 東區立德東街仁和路
CATEGORIES:節日活動
ATTACH;FMTTYPE=image/jpeg:https://topteamimc.com/wp-content/uploads/2020/04/228追思會-宮廷帳-燈光音響-歐式帳-貴賓椅-出租運送-2.jpg
END:VEVENT
END:VCALENDAR