BEGIN:VCALENDAR
VERSION:2.0
PRODID:-//台中頂尖整合行銷-音樂教室.樂器.燈光音響.出租 - ECPv6.15.20//NONSGML v1.0//EN
CALSCALE:GREGORIAN
METHOD:PUBLISH
X-ORIGINAL-URL:https://topteamimc.com
X-WR-CALDESC:Events for 台中頂尖整合行銷-音樂教室.樂器.燈光音響.出租
REFRESH-INTERVAL;VALUE=DURATION:PT1H
X-Robots-Tag:noindex
X-PUBLISHED-TTL:PT1H
BEGIN:VTIMEZONE
TZID:Asia/Taipei
BEGIN:STANDARD
TZOFFSETFROM:+0800
TZOFFSETTO:+0800
TZNAME:CST
DTSTART:20150101T000000
END:STANDARD
END:VTIMEZONE
BEGIN:VEVENT
DTSTART;VALUE=DATE:20190605
DTEND;VALUE=DATE:20190606
DTSTAMP:20260424T060611
CREATED:20200328T022918Z
LAST-MODIFIED:20200328T022918Z
UID:7530-1559692800-1559779199@topteamimc.com
SUMMARY:【活動紀錄】住宅新建工程 動土祈福典禮
DESCRIPTION:住宅新建工程 動土祈福典禮 \n 【器材項目】 \n\n\n	【出租 / 搭設】6米宮廷帳\n查看內容	\n			\n\n\n	【出租 / 載運】大摺疊會議桌\n查看內容	\n			\n\n\n	【出租 / 載運】紅色塑膠椅評分 5.00 滿分 5\n查看內容	\n			\n\n\n	【出租】酒紅色桌巾\n查看內容	\n			\n\n\n \n 【圖片 & 活動照片連結】
URL:https://topteamimc.com/event/2019-06-05/
CATEGORIES:開幕活動
ATTACH;FMTTYPE=image/jpeg:https://topteamimc.com/wp-content/uploads/2019/02/住宅營建工程-動土祈福典禮-宮廷帳搭設-8.jpg
END:VEVENT
BEGIN:VEVENT
DTSTART;VALUE=DATE:20190426
DTEND;VALUE=DATE:20190429
DTSTAMP:20260424T060612
CREATED:20200326T105942Z
LAST-MODIFIED:20200326T105942Z
UID:7520-1556236800-1556495999@topteamimc.com
SUMMARY:【活動紀錄】ODC國際 台灣開幕首映會
DESCRIPTION:ODC國際 台灣開幕首映會 \n 【器材項目】 \n\n\n	【出租 / 搭設】燈光Truss套組\n查看內容	\n			\n\n\n	【出租 / 搭設】簡易燈光音響組\n查看內容	\n			\n\n\n	【出租 / 載運】黑色摺疊椅\n查看內容	\n			\n\n\n	【搭設】主題背板 / 照相背板《ㄇ字型Truss》\n查看內容	\n			\n\n\n	【製作 / 施工】珍珠背板\n查看內容	\n			\n\n\n \n 【圖片】
URL:https://topteamimc.com/event/2019-04-26/
LOCATION:僑園飯店\, 西屯區惠中路一段111號
CATEGORIES:開幕活動
ATTACH;FMTTYPE=image/jpeg:https://topteamimc.com/wp-content/uploads/2020/03/ODC-國際-開幕活動-背板補光Truss組-出租搭設-4.jpg
END:VEVENT
BEGIN:VEVENT
DTSTART;TZID=Asia/Taipei:20190421T090000
DTEND;TZID=Asia/Taipei:20190421T120000
DTSTAMP:20260424T060612
CREATED:20200226T092600Z
LAST-MODIFIED:20200226T092807Z
UID:7216-1555837200-1555848000@topteamimc.com
SUMMARY:【活動紀錄】創趣DIY開幕活動
DESCRIPTION:創趣DIY開幕活動  \n 【支援器材項目】 \n\n\n	【出租 / 搭設】接龍帳\n查看內容	\n			\n\n\n	【出租 / 搭設】歐式帳篷\n查看內容	\n			\n\n\n	【出租 / 搭設】簡易燈光音響組\n查看內容	\n			\n\n\n	【出租 / 載運】18吋電風扇\n查看內容	\n			\n\n\n	【出租 / 載運】大摺疊會議桌\n查看內容	\n			\n\n\n	【出租 / 載運】白色塑膠靠背椅\n查看內容	\n			\n\n\n	【出租 / 運送】標示架 / 指示立牌\n查看內容	\n			\n\n\n	【出租 / 運送】白色塑膠圓桌\n查看內容	\n			\n\n\n	【出租 / 運送】舞台紅龍伸縮圍欄\n查看內容	\n			\n\n\n	【出租】帳篷圍布\n查看內容	\n			\n\n\n \n 【圖片 & 活動連結】
URL:https://topteamimc.com/event/2019-04-21/
LOCATION:創趣DIY\, 太平區太平二十八街1號\, 台中市
CATEGORIES:開幕活動
ATTACH;FMTTYPE=image/jpeg:https://topteamimc.com/wp-content/uploads/2016/03/創趣DIY開幕活動-白色阿里山帳-出租搭設-3.jpg
END:VEVENT
BEGIN:VEVENT
DTSTART;VALUE=DATE:20180915
DTEND;VALUE=DATE:20180916
DTSTAMP:20260424T060612
CREATED:20200330T011007Z
LAST-MODIFIED:20200330T011007Z
UID:7545-1536969600-1537055999@topteamimc.com
SUMMARY:【活動紀錄】振宇五金開幕活動
DESCRIPTION:振宇五金開幕活動 \n 【器材項目】 \n\n\n	【出租 / 搭設】3米快速帳\n查看內容	\n			\n\n\n	【出租 / 搭設】簡易燈光音響組\n查看內容	\n			\n\n\n	【出租 / 載運】大摺疊會議桌\n查看內容	\n			\n\n\n	【出租 / 載運】紅色塑膠椅評分 5.00 滿分 5\n查看內容	\n			\n\n\n	【出租 / 運送】關東旗\n查看內容	\n			\n\n\n	【出租 / 鋪設】舞台面 / 走道 《紅色地毯》\n查看內容	\n			\n\n\n \n 【圖片 & 活動連結】
URL:https://topteamimc.com/event/2018-09-15/
LOCATION:振宇五金東山店\, 北屯區東山路一段378號
CATEGORIES:開幕活動
ATTACH;FMTTYPE=image/jpeg:https://topteamimc.com/wp-content/uploads/2020/03/振宇五金-開幕活動-音響出租搭設.jpg
END:VEVENT
BEGIN:VEVENT
DTSTART;TZID=Asia/Taipei:20180628T080000
DTEND;TZID=Asia/Taipei:20180628T170000
DTSTAMP:20260424T060612
CREATED:20180916T100519Z
LAST-MODIFIED:20200219T044330Z
UID:5973-1530172800-1530205200@topteamimc.com
SUMMARY:【燈光音響紀錄】KOI Café 臺中七期菁選店 開幕活動
DESCRIPTION:KOI Café 臺中七期菁選店 開幕活動 \n 【支援項目】 \n\n\n	【出租 / 搭設】器材支撐架《I字Truss》\n查看內容	\n			\n\n\n	【出租 / 搭設】走道延伸舞台\n查看內容	\n			\n\n\n	【出租 / 運送】標示架 / 指示立牌\n查看內容	\n			\n\n\n	【出租 / 運送】舞台紅龍伸縮圍欄\n查看內容	\n			\n\n\n	【出租 / 配套】場地染色效果《染色燈光組》\n查看內容	\n			\n\n\n	【搭設】廣告看板 / 活動主題背板《口字型Truss》\n查看內容	\n			\n\n\n	【製作 / 施工】珍珠背板\n查看內容	\n			\n\n\n	【配套】Bose802喇叭\n查看內容	\n			\n\n\n \n 【圖片 & 活動連結】
URL:https://topteamimc.com/event/2018-06-28/
LOCATION:KOI Thé七期店\, 西屯區市政北二路50號\, 台中市
CATEGORIES:開幕活動
ATTACH;FMTTYPE=image/jpeg:https://topteamimc.com/wp-content/uploads/2018/09/KOI-Café-臺中七期菁選店-開幕活動-Truss舞台-燈光音響-紅龍伸縮圍欄-指示立牌珍珠背板-17.jpg
END:VEVENT
BEGIN:VEVENT
DTSTART;VALUE=DATE:20171213
DTEND;VALUE=DATE:20171214
DTSTAMP:20260424T060612
CREATED:20200310T080054Z
LAST-MODIFIED:20200310T080054Z
UID:7376-1513123200-1513209599@topteamimc.com
SUMMARY:【活動紀錄】客家國際研討會 交流合作協定簽署典禮
DESCRIPTION:客家國際研討會  \n交流合作協定簽署典禮 \n 【器材項目】 \n\n\n	【出租 / 搭設】器材支撐架《I字Truss》\n查看內容	\n			\n\n\n	【搭設】主題背板 / 照相背板《ㄇ字型Truss》\n查看內容	\n			\n\n\n	【搭設】廣告看板 / 活動主題背板《口字型Truss》\n查看內容	\n			\n\n\n	【製作】主題輸出帆布\n查看內容	\n			\n\n\n \n 【圖片 & 活動照片連結】
URL:https://topteamimc.com/event/2017-12-13/
LOCATION:苗栗客家文化園區\, 銅鑼鄉銅科南路6號
CATEGORIES:開幕活動
ATTACH;FMTTYPE=image/jpeg:https://topteamimc.com/wp-content/uploads/2016/11/2017客家國際研討會交流合作協定簽署典禮-主題背板Truss搭設.jpg
END:VEVENT
BEGIN:VEVENT
DTSTART;TZID=Asia/Taipei:20171110T100000
DTEND;TZID=Asia/Taipei:20171110T120000
DTSTAMP:20260424T060612
CREATED:20171111T120329Z
LAST-MODIFIED:20200226T005824Z
UID:5351-1510308000-1510315200@topteamimc.com
SUMMARY:【燈光音響活動紀錄】一中街One Piece專賣店 & 主題餐廳《開幕剪綵活動》
DESCRIPTION:一中街One Piece專賣店 & 主題餐廳《開幕剪綵活動》 \n 【支援項目】 \n\n\n	【出租 / 運送】標示架 / 指示立牌\n查看內容	\n			\n\n\n	【出租 / 運送】活動歌唱 & 主持用《無線麥克風套組》\n查看內容	\n			\n\n\n	【出租 / 運送】舞台紅龍伸縮圍欄\n查看內容	\n			\n\n\n	【搭設】標準舞台（含主舞台、舞台腳圍布、舞台面地毯、兩側舞台樓梯）\n查看內容	\n			\n\n\n	【配套】外場區域專用《15吋喇叭》\n查看內容	\n			\n\n\n \n 【圖片】
URL:https://topteamimc.com/event/2017-11-10/
LOCATION:台中One Piece專賣店\, 一中街98號2樓\, 台中市\, 台灣
CATEGORIES:開幕活動
ATTACH;FMTTYPE=image/jpeg:https://topteamimc.com/wp-content/uploads/2016/11/一中街-One-Piece-主題餐廳-開幕活動-外場音響設備.jpg
END:VEVENT
BEGIN:VEVENT
DTSTART;VALUE=DATE:20170922
DTEND;VALUE=DATE:20170923
DTSTAMP:20260424T060612
CREATED:20200306T084355Z
LAST-MODIFIED:20200306T084355Z
UID:7310-1506038400-1506124799@topteamimc.com
SUMMARY:【活動紀錄】太陽能啟用典禮記者會
DESCRIPTION:太陽能啟用典禮記者會 \n 【支援器材項目】 \n\n\n	【出租 / 搭設】3米快速帳\n查看內容	\n			\n\n\n	【出租 / 搭設】接龍帳\n查看內容	\n			\n\n\n	【出租 / 運送】貴賓椅\n查看內容	\n			\n\n\n	【出租 / 運送】開幕啟動球\n查看內容	\n			\n\n\n	【搭設】標準舞台（含主舞台、舞台腳圍布、舞台面地毯、兩側舞台樓梯）\n查看內容	\n			\n\n\n	【搭設】舞台屋頂型Truss\n查看內容	\n			\n\n\n \n 【圖片 & 活動連結】
URL:https://topteamimc.com/event/2017-09-22/
LOCATION:岡山污水處理場\, 橋頭區林西路7號
CATEGORIES:開幕活動
ATTACH;FMTTYPE=image/jpeg:https://topteamimc.com/wp-content/uploads/2017/09/高雄市岡山本洲產業園區污水武力場建築物-屋頂設置太陽光電設施計畫案-3d啟動球-2.jpg
END:VEVENT
BEGIN:VEVENT
DTSTART;VALUE=DATE:20170630
DTEND;VALUE=DATE:20170701
DTSTAMP:20260424T060612
CREATED:20200412T025732Z
LAST-MODIFIED:20200412T025732Z
UID:7626-1498780800-1498867199@topteamimc.com
SUMMARY:【活動紀錄】曜城市樣品屋實品屋 開幕落成典禮
DESCRIPTION:曜城市樣品屋實品屋  \n開幕落成典禮 \n 【器材項目】 \n\n\n	【出租 / 運送】舞台紅龍伸縮圍欄\n查看內容	\n			\n\n\n	【出租 / 鋪設】舞台面 / 走道 《紅色地毯》\n查看內容	\n			\n\n\n	【出租】開幕剪綵用器材《金剪刀 / 手套 / 綵球 / 托盤》\n查看內容	\n			\n\n\n	【搭設】主題背板 / 照相背板《ㄇ字型Truss》\n查看內容	\n			\n\n\n	【表演節目】舞獅擊鼓表演\n查看內容	\n			\n\n\n \n 【圖片 & 活動照片連結】
URL:https://topteamimc.com/event/2017-06-30/
CATEGORIES:開幕活動
ATTACH;FMTTYPE=image/jpeg:https://topteamimc.com/wp-content/uploads/2020/04/曜城市樣品屋實品屋-開幕落成典禮-舞台-地毯-主題背板-truss-燈光音響-紅龍伸縮圍欄-剪綵器材-出租運送搭設-1.jpg
END:VEVENT
BEGIN:VEVENT
DTSTART;VALUE=DATE:20170611
DTEND;VALUE=DATE:20170612
DTSTAMP:20260424T060612
CREATED:20200308T011928Z
LAST-MODIFIED:20200308T011928Z
UID:7321-1497139200-1497225599@topteamimc.com
SUMMARY:【活動紀錄】Louis Motorrad 重機部品連鎖店開幕
DESCRIPTION:Louis Motorrad \n重機部品連鎖店開幕 \n 【支援器材項目】 \n\n\n	【出租 / 運送】交通錐組\n查看內容	\n			\n\n\n	【出租 / 運送】舞台紅龍伸縮圍欄\n查看內容	\n			\n\n\n	【出租 / 鋪設】舞台面 / 走道 《紅色地毯》\n查看內容	\n			\n\n\n	【出租】開幕剪綵用器材《金剪刀 / 手套 / 綵球 / 托盤》\n查看內容	\n			\n\n\n	【搭設】主題背板 / 照相背板《ㄇ字型Truss》\n查看內容	\n			\n\n\n \n 【圖片 & 活動紀錄連結】
URL:https://topteamimc.com/event/2017-06-11/
LOCATION:Louis Motorrad 台北店\, 中正區北平東路30-3號\, 台北市
CATEGORIES:開幕活動
ATTACH;FMTTYPE=image/jpeg:https://topteamimc.com/wp-content/uploads/2017/02/LOUIS重機部品連鎖店開幕活動-剪綵用具-白手套-金剪刀-綵球-出租運送-2.jpg
END:VEVENT
BEGIN:VEVENT
DTSTART;TZID=Asia/Taipei:20170406T080000
DTEND;TZID=Asia/Taipei:20170406T170000
DTSTAMP:20260424T060612
CREATED:20200306T042118Z
LAST-MODIFIED:20200306T042118Z
UID:7299-1491465600-1491498000@topteamimc.com
SUMMARY:【活動紀錄】極品莊園咖啡開幕典禮
DESCRIPTION:極品莊園咖啡開幕典禮 \n 【器材項目】 \n\n\n	【出租 / 搭設】6米宮廷帳\n查看內容	\n			\n\n\n	【出租 / 搭設】歐式帳篷\n查看內容	\n			\n\n\n	【出租 / 運送】舞台紅龍伸縮圍欄\n查看內容	\n			\n\n\n	【出租 / 鋪設】舞台面 / 走道 《紅色地毯》\n查看內容	\n			\n\n\n	【出租】開幕剪綵用器材《金剪刀 / 手套 / 綵球 / 托盤》\n查看內容	\n			\n\n\n	【搭設】主題背板 / 照相背板《ㄇ字型Truss》\n查看內容	\n			\n\n\n	【搭設】標準舞台（含主舞台、舞台腳圍布、舞台面地毯、兩側舞台樓梯）\n查看內容	\n			\n\n\n \n 【圖片 & 活動連結】
URL:https://topteamimc.com/event/2017-04-06/
LOCATION:極品莊園咖啡\, 大林鎮三村里橋子頭1-6號
CATEGORIES:開幕活動
ATTACH;FMTTYPE=image/jpeg:https://topteamimc.com/wp-content/uploads/2020/03/極品莊園咖啡開幕典禮-舞台-宮廷帳-主題背板-走道紅地毯-出租搭設鋪設.jpg
END:VEVENT
BEGIN:VEVENT
DTSTART;TZID=Asia/Taipei:20170325T090000
DTEND;TZID=Asia/Taipei:20170325T200000
DTSTAMP:20260424T060612
CREATED:20170328T023350Z
LAST-MODIFIED:20200220T130141Z
UID:4846-1490432400-1490472000@topteamimc.com
SUMMARY:【活動紀錄】Nike尚智太平三店開幕活動
DESCRIPTION:Nike尚智太平三店開幕活動 \n 【支援項目】 \n\n\n	【出租 / 組裝】樂團表演專用《監聽耳機》\n查看內容	\n			\n\n\n	【出租 / 載運】大摺疊會議桌\n查看內容	\n			\n\n\n	【出租 / 運送】標示架 / 指示立牌\n查看內容	\n			\n\n\n	【出租 / 運送】舞台紅龍伸縮圍欄\n查看內容	\n			\n\n\n	【出租 / 運送組裝】外場表演專用《JD五粒組爵士鼓》\n查看內容	\n			\n\n\n	【出租】爵士鼓表演專用《Zildjian K級銅鈸組》\n查看內容	\n			\n\n\n	【配套】外場區域專用《15吋喇叭》\n查看內容	\n			\n\n\n	【配套】樂團表演專用《監聽喇叭》\n查看內容	\n			\n\n\n \n 【圖片】
URL:https://topteamimc.com/event/2017-03-25a/
LOCATION:Nike 尚智太平三\, 北區太平路57號\, 台中市
CATEGORIES:開幕活動
ATTACH;FMTTYPE=image/jpeg:https://topteamimc.com/wp-content/uploads/2017/03/Nike-燈光音響-2.jpg
END:VEVENT
BEGIN:VEVENT
DTSTART;TZID=Asia/Taipei:20170103T100000
DTEND;TZID=Asia/Taipei:20170103T120000
DTSTAMP:20260424T060612
CREATED:20170103T140034Z
LAST-MODIFIED:20200220T131230Z
UID:4631-1483437600-1483444800@topteamimc.com
SUMMARY:【活動紀錄】南丁格爾護理之家開幕典禮
DESCRIPTION:南丁格爾護理之家開幕典禮 \n 【支援項目】 \n\n\n	【出租 / 搭設】歐式帳篷\n查看內容	\n			\n\n\n	【出租 / 載運】黑色摺疊椅\n查看內容	\n			\n\n\n	【出租】開幕剪綵用器材《金剪刀 / 手套 / 綵球 / 托盤》\n查看內容	\n			\n\n\n	【搭設】主題背板 / 照相背板《ㄇ字型Truss》\n查看內容	\n			\n\n\n	【搭設】標準舞台（含主舞台、舞台腳圍布、舞台面地毯、兩側舞台樓梯）\n查看內容	\n			\n\n\n	【配套】外場區域專用《15吋喇叭》\n查看內容	\n			\n\n\n \n 【圖片 & 活動連結】
URL:https://topteamimc.com/event/2017-01-03/
LOCATION:南丁格爾護理之家\, 烏日區大同九街38號\, 台中市烏日區大同九街38號\, 台灣
CATEGORIES:開幕活動
ATTACH;FMTTYPE=image/jpeg:https://topteamimc.com/wp-content/uploads/2017/01/南丁格爾音響-57.jpg
END:VEVENT
BEGIN:VEVENT
DTSTART;VALUE=DATE:20161218
DTEND;VALUE=DATE:20161219
DTSTAMP:20260424T060612
CREATED:20200412T024544Z
LAST-MODIFIED:20200412T024544Z
UID:7622-1482019200-1482105599@topteamimc.com
SUMMARY:【活動紀錄】賀伯特管理學院&戴尼提豐原中心 開幕活動
DESCRIPTION:賀伯特管理學院-戴尼提豐原中心 \n開幕典禮-雙喜喬遷 \n 【器材項目】 \n\n\n	【出租 / 載運】紅色塑膠椅評分 5.00 滿分 5\n查看內容	\n			\n\n\n	【出租 / 載運】黑色摺疊椅\n查看內容	\n			\n\n\n	【出租】開幕剪綵用器材《金剪刀 / 手套 / 綵球 / 托盤》\n查看內容	\n			\n\n\n	【搭設】廣告看板 / 活動主題背板《口字型Truss》\n查看內容	\n			\n\n\n	【搭設】揭幕綵球用《Γ型Truss》\n查看內容	\n			\n\n\n	【搭設】標準舞台（含主舞台、舞台腳圍布、舞台面地毯、兩側舞台樓梯）\n查看內容	\n			\n\n\n \n 【圖片 & 活動照片連結】
URL:https://topteamimc.com/event/2016-12-18/
LOCATION:賀伯特管理學院-戴尼提豐原中心\, 北屯區文心路四段875號4樓
CATEGORIES:開幕活動
ATTACH;FMTTYPE=image/jpeg:https://topteamimc.com/wp-content/uploads/2017/11/赫伯特管理學院戴尼提豐原中心宣傳活動-揭幕綵球Truss-製作出租-3.jpg
END:VEVENT
BEGIN:VEVENT
DTSTART;VALUE=DATE:20160810
DTEND;VALUE=DATE:20160811
DTSTAMP:20260424T060612
CREATED:20170318T032739Z
LAST-MODIFIED:20200318T040000Z
UID:7506-1470787200-1470873599@topteamimc.com
SUMMARY:【活動紀錄】后里圳綠能啟用活動
DESCRIPTION:后里圳綠能啟用活動 \n低落差示範電廠 \n 【器材項目】 \n\n\n	【出租 / 搭設】3米快速帳\n查看內容	\n			\n\n\n	【出租 / 搭設】55吋液晶電視\n查看內容	\n			\n\n\n	【出租 / 搭設】6米宮廷帳\n查看內容	\n			\n\n\n	【出租 / 搭設】器材支撐架《I字Truss》\n查看內容	\n			\n\n\n	【出租 / 搭設】接龍帳\n查看內容	\n			\n\n\n	【出租 / 運送】水冷扇\n查看內容	\n			\n\n\n	【出租 / 運送】貴賓椅\n查看內容	\n			\n\n\n	【搭設】主題背板 / 照相背板《ㄇ字型Truss》\n查看內容	\n			\n\n\n \n 【圖片 & 活動照片連結】
URL:https://topteamimc.com/event/2016-08-10/
LOCATION:義德宮\, 后里區九甲七路256號
CATEGORIES:開幕活動
ATTACH;FMTTYPE=image/jpeg:https://topteamimc.com/wp-content/uploads/2020/03/后里圳綠能啟用活動-低落差示範電廠-6米宮廷帳-3米歐式帳-接龍帳-舞台truss燈光音響-液晶電視-出租搭設.jpg
END:VEVENT
END:VCALENDAR