BEGIN:VCALENDAR
VERSION:2.0
PRODID:-//台中頂尖整合行銷-音樂教室.樂器.燈光音響.出租 - ECPv6.15.20//NONSGML v1.0//EN
CALSCALE:GREGORIAN
METHOD:PUBLISH
X-ORIGINAL-URL:https://topteamimc.com
X-WR-CALDESC:Events for 台中頂尖整合行銷-音樂教室.樂器.燈光音響.出租
REFRESH-INTERVAL;VALUE=DURATION:PT1H
X-Robots-Tag:noindex
X-PUBLISHED-TTL:PT1H
BEGIN:VTIMEZONE
TZID:Asia/Taipei
BEGIN:STANDARD
TZOFFSETFROM:+0800
TZOFFSETTO:+0800
TZNAME:CST
DTSTART:20200101T000000
END:STANDARD
END:VTIMEZONE
BEGIN:VEVENT
DTSTART;VALUE=DATE:20230318
DTEND;VALUE=DATE:20230320
DTSTAMP:20260423T223147
CREATED:20230318T123316Z
LAST-MODIFIED:20230318T123316Z
UID:9350-1679097600-1679270399@topteamimc.com
SUMMARY:【活動紀錄】尊任咖啡FRIENDS文酷市集
DESCRIPTION:尊任咖啡 \nFRIENDS文酷市集 \n 【器材項目】 \n\n\n	【出租 / 載運】大摺疊會議桌\n查看內容	\n			\n\n\n	【出租 / 載運】紅色塑膠椅評分 5.00 滿分 5\n查看內容	\n			\n\n\n	【出租 / 運送】戶外休閒傘\n查看內容	\n			\n\n\n	【出租 / 運送】攤位燈\n查看內容	\n			\n\n\n	【出租】白色桌巾\n查看內容	\n			\n\n\n	【出租】酒紅色桌巾\n查看內容	\n			\n\n\n	【出租】香檳金桌巾\n查看內容	\n			\n\n\n	【搭設】主題背板 / 照相背板《ㄇ字型Truss》\n查看內容	\n			\n\n\n \n 【活動圖片】\n \n \n> \n \n>
URL:https://topteamimc.com/event/2023-03-18/
LOCATION:台中文創園區\, 復興路三段362號\, 台中市\, 台灣
CATEGORIES:市集活動
ATTACH;FMTTYPE=image/jpeg:https://topteamimc.com/wp-content/uploads/2023/03/尊任咖啡-文酷市集-台中文創園區藝文展覽館-摺疊桌-香檳金-酒紅色-純白色-桌巾-主題背板Truss-休閒傘-攤位燈-出租運送-6.jpg
END:VEVENT
BEGIN:VEVENT
DTSTART;TZID=Asia/Taipei:20230205T100000
DTEND;TZID=Asia/Taipei:20230205T190000
DTSTAMP:20260423T223147
CREATED:20230209T074352Z
LAST-MODIFIED:20230209T074525Z
UID:9321-1675591200-1675623600@topteamimc.com
SUMMARY:【活動紀錄】天華生技 2023 兔來運轉慶元宵
DESCRIPTION:天華生技  \n兔來運轉慶元宵 \n 【器材項目】 \n\n\n	【出租 / 搭設】300W場地照明燈\n查看內容	\n			\n\n\n	【出租 / 搭設】6米宮廷帳\n查看內容	\n			\n\n\n	【出租 / 搭設】照明 / 背板打光《基本燈光組》\n查看內容	\n			\n\n\n	【出租 / 載運】大摺疊會議桌\n查看內容	\n			\n\n\n	【出租 / 運送】舞台紅龍伸縮圍欄\n查看內容	\n			\n\n\n	【出租 / 運送】關東旗\n查看內容	\n			\n\n\n	【出租 / 配套】場地染色效果《染色燈光組》\n查看內容	\n			\n\n\n	【搭設】主題背板 / 照相背板《ㄇ字型Truss》\n查看內容	\n			\n\n\n	【搭設】標準舞台（含主舞台、舞台腳圍布、舞台面地毯、兩側舞台樓梯）\n查看內容	\n			\n\n\n \n 【活動圖片】\n \n \n> \n \n>
URL:https://topteamimc.com/event/2023-02-05/
LOCATION:天華生技\, 南投市成功三路186號1樓
CATEGORIES:公司活動,節日活動
ATTACH;FMTTYPE=image/jpeg:https://topteamimc.com/wp-content/uploads/2023/02/天華生技-2023-兔來運轉慶元宵-標準舞台-主題背板Truss-舞台效果染色燈-出租搭設.jpg
END:VEVENT
BEGIN:VEVENT
DTSTART;TZID=Asia/Taipei:20221224T100000
DTEND;TZID=Asia/Taipei:20221224T210000
DTSTAMP:20260423T223147
CREATED:20221225T022449Z
LAST-MODIFIED:20221225T023019Z
UID:9296-1671876000-1671915600@topteamimc.com
SUMMARY:【活動紀錄】閃亮之星聖誕舞會
DESCRIPTION:閃亮之星聖誕舞會 \n 【器材項目】 \n\n\n	【出租 / 載運】大摺疊會議桌\n查看內容	\n			\n\n\n	【出租 / 載運】黑色摺疊椅\n查看內容	\n			\n\n\n	【出租 / 鋪設】舞台面 / 走道 《紅色地毯》\n查看內容	\n			\n\n\n	【搭設】主題背板 / 照相背板《ㄇ字型Truss》\n查看內容	\n			\n\n\n	【搭設】標準舞台（含主舞台、舞台腳圍布、舞台面地毯、兩側舞台樓梯）\n查看內容	\n			\n\n\n \n 【活動照片連結】
URL:https://topteamimc.com/event/2022-12-24/
LOCATION:潭子運動中心\, 潭子區勝利路140號\, 台中市
CATEGORIES:節日活動
ATTACH;FMTTYPE=image/jpeg:https://topteamimc.com/wp-content/uploads/2022/12/閃亮之星-聖誕舞會-摺疊桌-折疊椅-主題背板Truss-標準舞台-紅地毯-出租運送施工-16.jpg
END:VEVENT
BEGIN:VEVENT
DTSTART;TZID=Asia/Taipei:20221210T090000
DTEND;TZID=Asia/Taipei:20221210T120000
DTSTAMP:20260423T223147
CREATED:20221212T080126Z
LAST-MODIFIED:20221212T080126Z
UID:9269-1670662800-1670673600@topteamimc.com
SUMMARY:【活動紀錄】全民國防教育宣導音樂會
DESCRIPTION:全民國防教育宣導音樂會 \n 【器材項目】 \n\n\n	【出租 / 搭設】3米快速帳\n查看內容	\n			\n\n\n	【出租 / 搭設】接龍帳\n查看內容	\n			\n\n\n	【出租 / 載運】大摺疊會議桌\n查看內容	\n			\n\n\n	【出租 / 載運】紅色塑膠椅評分 5.00 滿分 5\n查看內容	\n			\n\n\n	【搭設】主題背板 / 照相背板《ㄇ字型Truss》\n查看內容	\n			\n\n\n	【搭設】標準舞台（含主舞台、舞台腳圍布、舞台面地毯、兩側舞台樓梯）\n查看內容	\n			\n\n\n \n 【活動照片連結】
URL:https://topteamimc.com/event/2022-12-10/
LOCATION:四張犁公園\, 北屯區\, 台中市
CATEGORIES:宣傳活動
ATTACH;FMTTYPE=image/jpeg:https://topteamimc.com/wp-content/uploads/2022/12/全民國防教育宣導音樂會-舞台-摺疊桌-接龍帳-貴賓椅-塑膠椅-三米帳-出租運送搭設-10.jpg
END:VEVENT
BEGIN:VEVENT
DTSTART;VALUE=DATE:20221209
DTEND;VALUE=DATE:20221212
DTSTAMP:20260423T223147
CREATED:20221214T023448Z
LAST-MODIFIED:20221214T023602Z
UID:9278-1670544000-1670803199@topteamimc.com
SUMMARY:【活動紀錄】2022鬆勢三日節
DESCRIPTION:2022鬆勢三日節 \n 【器材項目】 \n\n\n	【出租 / 搭設】3米快速帳\n查看內容	\n			\n\n\n	【出租 / 載運】大摺疊會議桌\n查看內容	\n			\n\n\n	【出租 / 載運】白色摺疊椅\n查看內容	\n			\n\n\n	【出租 / 運送】關東旗\n查看內容	\n			\n\n\n	【出租】壓重沙包\n查看內容	\n			\n\n\n	【搭設】廣告看板 / 活動主題背板《口字型Truss》\n查看內容	\n			\n\n\n \n 【活動照片連結】
URL:https://topteamimc.com/event/2022-12-09/
LOCATION:仁雅公園\, 社頭鄉文化東巷92號\, 彰化縣
CATEGORIES:市集活動,節日活動
ATTACH;FMTTYPE=image/jpeg:https://topteamimc.com/wp-content/uploads/2022/12/鬆勢三日節-關東旗-主題背板-活動帳篷-摺疊桌-白色折疊椅-出租運送搭設-18.jpg
END:VEVENT
BEGIN:VEVENT
DTSTART;TZID=Asia/Taipei:20221203T060000
DTEND;TZID=Asia/Taipei:20221203T090000
DTSTAMP:20260423T223147
CREATED:20221203T073831Z
LAST-MODIFIED:20221203T073913Z
UID:9259-1670047200-1670058000@topteamimc.com
SUMMARY:【活動紀錄】台中帝國製糖廠前廣場 婚禮晚宴
DESCRIPTION:台中帝國製糖廠前廣場 婚禮晚宴 \n 【器材項目】 \n\n\n	【出租 / 搭設】300W場地照明燈\n查看內容	\n			\n\n\n	【出租 / 搭設】LED裝飾串燈\n查看內容	\n			\n\n\n	【出租 / 載運】大摺疊會議桌\n查看內容	\n			\n\n\n	【出租 / 載運】小型發電機\n查看內容	\n			\n\n\n	【搭設】走道型Truss\n查看內容	\n			\n\n\n \n 【活動照片連結】
URL:https://topteamimc.com/event/2022-12-03/
LOCATION:帝國製糖廠台中營業所\, 東區樂業路30號\, 台中市
CATEGORIES:婚宴活動
ATTACH;FMTTYPE=image/jpeg:https://topteamimc.com/wp-content/uploads/2022/12/台中帝國製糖廠-前廣場婚宴活動-串燈場地佈置-走道型Truss-摺疊桌-發電機-出租運送搭設-34.jpg
END:VEVENT
BEGIN:VEVENT
DTSTART;TZID=Asia/Taipei:20221007T080000
DTEND;TZID=Asia/Taipei:20221007T110000
DTSTAMP:20260423T223147
CREATED:20221006T235359Z
LAST-MODIFIED:20221006T235359Z
UID:9230-1665129600-1665140400@topteamimc.com
SUMMARY:【活動紀錄】龍眼乾自動化去籽機示範觀摩會
DESCRIPTION:龍眼乾自動化去籽機示範觀摩會 \n 【器材項目】 \n\n\n	【出租 / 搭設】6米宮廷帳\n查看內容	\n			\n\n\n	【出租 / 載運】大摺疊會議桌\n查看內容	\n			\n\n\n	【出租 / 運送】貴賓椅\n查看內容	\n			\n\n\n	【出租】簡單活動主持 / 音樂播放專用《行動音響》\n查看內容	\n			\n\n\n	【出租】香檳金桌巾\n查看內容	\n			\n\n\n	【搭設】主題背板 / 照相背板《ㄇ字型Truss》\n查看內容	\n			\n\n\n	【搭設】標準舞台（含主舞台、舞台腳圍布、舞台面地毯、兩側舞台樓梯）\n查看內容	\n			\n\n\n \n 【活動照片連結】
URL:https://topteamimc.com/event/2022-10-07/
CATEGORIES:宣傳活動
ATTACH;FMTTYPE=image/jpeg:https://topteamimc.com/wp-content/uploads/2022/10/龍眼乾自動化去籽機示範觀摩會-宮廷帳-紅布條製作-貴賓椅-香檳金桌巾-行動音響-主題背板truss-標準舞台-出租運送-13.jpg
END:VEVENT
BEGIN:VEVENT
DTSTART;TZID=Asia/Taipei:20220925T170000
DTEND;TZID=Asia/Taipei:20220925T203000
DTSTAMP:20260423T223148
CREATED:20221003T091755Z
LAST-MODIFIED:20221003T091755Z
UID:9224-1664125200-1664137800@topteamimc.com
SUMMARY:【活動紀錄】台大EMBA中南校友會 會長交接典禮
DESCRIPTION:台大EMBA中南校友會  \n會長交接典禮 \n 【器材項目】 \n\n\n	【出租 / 搭設】器材支撐架《I字Truss》\n查看內容	\n			\n\n\n	【出租 / 鋪設】舞台面 / 走道 《紅色地毯》\n查看內容	\n			\n\n\n	【出租】150吋手拉式投影布幕\n查看內容	\n			\n\n\n	【出租】遙控變色燈\n查看內容	\n			\n\n\n	【搭設】主題背板 / 照相背板《ㄇ字型Truss》\n查看內容	\n			\n\n\n	【搭設】展板隔間\n查看內容	\n			\n\n\n \n 【活動照片連結】
URL:https://topteamimc.com/event/2022-09-25/
LOCATION:台中文創園區\, 復興路三段362號\, 台中市\, 台灣
CATEGORIES:學校活動
ATTACH;FMTTYPE=image/jpeg:https://topteamimc.com/wp-content/uploads/2022/10/台大EMBA中南校友會-會長交接典禮-表準舞台-走道地毯-展板隔間-投影機-投影布幕-燈光設備-出租運送-1.jpg
END:VEVENT
BEGIN:VEVENT
DTSTART;TZID=Asia/Taipei:20220903T180000
DTEND;TZID=Asia/Taipei:20220903T210000
DTSTAMP:20260423T223148
CREATED:20220903T114418Z
LAST-MODIFIED:20220903T114418Z
UID:9183-1662228000-1662238800@topteamimc.com
SUMMARY:【活動紀錄】總太中秋聯歡晚會
DESCRIPTION:總太中秋聯歡晚會 \n 【器材項目】 \n\n\n	【出租 / 搭設】3米快速帳\n查看內容	\n			\n\n\n	【出租 / 搭設】照明 / 背板打光《基本燈光組》\n查看內容	\n			\n\n\n	【出租 / 配套】場地染色效果《染色燈光組》\n查看內容	\n			\n\n\n	【搭設】主題背板 / 照相背板《ㄇ字型Truss》\n查看內容	\n			\n\n\n	【配套】舞台表演效果《六頭光束電腦燈》\n查看內容	\n			\n\n\n \n 【活動照片連結】
URL:https://topteamimc.com/event/2022-09-03/
CATEGORIES:社區活動,節日活動
ATTACH;FMTTYPE=image/jpeg:https://topteamimc.com/wp-content/uploads/2022/09/總太中秋聯歡晚會-三米帳-電腦燈-truss-主題背板-led燈-出租搭設-1.jpg
END:VEVENT
BEGIN:VEVENT
DTSTART;VALUE=DATE:20220827
DTEND;VALUE=DATE:20220828
DTSTAMP:20260423T223148
CREATED:20220828T094708Z
LAST-MODIFIED:20220828T094708Z
UID:9157-1661558400-1661644799@topteamimc.com
SUMMARY:【活動紀錄】哈囉! 呼叫星隊友-沉浸式音樂劇
DESCRIPTION:合作金庫人壽 & 家庭照顧者關懷總會 \n哈囉! 呼叫星隊友-沉浸式音樂劇 \n 【器材項目】 \n\n\n	【出租 / 搭設】200吋投影布幕\n查看內容	\n			\n\n\n	【出租 / 載運】黑色摺疊椅\n查看內容	\n			\n\n\n	【出租 / 運送】舞台紅龍伸縮圍欄\n查看內容	\n			\n\n\n	【出租 / 運送】貴賓椅\n查看內容	\n			\n\n\n	【出租】10000流明投影機\n查看內容	\n			\n\n\n	【搭設】廣告看板 / 活動主題背板《口字型Truss》\n查看內容	\n			\n\n\n \n 【活動照片連結】
URL:https://topteamimc.com/event/2022-08-27/
LOCATION:台中文創園區\, 復興路三段362號\, 台中市\, 台灣
ATTACH;FMTTYPE=image/jpeg:https://topteamimc.com/wp-content/uploads/2022/08/台中文創園區-哈囉呼叫星隊友-沉浸式音樂劇-投影機-投影布幕-黑色摺疊椅-紅龍柱-貴賓椅-出租運送-20.jpg
END:VEVENT
BEGIN:VEVENT
DTSTART;TZID=Asia/Taipei:20220731T090000
DTEND;TZID=Asia/Taipei:20220731T170000
DTSTAMP:20260423T223148
CREATED:20220730T131356Z
LAST-MODIFIED:20220802T023803Z
UID:9108-1659258000-1659286800@topteamimc.com
SUMMARY:【活動紀錄】IDENTITYD 四校四社聯合舞展 第舞人格
DESCRIPTION:IDENTITYD 四校四社聯合舞展  \n第舞人格  \n 【器材項目】 \n\n\n	【出租 / 載運】大摺疊會議桌\n查看內容	\n			\n\n\n	【出租 / 載運】白色摺疊椅\n查看內容	\n			\n\n\n	【出租 / 載運】黑色摺疊椅\n查看內容	\n			\n\n\n	【出租 / 配套】場地染色效果《染色燈光組》\n查看內容	\n			\n\n\n	【出租】10000流明投影機\n查看內容	\n			\n\n\n	【出租】150吋手拉式投影布幕\n查看內容	\n			\n\n\n	【出租】控場聯絡專用《無線對講機》\n查看內容	\n			\n\n\n	【搭設】主題背板 / 照相背板《ㄇ字型Truss》\n查看內容	\n			\n\n\n	【搭設】標準舞台（含主舞台、舞台腳圍布、舞台面地毯、兩側舞台樓梯）\n查看內容	\n			\n\n\n \n 【活動照片連結】
URL:https://topteamimc.com/event/2022-07-31/
LOCATION:大里國民兒童運動中心\, 大里區國光路一段258號
CATEGORIES:學校活動
ATTACH;FMTTYPE=image/jpeg:https://topteamimc.com/wp-content/uploads/2022/07/四校四社聯合舞展第舞人格-摺疊椅-摺疊桌-投影機-投影布幕-標準舞台-主題背板truss-出租搭設-40.jpg
END:VEVENT
BEGIN:VEVENT
DTSTART;TZID=Asia/Taipei:20220708T160000
DTEND;TZID=Asia/Taipei:20220708T170000
DTSTAMP:20260423T223148
CREATED:20220709T021645Z
LAST-MODIFIED:20220709T021645Z
UID:9067-1657296000-1657299600@topteamimc.com
SUMMARY:【活動紀錄】2022桃味遊樂園 大小孩遊樂市集
DESCRIPTION:桃味遊樂園  \n大小孩遊樂市集 \n 【器材項目】 \n\n\n	【出租 / 搭設】3米快速帳\n查看內容	\n			\n\n\n	【出租 / 搭設】6米宮廷帳\n查看內容	\n			\n\n\n	【出租 / 搭設】LED裝飾串燈\n查看內容	\n			\n\n\n	【出租 / 載運】大摺疊會議桌\n查看內容	\n			\n\n\n	【出租 / 載運】白色摺疊椅\n查看內容	\n			\n\n\n	【出租 / 運送】戶外休閒傘\n查看內容	\n			\n\n\n	【出租 / 運送】攤位燈\n查看內容	\n			\n\n\n	【搭設】大型活動用《天口字Truss》\n查看內容	\n			\n\n\n \n 【活動照片連結】
URL:https://topteamimc.com/event/2022-07-09/
LOCATION:桃園市文昌公園\, 桃園區民權路旁號
CATEGORIES:市集活動
ATTACH;FMTTYPE=image/jpeg:https://topteamimc.com/wp-content/uploads/2020/08/2022桃味遊樂園-大小孩遊樂市集-市集傘-休閒傘-摺疊桌-裝飾串燈-出租運送.jpg
END:VEVENT
BEGIN:VEVENT
DTSTART;TZID=Asia/Taipei:20220701T090000
DTEND;TZID=Asia/Taipei:20220701T120000
DTSTAMP:20260423T223148
CREATED:20220701T004946Z
LAST-MODIFIED:20220701T004946Z
UID:9036-1656666000-1656676800@topteamimc.com
SUMMARY:【活動紀錄】杉金光電台中梧棲廠 開幕啟動儀式
DESCRIPTION:杉金光電 台中梧棲廠 \n開幕啟動儀式 \n 【器材項目】 \n\n\n	【出租 / 製作】揭幕紅布條\n查看內容	\n			\n\n\n	【出租 / 載運】Truss壓克力講桌\n查看內容	\n			\n\n\n	【出租 / 運送】開幕啟動球\n查看內容	\n			\n\n\n	【出租 / 鋪設】舞台面 / 走道 《紅色地毯》\n查看內容	\n			\n\n\n \n 【活動照片連結】
URL:https://topteamimc.com/event/2022-07-01/
LOCATION:杉金光電\, 梧棲區經一路39號
CATEGORIES:公司活動
ATTACH;FMTTYPE=image/jpeg:https://topteamimc.com/wp-content/uploads/2019/02/杉金光電-台中梧棲廠-啟動儀式-全息啟動球-出租運送-17.jpg
END:VEVENT
BEGIN:VEVENT
DTSTART;TZID=Asia/Taipei:20220630T103000
DTEND;TZID=Asia/Taipei:20220630T120000
DTSTAMP:20260423T223148
CREATED:20220630T011252Z
LAST-MODIFIED:20220701T091632Z
UID:9027-1656585000-1656590400@topteamimc.com
SUMMARY:【活動紀錄】台灣電力公司 大甲溪水力發電計畫公開說明會
DESCRIPTION:台灣電力公司 \n大甲溪水力發電計畫公開說明會  \n 【器材項目】 \n\n\n	【出租 / 搭設】LED電視牆\n查看內容	\n			\n\n\n	【出租 / 搭設】接龍帳\n查看內容	\n			\n\n\n	【出租 / 載運】大摺疊會議桌\n查看內容	\n			\n\n\n	【出租 / 載運】紅色塑膠椅評分 5.00 滿分 5\n查看內容	\n			\n\n\n	【出租】酒紅色桌巾\n查看內容	\n			\n\n\n \n 【活動照片連結】
URL:https://topteamimc.com/event/2022-06-30/
ATTACH;FMTTYPE=image/jpeg:https://topteamimc.com/wp-content/uploads/2018/01/台灣電力公司大甲溪-水力發電計畫公開說明會-LED電視牆-出租搭設-1.jpg
END:VEVENT
BEGIN:VEVENT
DTSTART;TZID=Asia/Taipei:20220626T090000
DTEND;TZID=Asia/Taipei:20220626T123000
DTSTAMP:20260423T223148
CREATED:20220626T092022Z
LAST-MODIFIED:20220629T031327Z
UID:8999-1656234000-1656246600@topteamimc.com
SUMMARY:【活動紀錄】大甲獅子會 五十週年紀念鐘塔 景觀設施啟用典禮
DESCRIPTION:大甲獅子會  \n五十週年紀念鐘塔 景觀設施啟用典禮 \n 【器材項目】 \n\n\n	【出租 / 搭設】3米快速帳\n查看內容	\n			\n\n\n	【出租 / 搭設】接龍帳\n查看內容	\n			\n\n\n	【出租 / 搭設】活動鷹架\n查看內容	\n			\n\n\n	【出租 / 製作】揭幕紅布條\n查看內容	\n			\n\n\n	【出租 / 載運】18吋電風扇\n查看內容	\n			\n\n\n	【出租 / 載運】Truss壓克力講桌\n查看內容	\n			\n\n\n	【出租 / 載運】大摺疊會議桌\n查看內容	\n			\n\n\n	【出租 / 載運】白色摺疊椅\n查看內容	\n			\n\n\n	【出租 / 運送】掛繩迎賓柱\n查看內容	\n			\n\n\n	【出租 / 運送】貴賓椅\n查看內容	\n			\n\n\n	【出租 / 鋪設】舞台面 / 走道 《紅色地毯》\n查看內容	\n			\n\n\n	【出租】開幕剪綵用器材《金剪刀 / 手套 / 綵球 / 托盤》\n查看內容	\n			\n\n\n	【搭設】主題背板 / 照相背板《ㄇ字型Truss》\n查看內容	\n			\n\n\n	【搭設】標準舞台（含主舞台、舞台腳圍布、舞台面地毯、兩側舞台樓梯）\n查看內容	\n			\n\n\n \n 【活動照片連結】 \n活動進場 \n \n剪綵儀式\n \n揭幕儀式
URL:https://topteamimc.com/event/2022-06-26/
LOCATION:大甲體育場\, 大甲區大安港路2號\, 台中市
CATEGORIES:開幕活動
ATTACH;FMTTYPE=image/jpeg:https://topteamimc.com/wp-content/uploads/2022/06/大甲獅子會-五十週年紀念鐘塔-景觀設施-落成啟動典禮-揭幕紅布條施工製作.jpg
END:VEVENT
BEGIN:VEVENT
DTSTART;VALUE=DATE:20220611
DTEND;VALUE=DATE:20220612
DTSTAMP:20260423T223148
CREATED:20220611T041120Z
LAST-MODIFIED:20220611T041120Z
UID:8967-1654905600-1654991999@topteamimc.com
SUMMARY:【活動紀錄】中島GLab AFTER PARTY 市集活動
DESCRIPTION:中島GLab AFTER PARTY  \n市集活動  \n 【器材項目】 \n\n\n	【出租 / 搭設】3米快速帳\n查看內容	\n			\n\n\n	【出租 / 搭設】LED裝飾串燈\n查看內容	\n			\n\n\n	【出租 / 載運】大摺疊會議桌\n查看內容	\n			\n\n\n	【出租 / 載運】白色摺疊椅\n查看內容	\n			\n\n\n	【出租 / 運送】攤位燈\n查看內容	\n			\n\n\n \n 【活動照片連結】
URL:https://topteamimc.com/event/2022-06-11/
LOCATION:臺灣府儒考棚 x 中島GLAb\, 西區府後街38-8號
CATEGORIES:市集活動
ATTACH;FMTTYPE=image/jpeg:https://topteamimc.com/wp-content/uploads/2019/10/中島GLab-AFTER-PARTY-市集活動-三米帳-攤位燈-出租運送搭設.jpg
END:VEVENT
BEGIN:VEVENT
DTSTART;TZID=Asia/Taipei:20220531T160000
DTEND;TZID=Asia/Taipei:20220531T183000
DTSTAMP:20260423T223148
CREATED:20220531T112942Z
LAST-MODIFIED:20220531T115107Z
UID:8928-1654012800-1654021800@topteamimc.com
SUMMARY:【活動紀錄】采威國際 策略合作記者會
DESCRIPTION:采威國際  \n策略合作記者會  \n 【器材項目】 \n\n\n	【出租 / 搭設】75吋液晶電視\n查看內容	\n			\n\n\n	【出租 / 搭設】器材支撐架《I字Truss》\n查看內容	\n			\n\n\n	【出租 / 載運】大摺疊會議桌\n查看內容	\n			\n\n\n	【出租 / 載運】白色摺疊椅\n查看內容	\n			\n\n\n	【出租 / 運送】標示架 / 指示立牌\n查看內容	\n			\n\n\n	【出租 / 運送】舞台紅龍伸縮圍欄\n查看內容	\n			\n\n\n	【出租】白色桌巾\n查看內容	\n			\n\n\n	【搭設】廣告看板 / 活動主題背板《口字型Truss》\n查看內容	\n			\n\n\n \n 【活動照片連結】
URL:https://topteamimc.com/event/2022-05-31/
LOCATION:新朗日匯\, 西屯區市政路9號
CATEGORIES:公司活動
ATTACH;FMTTYPE=image/jpeg:https://topteamimc.com/wp-content/uploads/2019/12/采威國際-策略合作記者會-75吋液晶電視Truss黑套組-主題背板truss-出租搭設-37.jpg
END:VEVENT
BEGIN:VEVENT
DTSTART;TZID=Asia/Taipei:20220507T150000
DTEND;TZID=Asia/Taipei:20220507T203000
DTSTAMP:20260423T223148
CREATED:20220508T020749Z
LAST-MODIFIED:20220508T020811Z
UID:8857-1651935600-1651955400@topteamimc.com
SUMMARY:【活動紀錄】颶風舞蹈工廠 春季街頭舞蹈展演
DESCRIPTION:颶風舞蹈工廠  \n春季街頭舞蹈展演 \n 【器材項目】 \n\n\n	【出租 / 搭設】3米快速帳\n查看內容	\n			\n\n\n	【出租 / 搭設】照明 / 背板打光《基本燈光組》\n查看內容	\n			\n\n\n	【出租 / 載運】大摺疊會議桌\n查看內容	\n			\n\n\n	【出租 / 載運】白色摺疊椅\n查看內容	\n			\n\n\n	【出租 / 運送】活動歌唱 & 主持用《無線麥克風套組》\n查看內容	\n			\n\n\n	【出租 / 配套】場地染色效果《染色燈光組》\n查看內容	\n			\n\n\n	【搭設】主題背板 / 照相背板《ㄇ字型Truss》\n查看內容	\n			\n\n\n	【配套】外場區域專用《15吋喇叭》\n查看內容	\n			\n\n\n \n 【活動照片連結】
URL:https://topteamimc.com/event/2022-05-07/
LOCATION:不老夢想125號\, 雙十路一段125號
CATEGORIES:學校活動
ATTACH;FMTTYPE=image/jpeg:https://topteamimc.com/wp-content/uploads/2022/05/颶風舞蹈-不老夢想125號廣場-成果發表會-主題背板truss-三米帳-場地照明燈-led染色燈-圍布-摺疊桌-白色摺疊椅-出租運送搭設-2.jpg
END:VEVENT
BEGIN:VEVENT
DTSTART;VALUE=DATE:20220503
DTEND;VALUE=DATE:20220509
DTSTAMP:20260423T223148
CREATED:20220504T012229Z
LAST-MODIFIED:20220504T012229Z
UID:8853-1651536000-1652054399@topteamimc.com
SUMMARY:【活動紀錄】朝陽傳播藝術系 黑朝畢業展
DESCRIPTION:朝陽傳播藝術系 \n黑朝畢業展 \n 【器材項目】 \n\n\n	【出租】壓重沙包\n查看內容	\n			\n\n\n	【搭設】廣告看板 / 活動主題背板《口字型Truss》\n查看內容	\n			\n\n\n	【製作】主題輸出帆布\n查看內容	\n			\n\n\n \n 【活動照片連結】
URL:https://topteamimc.com/event/2022-05-03/
LOCATION:朝陽科技大學\, 霧峰區吉峰東路168號
CATEGORIES:學校活動
ATTACH;FMTTYPE=image/jpeg:https://topteamimc.com/wp-content/uploads/2022/05/朝陽傳播系-黑朝畢業展-Truss投影布幕框架-主題背板Truss出租搭設-12.jpg
END:VEVENT
BEGIN:VEVENT
DTSTART;VALUE=DATE:20220422
DTEND;VALUE=DATE:20220424
DTSTAMP:20260423T223148
CREATED:20220425T025952Z
LAST-MODIFIED:20220429T124507Z
UID:8821-1650585600-1650758399@topteamimc.com
SUMMARY:【活動紀錄】海森實業 天上聖母聖駕蒞臨 炮贊迎聖
DESCRIPTION:海森實業  \n天上聖母聖駕蒞臨 炮贊迎聖  \n 【支援器材項目】 \n\n\n	【出租 / 搭設】300W場地照明燈\n查看內容	\n			\n\n\n	【出租 / 搭設】照明 / 背板打光《基本燈光組》\n查看內容	\n			\n\n\n	【出租 / 載運】大摺疊會議桌\n查看內容	\n			\n\n\n	【出租 / 載運】紅色塑膠椅評分 5.00 滿分 5\n查看內容	\n			\n\n\n	【出租 / 運送】交通錐組\n查看內容	\n			\n\n\n	【出租 / 運送】標示架 / 指示立牌\n查看內容	\n			\n\n\n	【出租 / 運送】舞台紅龍伸縮圍欄\n查看內容	\n			\n\n\n	【出租 / 鋪設】舞台面 / 走道 《紅色地毯》\n查看內容	\n			\n\n\n	【出租】LED警示燈\n查看內容	\n			\n\n\n	【出租】簡單活動主持 / 音樂播放專用《行動音響》\n查看內容	\n			\n\n\n	【出租】酒紅色桌巾\n查看內容	\n			\n\n\n	【搭設】主題背板 / 照相背板《ㄇ字型Truss》\n查看內容	\n			\n\n\n	【搭設】入口主題看板用《門楣型Truss》\n查看內容	\n			\n\n\n	【搭設】廣告看板 / 活動主題背板《口字型Truss》\n查看內容	\n			\n\n\n	【搭設】標準舞台（含主舞台、舞台腳圍布、舞台面地毯、兩側舞台樓梯）\n查看內容	\n			\n\n\n	【製作】主題輸出帆布\n查看內容	\n			\n\n\n \n 【活動照片連結】
URL:https://topteamimc.com/event/2022-04-23/
LOCATION:海森實業股份有限公司\, 豐原區豐勢路二段480巷52號\, 台中市
CATEGORIES:公司活動,宮廟活動
ATTACH;FMTTYPE=image/jpeg:https://topteamimc.com/wp-content/uploads/2017/10/海森實業-天上聖母聖駕蒞臨-炮贊迎聖-牌樓Truss-出租搭設-47.jpg
END:VEVENT
BEGIN:VEVENT
DTSTART;TZID=Asia/Taipei:20220403T080000
DTEND;TZID=Asia/Taipei:20220429T170000
DTSTAMP:20260423T223148
CREATED:20220509T093712Z
LAST-MODIFIED:20220509T093901Z
UID:8891-1648972800-1651251600@topteamimc.com
SUMMARY:【活動紀錄】Cooler Master 酷玩行者體驗活動
DESCRIPTION:Cooler Master  \n酷玩行者體驗活動  \n 【器材項目】 \n\n\n	【出租 / 載運】大摺疊會議桌\n查看內容	\n			\n\n\n	【出租 / 載運】白色摺疊椅\n查看內容	\n			\n\n\n	【出租 / 運送】舞台紅龍伸縮圍欄\n查看內容	\n			\n\n\n \n 【活動照片連結】 \n馬拉灣開團活動 \n \nWe Are Family中信主題日 \n \nWe Are Family中信主題日
URL:https://topteamimc.com/event/2022-04-29/
LOCATION:麗寶樂園\, 后里區福容路8號
CATEGORIES:宣傳活動,特賣活動
ATTACH;FMTTYPE=image/jpeg:https://topteamimc.com/wp-content/uploads/2022/05/Cooler-Master-馬拉灣開園-酷玩行者-體驗活動-黑帶紅龍柱-出租運送-7.jpg
END:VEVENT
BEGIN:VEVENT
DTSTART;VALUE=DATE:20220326
DTEND;VALUE=DATE:20220327
DTSTAMP:20260423T223148
CREATED:20220602T081131Z
LAST-MODIFIED:20220602T081224Z
UID:8939-1648252800-1648339199@topteamimc.com
SUMMARY:【活動紀錄】大里虎威趣味競賽
DESCRIPTION:大里虎威趣味競賽 \n 【器材項目】(支援雲豹音響) \n\n\n	【出租 / 載運】Truss壓克力講桌\n查看內容	\n			\n\n\n	【出租 / 載運】大摺疊會議桌\n查看內容	\n			\n\n\n	【出租 / 載運】紅色塑膠椅評分 5.00 滿分 5\n查看內容	\n			\n\n\n	【出租 / 運送】貴賓椅\n查看內容	\n			\n\n\n	【搭設】主題背板 / 照相背板《ㄇ字型Truss》\n查看內容	\n			\n\n\n	【搭設】標準舞台（含主舞台、舞台腳圍布、舞台面地毯、兩側舞台樓梯）\n查看內容	\n			\n\n\n \n 【活動照片連結】
URL:https://topteamimc.com/event/2022-03-26/
LOCATION:大里運動公園\, 412台中市大里區
CATEGORIES:社區活動
ATTACH;FMTTYPE=image/jpeg:https://topteamimc.com/wp-content/uploads/2016/05/大里虎威趣味競賽-塑膠椅-貴賓椅-標準舞台-紅地毯-Truss主題背板-出租搭設-9.jpg
END:VEVENT
BEGIN:VEVENT
DTSTART;VALUE=DATE:20220325
DTEND;VALUE=DATE:20220509
DTSTAMP:20260423T223148
CREATED:20220509T090849Z
LAST-MODIFIED:20220517T021503Z
UID:8877-1648166400-1652054399@topteamimc.com
SUMMARY:【活動紀錄】做工的人 電視劇集拍攝
DESCRIPTION:做工的人  \n電視劇集拍攝 \n 【器材項目】 \n\n\n	【出租 / 搭設】300W場地照明燈\n查看內容	\n			\n\n\n	【出租 / 搭設】3米快速帳\n查看內容	\n			\n\n\n	【出租 / 載運】大摺疊會議桌\n查看內容	\n			\n\n\n	【出租 / 載運】紅色塑膠椅評分 5.00 滿分 5\n查看內容	\n			\n\n\n	【出租 / 運送】交通錐組\n查看內容	\n			\n\n\n	【出租】帳篷圍布\n查看內容	\n			\n\n\n	【出租】簡單活動主持 / 音樂播放專用《行動音響》\n查看內容	\n			\n\n\n \n 【活動照片連結】 \n麗寶樂園拍攝 \n\n \n自然科學博物館拍攝\n \n日月潭拍攝\n \n北屯捷運站 & 北屯Costco旁停車場 拍攝
URL:https://topteamimc.com/event/2022-05-09/
LOCATION:麗寶樂園\, 后里區福容路8號
CATEGORIES:劇組拍攝
ATTACH;FMTTYPE=image/jpeg:https://topteamimc.com/wp-content/uploads/2022/05/做工的人第二季-日月潭取景拍攝活動-快速帳-摺疊桌-ibm桌-塑膠椅-帳篷圍布-出租運送搭設-5.jpg
END:VEVENT
BEGIN:VEVENT
DTSTART;VALUE=DATE:20220318
DTEND;VALUE=DATE:20220319
DTSTAMP:20260423T223148
CREATED:20220513T015206Z
LAST-MODIFIED:20220513T015316Z
UID:8900-1647561600-1647647999@topteamimc.com
SUMMARY:【活動紀錄】老少女奇遇記 劇組拍攝場地佈置
DESCRIPTION:老少女奇遇記  \n劇組拍攝場地佈置  \n 【支援器材項目】 \n\n\n	【出租 / 搭設】3米快速帳\n查看內容	\n			\n\n\n	【出租 / 搭設】LED裝飾串燈\n查看內容	\n			\n\n\n	【出租】壓重沙包\n查看內容	\n			\n\n\n \n 【活動照片連結】
URL:https://topteamimc.com/event/2022-03-18/
CATEGORIES:劇組拍攝
ATTACH;FMTTYPE=image/jpeg:https://topteamimc.com/wp-content/uploads/2020/06/老少女奇遇記-劇組拍攝活動-場地佈置-裝飾串燈-出租施工搭設-23.jpg
END:VEVENT
BEGIN:VEVENT
DTSTART;TZID=Asia/Taipei:20220305T093000
DTEND;TZID=Asia/Taipei:20220305T113000
DTSTAMP:20260423T223148
CREATED:20220307T022524Z
LAST-MODIFIED:20220307T022524Z
UID:8552-1646472600-1646479800@topteamimc.com
SUMMARY:【活動紀錄】清水海風產業園區 地方說明會
DESCRIPTION:清水海風產業園區  \n地方說明會 \n 【器材項目】 \n\n\n	【出租 / 搭設】器材支撐架《I字Truss》\n查看內容	\n			\n\n\n	【出租 / 載運】大摺疊會議桌\n查看內容	\n			\n\n\n	【出租】10000流明投影機\n查看內容	\n			\n\n\n	【出租】150吋手拉式投影布幕\n查看內容	\n			\n\n\n	【搭設】廣告看板 / 活動主題背板《口字型Truss》\n查看內容	\n			\n\n\n \n 【活動圖片】 \n \n \n \n  \n  \n 
URL:https://topteamimc.com/event/2022-03-05/
CATEGORIES:宣傳活動
ATTACH;FMTTYPE=image/jpeg:https://topteamimc.com/wp-content/uploads/2022/03/清水海風產業園區-說明會-投影機-投影機架-truss投影布幕-摺疊桌-出租運送-9.jpg
END:VEVENT
BEGIN:VEVENT
DTSTART;VALUE=DATE:20220218
DTEND;VALUE=DATE:20220226
DTSTAMP:20260423T223148
CREATED:20220220T025220Z
LAST-MODIFIED:20220307T021218Z
UID:8528-1645142400-1645833599@topteamimc.com
SUMMARY:【活動紀錄】雲林溝壩有機農業園區 音樂餐會活動
DESCRIPTION:雲林溝壩有機農業園區 \n音樂餐會活動 \n 【器材項目】 \n\n\n	【出租 / 搭設】3米快速帳\n查看內容	\n			\n\n\n	【出租 / 載運】基本型發電機\n查看內容	\n			\n\n\n	【出租 / 載運】大摺疊會議桌\n查看內容	\n			\n\n\n	【出租 / 載運】白色塑膠靠背椅\n查看內容	\n			\n\n\n	【出租 / 載運】黑色摺疊椅\n查看內容	\n			\n\n\n	【出租 / 運送】戶外休閒傘\n查看內容	\n			\n\n\n	【出租 / 運送】白色塑膠圓桌\n查看內容	\n			\n\n\n \n 【活動圖片】 \n \n \n \n  \n 
URL:https://topteamimc.com/event/2022-02-18/
LOCATION:雲林溝壩有機農業園區\, 斗六市台78號\, 雲林縣
CATEGORIES:餐會活動
ATTACH;FMTTYPE=image/jpeg:https://topteamimc.com/wp-content/uploads/2022/02/雲林玉米田迷宮-公司野餐活動-摺疊桌-休閒傘-休閒桌椅-快速帳-出租搭設-13.jpg
END:VEVENT
BEGIN:VEVENT
DTSTART;VALUE=DATE:20220216
DTEND;VALUE=DATE:20220217
DTSTAMP:20260423T223148
CREATED:20220220T030027Z
LAST-MODIFIED:20220220T030027Z
UID:8534-1644969600-1645055999@topteamimc.com
SUMMARY:【活動紀錄】天華生技 2022元宵迎財神
DESCRIPTION:天華生技  \n2022元宵迎財神 \n 【器材項目】 \n\n\n	【出租 / 搭設】照明 / 背板打光《基本燈光組》\n查看內容	\n			\n\n\n	【出租 / 運送】舞台紅龍伸縮圍欄\n查看內容	\n			\n\n\n	【出租 / 運送】關東旗\n查看內容	\n			\n\n\n	【搭設】主題背板 / 照相背板《ㄇ字型Truss》\n查看內容	\n			\n\n\n	【搭設】標準舞台（含主舞台、舞台腳圍布、舞台面地毯、兩側舞台樓梯）\n查看內容	\n			\n\n\n \n 【活動圖片】
URL:https://topteamimc.com/event/2022-02-16/
LOCATION:天華生技\, 南投市成功三路186號1樓
CATEGORIES:公司活動,節日活動
ATTACH;FMTTYPE=image/jpeg:https://topteamimc.com/wp-content/uploads/2022/02/天華生技-元宵節活動-紅龍柱-主題背板truss-摺疊桌-3米帳-led燈-關東旗-垃圾桶-出租運送-7.jpg
END:VEVENT
BEGIN:VEVENT
DTSTART;VALUE=DATE:20220120
DTEND;VALUE=DATE:20220124
DTSTAMP:20260423T223148
CREATED:20220221T082609Z
LAST-MODIFIED:20220221T082609Z
UID:8540-1642636800-1642982399@topteamimc.com
SUMMARY:【活動紀錄】新北年貨大街
DESCRIPTION:2021新北年貨大街 \n串燈場地佈置 \n 【器材項目】 \n\n\n	【出租 / 搭設】LED裝飾串燈\n查看內容	\n			\n\n\n \n 【活動圖片】 \n \n \n \n \n  \n 
URL:https://topteamimc.com/event/2022-01-20/
LOCATION:新北市政府 市民廣場\, 板橋區中山路一段161號\, 新北市\, 台灣
CATEGORIES:市集活動,節日活動
ATTACH;FMTTYPE=image/jpeg:https://topteamimc.com/wp-content/uploads/2022/02/2022-新北年貨大街市集-裝飾串燈-出租佈置-3.jpg
END:VEVENT
BEGIN:VEVENT
DTSTART;VALUE=DATE:20211211
DTEND;VALUE=DATE:20211213
DTSTAMP:20260423T223148
CREATED:20220313T035900Z
LAST-MODIFIED:20220313T035900Z
UID:8596-1639180800-1639353599@topteamimc.com
SUMMARY:【活動紀錄】鬆勢三日節
DESCRIPTION:鬆勢三日節 \n 【器材項目】 \n\n\n	【出租 / 搭設】3米快速帳\n查看內容	\n			\n\n\n	【出租 / 載運】白色摺疊椅\n查看內容	\n			\n\n\n	【出租 / 運送】關東旗\n查看內容	\n			\n\n\n	【搭設】廣告看板 / 活動主題背板《口字型Truss》\n查看內容	\n			\n\n\n \n 【活動圖片】
URL:https://topteamimc.com/event/2021-12-11/
CATEGORIES:市集活動,節日活動
ATTACH;FMTTYPE=image/jpeg:https://topteamimc.com/wp-content/uploads/2022/03/鬆勢三日節-Truss-主題背板-白色摺疊椅-關東旗座-快速帳-出租搭設-21.jpg
END:VEVENT
BEGIN:VEVENT
DTSTART;VALUE=DATE:20211204
DTEND;VALUE=DATE:20211205
DTSTAMP:20260423T223148
CREATED:20211209T082734Z
LAST-MODIFIED:20211209T082917Z
UID:8507-1638576000-1638662399@topteamimc.com
SUMMARY:【活動紀錄】大衛露營農場草地婚禮
DESCRIPTION:大衛露營農場 草地婚禮 \n 【器材項目】 \n\n\n	【出租 / 搭設】3米快速帳\n查看內容	\n			\n\n\n	【出租 / 搭設】LED裝飾串燈\n查看內容	\n			\n\n\n	【出租 / 搭設】照明 / 背板打光《基本燈光組》\n查看內容	\n			\n\n\n	【出租 / 載運】大摺疊會議桌\n查看內容	\n			\n\n\n	【出租 / 載運】白色摺疊椅\n查看內容	\n			\n\n\n \n 【活動圖片】
URL:https://topteamimc.com/event/2021-12-03/
LOCATION:大衛營露營農場\, 草屯鎮富德街66巷75號\, 南投縣\, 台灣
CATEGORIES:婚宴活動,餐會活動
ATTACH;FMTTYPE=image/jpeg:https://topteamimc.com/wp-content/uploads/2021/12/大衛露營區-戶外草地婚宴活動-佈置串燈-燈光音響-白色摺疊椅-摺疊桌-出租運送-10.jpg
END:VEVENT
END:VCALENDAR