BEGIN:VCALENDAR
VERSION:2.0
PRODID:-//台中頂尖整合行銷-音樂教室.樂器.燈光音響.出租 - ECPv6.15.20//NONSGML v1.0//EN
CALSCALE:GREGORIAN
METHOD:PUBLISH
X-WR-CALNAME:台中頂尖整合行銷-音樂教室.樂器.燈光音響.出租
X-ORIGINAL-URL:https://topteamimc.com
X-WR-CALDESC:Events for 台中頂尖整合行銷-音樂教室.樂器.燈光音響.出租
REFRESH-INTERVAL;VALUE=DURATION:PT1H
X-Robots-Tag:noindex
X-PUBLISHED-TTL:PT1H
BEGIN:VTIMEZONE
TZID:Asia/Taipei
BEGIN:STANDARD
TZOFFSETFROM:+0800
TZOFFSETTO:+0800
TZNAME:CST
DTSTART:20170101T000000
END:STANDARD
END:VTIMEZONE
BEGIN:VEVENT
DTSTART;VALUE=DATE:20190429
DTEND;VALUE=DATE:20190430
DTSTAMP:20260424T171238
CREATED:20200329T003519Z
LAST-MODIFIED:20200329T082736Z
UID:7538-1556496000-1556582399@topteamimc.com
SUMMARY:【活動紀錄】首席春上樹幼兒園 親子闖關趣
DESCRIPTION:首席春上樹幼兒園  \n親子闖關趣 \n 【器材項目】 \n\n\n	【出租 / 搭設】6米宮廷帳\n查看內容	\n			\n\n\n	【出租 / 搭設】Welcome充氣拱門\n查看內容	\n			\n\n\n	【出租 / 載運】18吋電風扇\n查看內容	\n			\n\n\n	【出租 / 運送】關東旗\n查看內容	\n			\n\n\n	【搭設】主題背板 / 照相背板《ㄇ字型Truss》\n查看內容	\n			\n\n\n	【搭設】標準舞台（含主舞台、舞台腳圍布、舞台面地毯、兩側舞台樓梯）\n查看內容	\n			\n\n\n \n 【活動圖片】
URL:https://topteamimc.com/event/2019-04-29/
LOCATION:首席春上樹幼兒園\, 西屯區河南路四段211號
CATEGORIES:學校活動,節日活動
ATTACH;FMTTYPE=image/jpeg:https://topteamimc.com/wp-content/uploads/2016/11/首席春上樹-親子闖關活動-Welcome-充氣拱門-出租搭設-2.jpg
END:VEVENT
BEGIN:VEVENT
DTSTART;VALUE=DATE:20190426
DTEND;VALUE=DATE:20190429
DTSTAMP:20260424T171238
CREATED:20200326T105942Z
LAST-MODIFIED:20200326T105942Z
UID:7520-1556236800-1556495999@topteamimc.com
SUMMARY:【活動紀錄】ODC國際 台灣開幕首映會
DESCRIPTION:ODC國際 台灣開幕首映會 \n 【器材項目】 \n\n\n	【出租 / 搭設】燈光Truss套組\n查看內容	\n			\n\n\n	【出租 / 搭設】簡易燈光音響組\n查看內容	\n			\n\n\n	【出租 / 載運】黑色摺疊椅\n查看內容	\n			\n\n\n	【搭設】主題背板 / 照相背板《ㄇ字型Truss》\n查看內容	\n			\n\n\n	【製作 / 施工】珍珠背板\n查看內容	\n			\n\n\n \n 【圖片】
URL:https://topteamimc.com/event/2019-04-26/
LOCATION:僑園飯店\, 西屯區惠中路一段111號
CATEGORIES:開幕活動
ATTACH;FMTTYPE=image/jpeg:https://topteamimc.com/wp-content/uploads/2020/03/ODC-國際-開幕活動-背板補光Truss組-出租搭設-4.jpg
END:VEVENT
BEGIN:VEVENT
DTSTART;TZID=Asia/Taipei:20190421T090000
DTEND;TZID=Asia/Taipei:20190421T120000
DTSTAMP:20260424T171238
CREATED:20200226T092600Z
LAST-MODIFIED:20200226T092807Z
UID:7216-1555837200-1555848000@topteamimc.com
SUMMARY:【活動紀錄】創趣DIY開幕活動
DESCRIPTION:創趣DIY開幕活動  \n 【支援器材項目】 \n\n\n	【出租 / 搭設】接龍帳\n查看內容	\n			\n\n\n	【出租 / 搭設】歐式帳篷\n查看內容	\n			\n\n\n	【出租 / 搭設】簡易燈光音響組\n查看內容	\n			\n\n\n	【出租 / 載運】18吋電風扇\n查看內容	\n			\n\n\n	【出租 / 載運】大摺疊會議桌\n查看內容	\n			\n\n\n	【出租 / 載運】白色塑膠靠背椅\n查看內容	\n			\n\n\n	【出租 / 運送】標示架 / 指示立牌\n查看內容	\n			\n\n\n	【出租 / 運送】白色塑膠圓桌\n查看內容	\n			\n\n\n	【出租 / 運送】舞台紅龍伸縮圍欄\n查看內容	\n			\n\n\n	【出租】帳篷圍布\n查看內容	\n			\n\n\n \n 【圖片 & 活動連結】
URL:https://topteamimc.com/event/2019-04-21/
LOCATION:創趣DIY\, 太平區太平二十八街1號\, 台中市
CATEGORIES:開幕活動
ATTACH;FMTTYPE=image/jpeg:https://topteamimc.com/wp-content/uploads/2016/03/創趣DIY開幕活動-白色阿里山帳-出租搭設-3.jpg
END:VEVENT
BEGIN:VEVENT
DTSTART;TZID=Asia/Taipei:20190226T080000
DTEND;TZID=Asia/Taipei:20190226T120000
DTSTAMP:20260424T171238
CREATED:20200223T003928Z
LAST-MODIFIED:20200223T003928Z
UID:7160-1551168000-1551182400@topteamimc.com
SUMMARY:【活動紀錄】同濟會百校千人募書活動
DESCRIPTION:同濟會百校千人募書活動 \n 【支援器材項目】 \n\n\n	【出租 / 搭設】照明 / 背板打光《基本燈光組》\n查看內容	\n			\n\n\n	【出租 / 載運】Truss壓克力講桌\n查看內容	\n			\n\n\n	【出租 / 載運】大摺疊會議桌\n查看內容	\n			\n\n\n	【出租 / 運送】貴賓椅\n查看內容	\n			\n\n\n	【搭設】主題背板 / 照相背板《ㄇ字型Truss》\n查看內容	\n			\n\n\n	【搭設】標準舞台（含主舞台、舞台腳圍布、舞台面地毯、兩側舞台樓梯）\n查看內容	\n			\n\n\n \n 【圖片 & 活動連結】
URL:https://topteamimc.com/event/2019-02-26/
LOCATION:台中市政府\, 西屯區臺灣大道三段99號\, 台中市\, 台灣
CATEGORIES:宣傳活動
ATTACH;FMTTYPE=image/jpeg:https://topteamimc.com/wp-content/uploads/2016/05/國際同濟會-贈書留香-百校千人募書活動-Truss壓克力講桌-主持台-出租運送-4.jpg
END:VEVENT
BEGIN:VEVENT
DTSTART;VALUE=DATE:20190127
DTEND;VALUE=DATE:20190128
DTSTAMP:20260424T171238
CREATED:20200302T022113Z
LAST-MODIFIED:20200302T022130Z
UID:7234-1548547200-1548633599@topteamimc.com
SUMMARY:【活動紀錄】臺灣電信年會 2018全國電信研討會
DESCRIPTION:臺灣電信年會  \n2018全國電信研討會 \n 【支援器材項目】 \n\n\n	【出租 / 搭設】200吋投影布幕\n查看內容	\n			\n\n\n	【出租 / 搭設】器材支撐架《I字Truss》\n查看內容	\n			\n\n\n	【出租】16000流明投影機\n查看內容	\n			\n\n\n	【搭設】廣告看板 / 活動主題背板《口字型Truss》\n查看內容	\n			\n\n\n \n 【圖片 & 活動連結】
URL:https://topteamimc.com/event/2019-01-27/
LOCATION:福容大飯店\, 后里區福容路88號
CATEGORIES:公司活動
ATTACH;FMTTYPE=image/jpeg:https://topteamimc.com/wp-content/uploads/2016/11/2019-台灣電信年會活動-300吋投影布幕Truss組搭設.jpg
END:VEVENT
BEGIN:VEVENT
DTSTART;TZID=Asia/Taipei:20181231T183000
DTEND;TZID=Asia/Taipei:20190101T003000
DTSTAMP:20260424T171238
CREATED:20200228T024233Z
LAST-MODIFIED:20200228T024332Z
UID:7224-1546281000-1546302600@topteamimc.com
SUMMARY:【活動紀錄】益民一中商圈跨年活動
DESCRIPTION:益民一中商圈跨年活動 \n 【支援器材項目】(支援馬德里音響) \n\n\n	【出租 / 搭設】200吋投影布幕\n查看內容	\n			\n\n\n	【出租 / 搭設】器材支撐架《I字Truss》\n查看內容	\n			\n\n\n	【出租 / 搭設】照明 / 背板打光《基本燈光組》\n查看內容	\n			\n\n\n	【出租】10000流明投影機\n查看內容	\n			\n\n\n	【搭設】廣告看板 / 活動主題背板《口字型Truss》\n查看內容	\n			\n\n\n \n 【圖片 & 活動連結】
URL:https://topteamimc.com/event/2018-12-31/
LOCATION:益民一中商圈\, 北區一中街150號
CATEGORIES:節日活動
ATTACH;FMTTYPE=image/jpeg:https://topteamimc.com/wp-content/uploads/2016/10/一中益民商圈-跨年活動-投影設備搭設-支援馬德里燈光音響-2.jpg
END:VEVENT
BEGIN:VEVENT
DTSTART;TZID=Asia/Taipei:20181219T080000
DTEND;TZID=Asia/Taipei:20181219T133000
DTSTAMP:20260424T171238
CREATED:20200302T023410Z
LAST-MODIFIED:20200302T023529Z
UID:7238-1545206400-1545226200@topteamimc.com
SUMMARY:【活動紀錄】幸福建築師發表記者會
DESCRIPTION:少年親子溝通桌遊  \n幸福建築師發表記者會 \n 【支援器材項目】 \n\n\n	【出租 / 載運】外場表演專用《基本款電鋼琴》\n查看內容	\n			\n\n\n	【出租 / 載運】大摺疊會議桌\n查看內容	\n			\n\n\n	【出租 / 載運】紅色塑膠椅評分 5.00 滿分 5\n查看內容	\n			\n\n\n	【搭設】主題背板 / 照相背板《ㄇ字型Truss》\n查看內容	\n			\n\n\n	【搭設】標準舞台（含主舞台、舞台腳圍布、舞台面地毯、兩側舞台樓梯）\n查看內容	\n			\n\n\n \n 【圖片 & 活動連結】
URL:https://topteamimc.com/event/2018-12-19/
LOCATION:台中市政府\, 西屯區臺灣大道三段99號\, 台中市\, 台灣
CATEGORIES:宣傳活動
ATTACH;FMTTYPE=image/jpeg:https://topteamimc.com/wp-content/uploads/2020/03/市政府桌遊推廣-桌椅-主題背板-音響搭設-4.jpg
END:VEVENT
BEGIN:VEVENT
DTSTART;VALUE=DATE:20181201
DTEND;VALUE=DATE:20181202
DTSTAMP:20260424T171238
CREATED:20200313T022526Z
LAST-MODIFIED:20200313T022526Z
UID:7429-1543622400-1543708799@topteamimc.com
SUMMARY:【活動紀錄】無極三清總道院 入火安座大典
DESCRIPTION:無極三清總道院  \n入火安座大典 \n 【器材項目】 \n\n\n	【出租 / 運送】舞台紅龍伸縮圍欄\n查看內容	\n			\n\n\n	【出租】開幕剪綵用器材《金剪刀 / 手套 / 綵球 / 托盤》\n查看內容	\n			\n\n\n \n 【圖片 & 活動照片連結】
URL:https://topteamimc.com/event/2018-12-01/
LOCATION:道教總廟無極三清總道院\, 外埔區水美里山美路813號
CATEGORIES:宮廟活動
ATTACH;FMTTYPE=image/jpeg:https://topteamimc.com/wp-content/uploads/2016/04/無極三清總道院-入火安座大典-紅龍綵球柱-出租運送-8.jpg
END:VEVENT
BEGIN:VEVENT
DTSTART;VALUE=DATE:20181110
DTEND;VALUE=DATE:20181111
DTSTAMP:20260424T171238
CREATED:20200302T093024Z
LAST-MODIFIED:20200302T093513Z
UID:7264-1541808000-1541894399@topteamimc.com
SUMMARY:【活動紀錄】速聯家庭日
DESCRIPTION:速聯家庭日 \n 【支援器材項目】 \n\n\n	【出租 / 搭設】3米快速帳\n查看內容	\n			\n\n\n	【出租 / 載運】外場表演指定《JC-120電吉他音箱》\n查看內容	\n			\n\n\n	【出租 / 載運】大摺疊會議桌\n查看內容	\n			\n\n\n	【出租 / 載運】紅色塑膠椅評分 5.00 滿分 5\n查看內容	\n			\n\n\n	【出租 / 運送】外場表演專用《Roland KC-550電子琴音箱》\n查看內容	\n			\n\n\n	【出租 / 運送】舞台紅龍伸縮圍欄\n查看內容	\n			\n\n\n	【搭設】主題背板 / 照相背板《ㄇ字型Truss》\n查看內容	\n			\n\n\n	【搭設】標準舞台（含主舞台、舞台腳圍布、舞台面地毯、兩側舞台樓梯）\n查看內容	\n			\n\n\n \n 【圖片 & 活動連結】
URL:https://topteamimc.com/event/2018-11-10/
LOCATION:飛牛牧場\, 通霄鎮南和里166號
CATEGORIES:公司活動
ATTACH;FMTTYPE=image/jpeg:https://topteamimc.com/wp-content/uploads/2020/03/速聯家庭日-紅龍-桌椅帳篷-舞台-燈光音響-表演樂器-出租-搭設.jpg
END:VEVENT
BEGIN:VEVENT
DTSTART;VALUE=DATE:20181026
DTEND;VALUE=DATE:20181029
DTSTAMP:20260424T171238
CREATED:20200302T092139Z
LAST-MODIFIED:20200403T003241Z
UID:7255-1540512000-1540771199@topteamimc.com
SUMMARY:【活動紀錄】DUCUTI 重機大會師
DESCRIPTION:DUCUTI 重機大會師 \n 【支援器材項目】 \n\n\n	【出租 / 搭設】3米快速帳\n查看內容	\n			\n\n\n	【出租 / 載運】外場表演專用《貝斯音箱》\n查看內容	\n			\n\n\n	【出租 / 載運】外場表演指定《JC-120電吉他音箱》\n查看內容	\n			\n\n\n	【出租 / 載運】大摺疊會議桌\n查看內容	\n			\n\n\n	【出租 / 載運】紅色塑膠椅評分 5.00 滿分 5\n查看內容	\n			\n\n\n	【出租 / 運送】交通錐組\n查看內容	\n			\n\n\n	【出租 / 運送】伸縮圍欄（黑帶白柱）\n查看內容	\n			\n\n\n	【出租 / 運送】外場表演專用《Roland KC-550電子琴音箱》\n查看內容	\n			\n\n\n	【出租 / 運送組裝】外場表演專用《JD五粒組爵士鼓》\n查看內容	\n			\n\n\n	【出租 / 鋪設】鼠灰色地毯\n查看內容	\n			\n\n\n	【出租】舞台表演效果《噴霧機》\n查看內容	\n			\n\n\n	【出租】舞台表演效果《雷射燈》\n查看內容	\n			\n\n\n	【搭設】主題背板 / 照相背板《ㄇ字型Truss》\n查看內容	\n			\n\n\n	【搭設】廣告看板 / 活動主題背板《口字型Truss》\n查看內容	\n			\n\n\n	【搭設】標準舞台（含主舞台、舞台腳圍布、舞台面地毯、兩側舞台樓梯）\n查看內容	\n			\n\n\n	【製作 / 施工】珍珠背板\n查看內容	\n			\n\n\n	【配套】舞台表演效果《六頭光束電腦燈》\n查看內容	\n			\n\n\n \n 【圖片 & 活動連結】
URL:https://topteamimc.com/event/2018-10-26/
LOCATION:麗寶國際賽車場\, 后里區月眉東路一段185號
CATEGORIES:公司活動,展覽活動
ATTACH;FMTTYPE=image/jpeg:https://topteamimc.com/wp-content/uploads/2020/03/Ducati-2018重機展-燈光音響桌椅帳篷-舞台truss搭設-45.jpg
END:VEVENT
BEGIN:VEVENT
DTSTART;TZID=Asia/Taipei:20181006T080000
DTEND;TZID=Asia/Taipei:20181006T180000
DTSTAMP:20260424T171238
CREATED:20181010T005302Z
LAST-MODIFIED:20200219T042443Z
UID:6008-1538812800-1538848800@topteamimc.com
SUMMARY:【燈光音響紀錄】蘭嶼旅台青年 雙十節聯誼球賽
DESCRIPTION:蘭嶼旅台青年 雙十節聯誼球賽 \n 【支援項目】 \n\n\n	【出租 / 搭設】3米快速帳\n查看內容	\n			\n\n\n	【出租 / 搭設】接龍帳\n查看內容	\n			\n\n\n	【出租 / 搭設】歐式帳篷\n查看內容	\n			\n\n\n	【出租 / 載運】基本型發電機\n查看內容	\n			\n\n\n	【出租 / 載運】大摺疊會議桌\n查看內容	\n			\n\n\n	【出租 / 載運】紅色塑膠椅評分 5.00 滿分 5\n查看內容	\n			\n\n\n	【出租 / 載運】黑色摺疊椅\n查看內容	\n			\n\n\n	【搭設】主題背板 / 照相背板《ㄇ字型Truss》\n查看內容	\n			\n\n\n \n 【圖片 & 活動連結】
URL:https://topteamimc.com/event/2018-10-06/
LOCATION:台灣體育大學\, 雙十路一段16號\, 台中市
CATEGORIES:節日活動
ATTACH;FMTTYPE=image/jpeg:https://topteamimc.com/wp-content/uploads/2018/10/蘭嶼鄉-旅台青年雙十節聯誼球賽-燈光音響-桌椅帳篷-主題背板Truss-1.jpg
END:VEVENT
BEGIN:VEVENT
DTSTART;TZID=Asia/Taipei:20180929T180000
DTEND;TZID=Asia/Taipei:20180929T210000
DTSTAMP:20260424T171238
CREATED:20200312T095735Z
LAST-MODIFIED:20200312T095735Z
UID:7411-1538244000-1538254800@topteamimc.com
SUMMARY:【活動紀錄】芯晴愛啾直播主 粉絲見面會
DESCRIPTION:芯晴愛啾直播主 \n粉絲見面會 \n 【器材項目】 \n\n\n	【出租 / 搭設】32吋液晶電視\n查看內容	\n			\n\n\n	【出租 / 搭設】簡易燈光音響組\n查看內容	\n			\n\n\n	【出租 / 配套】場地染色效果《染色燈光組》\n查看內容	\n			\n\n\n	【搭設】主題背板 / 照相背板《ㄇ字型Truss》\n查看內容	\n			\n\n\n	【搭設】標準舞台（含主舞台、舞台腳圍布、舞台面地毯、兩側舞台樓梯）\n查看內容	\n			\n\n\n \n 【圖片 & 活動照片連結】
URL:https://topteamimc.com/event/2018-09-29/
LOCATION:牛排大叔\, 漢口路二段146號
CATEGORIES:直播活動
ATTACH;FMTTYPE=image/jpeg:https://topteamimc.com/wp-content/uploads/2020/03/芯晴愛啾直播主-牛排大叔2F見面會-舞台-主題背板-Truss立架-燈光音響搭設-18.jpg
END:VEVENT
BEGIN:VEVENT
DTSTART;TZID=Asia/Taipei:20180922T180000
DTEND;TZID=Asia/Taipei:20180922T213000
DTSTAMP:20260424T171238
CREATED:20200312T103141Z
LAST-MODIFIED:20200312T103141Z
UID:7419-1537639200-1537651800@topteamimc.com
SUMMARY:【活動紀錄】葫蘆墩中秋音樂會
DESCRIPTION:葫蘆墩中秋音樂會 \n 【支援器材項目】 \n\n\n	【出租 / 搭設】3米快速帳\n查看內容	\n			\n\n\n	【出租 / 載運】外場表演指定《JC-120電吉他音箱》\n查看內容	\n			\n\n\n	【出租 / 載運】紅色塑膠椅評分 5.00 滿分 5\n查看內容	\n			\n\n\n	【出租 / 運送】線槽板\n查看內容	\n			\n\n\n	【出租 / 運送】貴賓椅\n查看內容	\n			\n\n\n	【出租 / 運送組裝】外場表演專用《JD五粒組爵士鼓》\n查看內容	\n			\n\n\n	【搭設】標準舞台（含主舞台、舞台腳圍布、舞台面地毯、兩側舞台樓梯）\n查看內容	\n			\n\n\n \n 【圖片 & 活動連結】
URL:https://topteamimc.com/event/2018-09-22/
LOCATION:葫蘆墩文化中心\, 豐原區圓環東路782號
CATEGORIES:節日活動
ATTACH;FMTTYPE=image/jpeg:https://topteamimc.com/wp-content/uploads/2020/03/2018-葫蘆墩中秋音樂會-燈光音響-桌椅帳篷-舞台Truss背板搭設-31.jpg
END:VEVENT
BEGIN:VEVENT
DTSTART;VALUE=DATE:20180921
DTEND;VALUE=DATE:20180922
DTSTAMP:20260424T171238
CREATED:20200402T093204Z
LAST-MODIFIED:20200402T093204Z
UID:7570-1537488000-1537574399@topteamimc.com
SUMMARY:【活動紀錄】于美人偏遠地區弱勢關懷協會 中秋活動
DESCRIPTION:于美人偏遠地區弱勢關懷協會  \n中秋活動 \n 【器材項目】 \n\n\n	【出租 / 搭設】器材支撐架《I字Truss》\n查看內容	\n			\n\n\n	【出租 / 搭設】接龍帳\n查看內容	\n			\n\n\n	【出租 / 載運】大摺疊會議桌\n查看內容	\n			\n\n\n	【出租 / 載運】紅色塑膠椅評分 5.00 滿分 5\n查看內容	\n			\n\n\n \n 【圖片】
URL:https://topteamimc.com/event/2018-09-21/
LOCATION:東峰公園\, 東區立德東街仁和路
CATEGORIES:節日活動
ATTACH;FMTTYPE=image/jpeg:https://topteamimc.com/wp-content/uploads/2020/04/于美人偏遠地區弱勢關懷協會-228紀念公園中秋活動-主題背板-Truss-桌椅帳篷-燈光音響-液晶電視出租搭設-8.jpg
END:VEVENT
BEGIN:VEVENT
DTSTART;TZID=Asia/Taipei:20180918T120000
DTEND;TZID=Asia/Taipei:20180918T170000
DTSTAMP:20260424T171238
CREATED:20200312T084421Z
LAST-MODIFIED:20200312T084421Z
UID:7407-1537272000-1537290000@topteamimc.com
SUMMARY:【活動紀錄】市政府花開未來  公共創意計畫活動
DESCRIPTION:市政府花開未來  \n公共創意計畫活動 \n 【器材項目】 \n\n\n	【出租 / 搭設】3米快速帳\n查看內容	\n			\n\n\n	【出租 / 載運】外場表演指定《JC-120電吉他音箱》\n查看內容	\n			\n\n\n	【出租 / 載運】大摺疊會議桌\n查看內容	\n			\n\n\n	【出租 / 運送】貴賓椅\n查看內容	\n			\n\n\n	【出租】開幕剪綵用器材《金剪刀 / 手套 / 綵球 / 托盤》\n查看內容	\n			\n\n\n	【製作 / 施工】珍珠背板\n查看內容	\n			\n\n\n	【配套】樂團表演專用《監聽喇叭》\n查看內容	\n			\n\n\n \n 【圖片 & 活動照片連結】
URL:https://topteamimc.com/event/2018-09-18/
LOCATION:台中市政府\, 西屯區臺灣大道三段99號\, 台中市\, 台灣
CATEGORIES:宣傳活動
ATTACH;FMTTYPE=image/jpeg:https://topteamimc.com/wp-content/uploads/2020/03/市政府花開未來-公共創意計畫活動-音響-桌椅帳篷-樂器音箱-25.jpg
END:VEVENT
BEGIN:VEVENT
DTSTART;VALUE=DATE:20180915
DTEND;VALUE=DATE:20180916
DTSTAMP:20260424T171238
CREATED:20200330T011007Z
LAST-MODIFIED:20200330T011007Z
UID:7545-1536969600-1537055999@topteamimc.com
SUMMARY:【活動紀錄】振宇五金開幕活動
DESCRIPTION:振宇五金開幕活動 \n 【器材項目】 \n\n\n	【出租 / 搭設】3米快速帳\n查看內容	\n			\n\n\n	【出租 / 搭設】簡易燈光音響組\n查看內容	\n			\n\n\n	【出租 / 載運】大摺疊會議桌\n查看內容	\n			\n\n\n	【出租 / 載運】紅色塑膠椅評分 5.00 滿分 5\n查看內容	\n			\n\n\n	【出租 / 運送】關東旗\n查看內容	\n			\n\n\n	【出租 / 鋪設】舞台面 / 走道 《紅色地毯》\n查看內容	\n			\n\n\n \n 【圖片 & 活動連結】
URL:https://topteamimc.com/event/2018-09-15/
LOCATION:振宇五金東山店\, 北屯區東山路一段378號
CATEGORIES:開幕活動
ATTACH;FMTTYPE=image/jpeg:https://topteamimc.com/wp-content/uploads/2020/03/振宇五金-開幕活動-音響出租搭設.jpg
END:VEVENT
BEGIN:VEVENT
DTSTART;VALUE=DATE:20180908
DTEND;VALUE=DATE:20180909
DTSTAMP:20260424T171239
CREATED:20200313T003013Z
LAST-MODIFIED:20200313T003013Z
UID:7424-1536364800-1536451199@topteamimc.com
SUMMARY:【活動紀錄】阿善師公益 武藝群英會
DESCRIPTION:阿善師公益 武藝群英會 \n 【器材項目】 \n\n\n	【出租 / 搭設】3米快速帳\n查看內容	\n			\n\n\n	【出租 / 搭設】6米宮廷帳\n查看內容	\n			\n\n\n	【出租 / 搭設】活動鷹架\n查看內容	\n			\n\n\n	【出租 / 搭設】照明 / 背板打光《基本燈光組》\n查看內容	\n			\n\n\n	【出租 / 運送】交通錐組\n查看內容	\n			\n\n\n	【出租 / 運送】標示架 / 指示立牌\n查看內容	\n			\n\n\n	【出租 / 運送】水冷扇\n查看內容	\n			\n\n\n	【出租 / 運送】貴賓椅\n查看內容	\n			\n\n\n	【出租 / 運送】關東旗\n查看內容	\n			\n\n\n	【搭設】主題背板 / 照相背板《ㄇ字型Truss》\n查看內容	\n			\n\n\n	【搭設】廣告看板 / 活動主題背板《口字型Truss》\n查看內容	\n			\n\n\n	【搭設】標準舞台（含主舞台、舞台腳圍布、舞台面地毯、兩側舞台樓梯）\n查看內容	\n			\n\n\n \n 【圖片 & 活動照片連結】
URL:https://topteamimc.com/event/2018-09-07/
LOCATION:二崙國民中學\, 二崙鄉中正路88號
CATEGORIES:節日活動
ATTACH;FMTTYPE=image/jpeg:https://topteamimc.com/wp-content/uploads/2017/10/阿善師公益活動-活動入口看板拱門型Truss-支援意林公關-2.jpg
END:VEVENT
BEGIN:VEVENT
DTSTART;TZID=Asia/Taipei:20180902T090000
DTEND;TZID=Asia/Taipei:20180902T120000
DTSTAMP:20260424T171239
CREATED:20200312T083142Z
LAST-MODIFIED:20200312T083456Z
UID:7403-1535878800-1535889600@topteamimc.com
SUMMARY:【活動紀錄】市政府花開未來剪綵活動
DESCRIPTION:市政府花開未來剪綵活動 \n 【器材項目】 \n\n\n	【出租 / 搭設】照明 / 背板打光《基本燈光組》\n查看內容	\n			\n\n\n	【出租 / 運送】貴賓椅\n查看內容	\n			\n\n\n	【出租】開幕剪綵用器材《金剪刀 / 手套 / 綵球 / 托盤》\n查看內容	\n			\n\n\n	【搭設】標準舞台（含主舞台、舞台腳圍布、舞台面地毯、兩側舞台樓梯）\n查看內容	\n			\n\n\n	【製作 / 施工】珍珠背板\n查看內容	\n			\n\n\n \n 【圖片 & 活動照片連結】
URL:https://topteamimc.com/event/2018-09-02/
LOCATION:台中市政府\, 西屯區臺灣大道三段99號\, 台中市\, 台灣
CATEGORIES:宣傳活動
ATTACH;FMTTYPE=image/jpeg:https://topteamimc.com/wp-content/uploads/2020/03/台中市議會花開未來-揭幕記者會-貴賓椅-燈光音響-珍珠背板-人形立牌-標準舞台-出租搭設.jpg
END:VEVENT
BEGIN:VEVENT
DTSTART;TZID=Asia/Taipei:20180814T180000
DTEND;TZID=Asia/Taipei:20180814T210000
DTSTAMP:20260424T171239
CREATED:20180920T031226Z
LAST-MODIFIED:20200219T043253Z
UID:5977-1534269600-1534280400@topteamimc.com
SUMMARY:【燈光音響紀錄】生日派對 特輯音樂會
DESCRIPTION:生日派對特輯音樂會 \n 【支援項目】 \n\n\n	【出租 / 組裝】點歌機設備\n查看內容	\n			\n\n\n	【出租 / 運送】活動歌唱 & 主持用《無線麥克風套組》\n查看內容	\n			\n\n\n	【出租 / 配套】場地染色效果《染色燈光組》\n查看內容	\n			\n\n\n	【出租】舞台表演效果《噴霧機》\n查看內容	\n			\n\n\n	【搭設】主題背板 / 照相背板《ㄇ字型Truss》\n查看內容	\n			\n\n\n	【搭設】標準舞台（含主舞台、舞台腳圍布、舞台面地毯、兩側舞台樓梯）\n查看內容	\n			\n\n\n	【配套】戶外高空效果《光束電腦燈》\n查看內容	\n			\n\n\n	【配套】舞台表演效果《六頭光束電腦燈》\n查看內容	\n			\n\n\n \n 【圖片 & 活動連結】
URL:https://topteamimc.com/event/2018-08-14/
ATTACH;FMTTYPE=image/jpeg:https://topteamimc.com/wp-content/uploads/2018/09/生日派對-特輯音樂會-燈光音響舞台-主題背板Truss-液晶螢幕-38.jpg
END:VEVENT
BEGIN:VEVENT
DTSTART;VALUE=DATE:20180811
DTEND;VALUE=DATE:20180812
DTSTAMP:20260424T171239
CREATED:20200309T084837Z
LAST-MODIFIED:20200309T084837Z
UID:7359-1533945600-1534031999@topteamimc.com
SUMMARY:【活動紀錄】KTM新車發表會
DESCRIPTION:KTM新車發表會 \n 【器材項目】 \n\n\n	【出租 / 搭設】LED電視牆\n查看內容	\n			\n\n\n	【搭設】主題背板 / 照相背板《ㄇ字型Truss》\n查看內容	\n			\n\n\n	【搭設】標準舞台（含主舞台、舞台腳圍布、舞台面地毯、兩側舞台樓梯）\n查看內容	\n			\n\n\n	【製作 / 施工】珍珠背板\n查看內容	\n			\n\n\n \n 【圖片 & 活動照片連結】
URL:https://topteamimc.com/event/2018-08-11/
LOCATION:大鵬灣國際賽車場\, 東港鎮鵬灣大道二段1號
CATEGORIES:特賣活動
ATTACH;FMTTYPE=image/jpeg:https://topteamimc.com/wp-content/uploads/2020/03/大鵬灣國際賽車場-KTM新車發表-投影設備-燈光音響-斜坡道舞台-Truss背板-3.jpg
END:VEVENT
BEGIN:VEVENT
DTSTART;TZID=Asia/Taipei:20180628T080000
DTEND;TZID=Asia/Taipei:20180628T170000
DTSTAMP:20260424T171239
CREATED:20180916T100519Z
LAST-MODIFIED:20200219T044330Z
UID:5973-1530172800-1530205200@topteamimc.com
SUMMARY:【燈光音響紀錄】KOI Café 臺中七期菁選店 開幕活動
DESCRIPTION:KOI Café 臺中七期菁選店 開幕活動 \n 【支援項目】 \n\n\n	【出租 / 搭設】器材支撐架《I字Truss》\n查看內容	\n			\n\n\n	【出租 / 搭設】走道延伸舞台\n查看內容	\n			\n\n\n	【出租 / 運送】標示架 / 指示立牌\n查看內容	\n			\n\n\n	【出租 / 運送】舞台紅龍伸縮圍欄\n查看內容	\n			\n\n\n	【出租 / 配套】場地染色效果《染色燈光組》\n查看內容	\n			\n\n\n	【搭設】廣告看板 / 活動主題背板《口字型Truss》\n查看內容	\n			\n\n\n	【製作 / 施工】珍珠背板\n查看內容	\n			\n\n\n	【配套】Bose802喇叭\n查看內容	\n			\n\n\n \n 【圖片 & 活動連結】
URL:https://topteamimc.com/event/2018-06-28/
LOCATION:KOI Thé七期店\, 西屯區市政北二路50號\, 台中市
CATEGORIES:開幕活動
ATTACH;FMTTYPE=image/jpeg:https://topteamimc.com/wp-content/uploads/2018/09/KOI-Café-臺中七期菁選店-開幕活動-Truss舞台-燈光音響-紅龍伸縮圍欄-指示立牌珍珠背板-17.jpg
END:VEVENT
BEGIN:VEVENT
DTSTART;VALUE=DATE:20180616
DTEND;VALUE=DATE:20180617
DTSTAMP:20260424T171239
CREATED:20200328T013745Z
LAST-MODIFIED:20200328T013745Z
UID:7527-1529107200-1529193599@topteamimc.com
SUMMARY:【活動紀錄】蝴蝶橋餐廳 求婚活動
DESCRIPTION:蝴蝶橋餐廳 求婚活動 \n 【器材項目】 \n\n\n	【出租 / 搭設】55吋液晶電視\n查看內容	\n			\n\n\n	【出租 / 搭設】器材支撐架《I字Truss》\n查看內容	\n			\n\n\n	【出租】簡單活動主持 / 音樂播放專用《行動音響》\n查看內容	\n			\n\n\n \n 【圖片】
URL:https://topteamimc.com/event/2018-06-16/
LOCATION:蝴蝶橋餐廳\, 祥順路二段188號1樓
CATEGORIES:婚宴活動
ATTACH;FMTTYPE=image/jpeg:https://topteamimc.com/wp-content/uploads/2016/11/蝴蝶橋法式餐廳婚禮包場-液晶電視Truss組出租.jpg
END:VEVENT
BEGIN:VEVENT
DTSTART;TZID=Asia/Taipei:20180527T080000
DTEND;TZID=Asia/Taipei:20180527T170000
DTSTAMP:20260424T171239
CREATED:20180527T102013Z
LAST-MODIFIED:20200219T072552Z
UID:5888-1527408000-1527440400@topteamimc.com
SUMMARY:【音響紀錄】達新工業60週年慶
DESCRIPTION:達新工業 60週年慶 \n 【支援項目】 \n\n\n	【出租 / 搭設】城堡型充氣拱門\n查看內容	\n			\n\n\n	【出租 / 載運】大摺疊會議桌\n查看內容	\n			\n\n\n	【出租 / 載運】紅色塑膠椅評分 5.00 滿分 5\n查看內容	\n			\n\n\n	【出租 / 載運】黑色摺疊椅\n查看內容	\n			\n\n\n	【出租 / 配套】瞬間爆點效果《CO2噴筒》\n查看內容	\n			\n\n\n	【出租】彩帶噴筒\n查看內容	\n			\n\n\n	【搭設】主題背板 / 照相背板《ㄇ字型Truss》\n查看內容	\n			\n\n\n	【搭設】標準舞台（含主舞台、舞台腳圍布、舞台面地毯、兩側舞台樓梯）\n查看內容	\n			\n\n\n	【配套】18吋低音喇叭\n查看內容	\n			\n\n\n \n 【圖片 & 活動連結】
URL:https://topteamimc.com/event/2018-05-25/
CATEGORIES:公司活動
ATTACH;FMTTYPE=image/jpeg:https://topteamimc.com/wp-content/uploads/2016/03/達新工業-60週年慶-CO2噴筒-1.jpg
END:VEVENT
BEGIN:VEVENT
DTSTART;VALUE=DATE:20180527
DTEND;VALUE=DATE:20180528
DTSTAMP:20260424T171239
CREATED:20200308T024742Z
LAST-MODIFIED:20200308T024742Z
UID:7338-1527379200-1527465599@topteamimc.com
SUMMARY:【活動紀錄】一中熱舞社成果發表會
DESCRIPTION:一中熱舞社成果發表會 \n 【器材項目】 \n\n\n	【出租】舞台表演效果《噴霧機》\n查看內容	\n			\n\n\n	【搭設】主題背板 / 照相背板《ㄇ字型Truss》\n查看內容	\n			\n\n\n	【配套】18吋低音喇叭\n查看內容	\n			\n\n\n	【配套】外場區域專用《15吋喇叭》\n查看內容	\n			\n\n\n	【配套】戶外高空效果《光束電腦燈》\n查看內容	\n			\n\n\n	【配套】樂團表演專用《監聽喇叭》\n查看內容	\n			\n\n\n	【配套】舞台表演效果《六頭光束電腦燈》\n查看內容	\n			\n\n\n \n 【圖片 & 活動照片連結】
URL:https://topteamimc.com/event/2018-05-27/
LOCATION:健行國小\, 北區健行路666號
CATEGORIES:學校活動
ATTACH;FMTTYPE=image/jpeg:https://topteamimc.com/wp-content/uploads/2016/03/一中熱舞-健行國小成果發表會-舞台效果雷射燈出租-3.jpg
END:VEVENT
BEGIN:VEVENT
DTSTART;TZID=Asia/Taipei:20180525T080000
DTEND;TZID=Asia/Taipei:20180527T170000
DTSTAMP:20260424T171239
CREATED:20200313T095445Z
LAST-MODIFIED:20200313T095445Z
UID:7433-1527235200-1527440400@topteamimc.com
SUMMARY:【活動紀錄】台體大運動傳播學系 攝五度畢業影展
DESCRIPTION:台體大運動傳播學系  \n攝五度畢業影展 \n 【器材項目】 \n\n\n	【搭設】廣告看板 / 活動主題背板《口字型Truss》\n查看內容	\n			\n\n\n	【製作 / 施工】珍珠背板\n查看內容	\n			\n\n\n	【製作】主題輸出帆布\n查看內容	\n			\n\n\n \n 【活動圖片】
URL:https://topteamimc.com/event/2018-05-26/
LOCATION:文英館\, 北區雙十路一段10之5號
CATEGORIES:學校活動
ATTACH;FMTTYPE=image/jpeg:https://topteamimc.com/wp-content/uploads/2016/12/台體大運動傳播學系-文英館畢業影展-入口背板Truss搭設.jpg
END:VEVENT
BEGIN:VEVENT
DTSTART;VALUE=DATE:20180511
DTEND;VALUE=DATE:20180512
DTSTAMP:20260424T171239
CREATED:20200311T040646Z
LAST-MODIFIED:20200311T040646Z
UID:7383-1525996800-1526083199@topteamimc.com
SUMMARY:【活動紀錄】搶救紅蘿蔔大作戰電影拍攝
DESCRIPTION:搶救紅蘿蔔大作戰電影拍攝  \n 【器材項目】 \n\n\n	【出租 / 搭設】簡易燈光音響組\n查看內容	\n			\n\n\n	【出租 / 載運】大摺疊會議桌\n查看內容	\n			\n\n\n	【出租 / 載運】紅色塑膠椅評分 5.00 滿分 5\n查看內容	\n			\n\n\n	【出租 / 運送】關東旗\n查看內容	\n			\n\n\n	【搭設】入口主題看板用《門楣型Truss》\n查看內容	\n			\n\n\n	【搭設】標準舞台（含主舞台、舞台腳圍布、舞台面地毯、兩側舞台樓梯）\n查看內容	\n			\n\n\n	【製作 / 施工】珍珠背板\n查看內容	\n			\n\n\n \n 【活動照片】
URL:https://topteamimc.com/event/2018-05-10/
LOCATION:后豐鐵馬道\, 豐原區國豐路三段
ATTACH;FMTTYPE=image/jpeg:https://topteamimc.com/wp-content/uploads/2020/03/搶救紅蘿蔔大作戰-電影拍攝-Truss主題背板佈置-1.jpg
END:VEVENT
BEGIN:VEVENT
DTSTART;TZID=Asia/Taipei:20180428T120000
DTEND;TZID=Asia/Taipei:20180428T170000
DTSTAMP:20260424T171239
CREATED:20180507T014940Z
LAST-MODIFIED:20200219T095958Z
UID:5870-1524916800-1524934800@topteamimc.com
SUMMARY:【燈光音響紀錄】曉明女中《TEDxYouth@SMGHS演講》
DESCRIPTION:曉明女中《TEDxYouth@SMGHS演講》 \n 【支援項目】 \n\n\n	【出租 / 搭設】5000流明投影機\n查看內容	\n			\n\n\n	【出租 / 搭設】照明 / 背板打光《基本燈光組》\n查看內容	\n			\n\n\n	【出租 / 運送】活動歌唱 & 主持用《無線麥克風套組》\n查看內容	\n			\n\n\n	【出租】120吋手拉式投影布幕\n查看內容	\n			\n\n\n	【出租】耳掛式麥克風\n查看內容	\n			\n\n\n	【搭設】主題背板 / 照相背板《ㄇ字型Truss》\n查看內容	\n			\n\n\n	【搭設】標準舞台（含主舞台、舞台腳圍布、舞台面地毯、兩側舞台樓梯）\n查看內容	\n			\n\n\n \n 【圖片 & 活動連結】
URL:https://topteamimc.com/event/2018-04-28/
LOCATION:曉明女中\, 北區中清路一段606號\, 台中市\, 台灣
CATEGORIES:學校活動
ATTACH;FMTTYPE=image/jpeg:https://topteamimc.com/wp-content/uploads/2018/05/曉明女中-TEDxYouth@SMGHS演講-12.jpg
END:VEVENT
BEGIN:VEVENT
DTSTART;VALUE=DATE:20180425
DTEND;VALUE=DATE:20180426
DTSTAMP:20260424T171239
CREATED:20200308T021506Z
LAST-MODIFIED:20200308T025015Z
UID:7331-1524614400-1524700799@topteamimc.com
SUMMARY:【活動紀錄】科博館VR奇境探秘
DESCRIPTION:科博館VR奇境探秘 \n 【器材項目】 \n\n\n	【出租 / 搭設】照明 / 背板打光《基本燈光組》\n查看內容	\n			\n\n\n	【出租 / 搭設】簡易燈光音響組\n查看內容	\n			\n\n\n	【搭設】標準舞台（含主舞台、舞台腳圍布、舞台面地毯、兩側舞台樓梯）\n查看內容	\n			\n\n\n \n 【圖片 & 活動照片連結】
URL:https://topteamimc.com/event/2018-04-25/
LOCATION:自然科學博物館\, 北區館前路1號\, 台中市
CATEGORIES:宣傳活動
ATTACH;FMTTYPE=image/jpeg:https://topteamimc.com/wp-content/uploads/2016/03/台中科博館-VR奇境探秘-簡易燈光搭設.jpg
END:VEVENT
BEGIN:VEVENT
DTSTART;VALUE=DATE:20180420
DTEND;VALUE=DATE:20180421
DTSTAMP:20260424T171239
CREATED:20200310T013558Z
LAST-MODIFIED:20200310T013558Z
UID:7366-1524182400-1524268799@topteamimc.com
SUMMARY:【活動紀錄】東山高中第八屆金嗓杯
DESCRIPTION:東山高中第八屆金嗓杯 \n 【器材項目】 \n\n\n	【出租 / 載運】外場表演專用《貝斯音箱》\n查看內容	\n			\n\n\n	【出租 / 載運】外場表演指定《JC-120電吉他音箱》\n查看內容	\n			\n\n\n	【出租 / 載運】進場焦點效果《舞台追蹤燈》\n查看內容	\n			\n\n\n	【出租 / 運送】外場表演專用《Roland KC-550電子琴音箱》\n查看內容	\n			\n\n\n	【出租 / 運送組裝】外場表演專用《JD五粒組爵士鼓》\n查看內容	\n			\n\n\n	【出租】控場聯絡專用《無線對講機》\n查看內容	\n			\n\n\n	【出租】爵士鼓專用收音麥克風\n查看內容	\n			\n\n\n	【出租】麥克風架\n查看內容	\n			\n\n\n	【配套】樂團表演專用《監聽喇叭》\n查看內容	\n			\n\n\n \n 【圖片 & 活動照片連結】
URL:https://topteamimc.com/event/2018-04-20/
LOCATION:東山高中\, 北屯區景賢六路200號
CATEGORIES:學校活動
ATTACH;FMTTYPE=image/jpeg:https://topteamimc.com/wp-content/uploads/2020/03/東山高中第八屆金嗓杯-燈光音響搭設-46.jpg
END:VEVENT
BEGIN:VEVENT
DTSTART;TZID=Asia/Taipei:20180325T140000
DTEND;TZID=Asia/Taipei:20180325T173000
DTSTAMP:20260424T171239
CREATED:20180327T030733Z
LAST-MODIFIED:20200222T010801Z
UID:5807-1521986400-1521999000@topteamimc.com
SUMMARY:【活動紀錄】台中真耶穌教會《春日音樂會》
DESCRIPTION:台中真耶穌教會《春日音樂會》 \n 【支援項目】 \n\n\n	【出租 / 搭設】歐式帳篷\n查看內容	\n			\n\n\n	【出租 / 運送】活動歌唱 & 主持用《無線麥克風套組》\n查看內容	\n			\n\n\n	【出租】麥克風架\n查看內容	\n			\n\n\n	【搭設】主題背板 / 照相背板《ㄇ字型Truss》\n查看內容	\n			\n\n\n	【配套】多人樂團收音用《ShotGun廣角收音麥》\n查看內容	\n			\n\n\n	【配套】樂團表演專用《監聽喇叭》\n查看內容	\n			\n\n\n \n 【圖片】
URL:https://topteamimc.com/event/2018-03-25/
LOCATION:台中公園\, 北區雙十路一段65號\, 台中市\, 台灣
ATTACH;FMTTYPE=image/jpeg:https://topteamimc.com/wp-content/uploads/2018/03/台中公園-教會春日音樂會-主題背板truss搭設.jpg
END:VEVENT
END:VCALENDAR