BEGIN:VCALENDAR
VERSION:2.0
PRODID:-//台中頂尖整合行銷-音樂教室.樂器.燈光音響.出租 - ECPv6.15.20//NONSGML v1.0//EN
CALSCALE:GREGORIAN
METHOD:PUBLISH
X-WR-CALNAME:台中頂尖整合行銷-音樂教室.樂器.燈光音響.出租
X-ORIGINAL-URL:https://topteamimc.com
X-WR-CALDESC:Events for 台中頂尖整合行銷-音樂教室.樂器.燈光音響.出租
REFRESH-INTERVAL;VALUE=DURATION:PT1H
X-Robots-Tag:noindex
X-PUBLISHED-TTL:PT1H
BEGIN:VTIMEZONE
TZID:Asia/Taipei
BEGIN:STANDARD
TZOFFSETFROM:+0800
TZOFFSETTO:+0800
TZNAME:CST
DTSTART:20150101T000000
END:STANDARD
END:VTIMEZONE
BEGIN:VEVENT
DTSTART;VALUE=DATE:20170711
DTEND;VALUE=DATE:20170712
DTSTAMP:20260425T031707
CREATED:20170816T013319Z
LAST-MODIFIED:20200219T101748Z
UID:5010-1499731200-1499817599@topteamimc.com
SUMMARY:【活動紀錄】E-Saki髮質專家《人工智能染膏全球發表會》
DESCRIPTION:E-Saki髮質專家《人工智能染膏全球發表會》 \n 【支援項目】 \n\n\n	【出租 / 搭設】300吋投影布幕\n查看內容	\n			\n\n\n	【出租 / 搭設】器材支撐架《I字Truss》\n查看內容	\n			\n\n\n	【出租 / 搭設】照明 / 背板打光《基本燈光組》\n查看內容	\n			\n\n\n	【出租】16000流明投影機\n查看內容	\n			\n\n\n	【搭設】廣告看板 / 活動主題背板《口字型Truss》\n查看內容	\n			\n\n\n	【製作 / 施工】珍珠背板\n查看內容	\n			\n\n\n \n 【圖片 & 活動連結】
URL:https://topteamimc.com/event/2017-07-11/
LOCATION:葳格國際會議中心\, 北屯區軍福十八路328號\, 台中市\, 台灣
CATEGORIES:宣傳活動
ATTACH;FMTTYPE=image/jpeg:https://topteamimc.com/wp-content/uploads/2017/08/E-saki-發表會-Truss-33.jpg
END:VEVENT
BEGIN:VEVENT
DTSTART;VALUE=DATE:20170630
DTEND;VALUE=DATE:20170701
DTSTAMP:20260425T031707
CREATED:20200412T025732Z
LAST-MODIFIED:20200412T025732Z
UID:7626-1498780800-1498867199@topteamimc.com
SUMMARY:【活動紀錄】曜城市樣品屋實品屋 開幕落成典禮
DESCRIPTION:曜城市樣品屋實品屋  \n開幕落成典禮 \n 【器材項目】 \n\n\n	【出租 / 運送】舞台紅龍伸縮圍欄\n查看內容	\n			\n\n\n	【出租 / 鋪設】舞台面 / 走道 《紅色地毯》\n查看內容	\n			\n\n\n	【出租】開幕剪綵用器材《金剪刀 / 手套 / 綵球 / 托盤》\n查看內容	\n			\n\n\n	【搭設】主題背板 / 照相背板《ㄇ字型Truss》\n查看內容	\n			\n\n\n	【表演節目】舞獅擊鼓表演\n查看內容	\n			\n\n\n \n 【圖片 & 活動照片連結】
URL:https://topteamimc.com/event/2017-06-30/
CATEGORIES:開幕活動
ATTACH;FMTTYPE=image/jpeg:https://topteamimc.com/wp-content/uploads/2020/04/曜城市樣品屋實品屋-開幕落成典禮-舞台-地毯-主題背板-truss-燈光音響-紅龍伸縮圍欄-剪綵器材-出租運送搭設-1.jpg
END:VEVENT
BEGIN:VEVENT
DTSTART;TZID=Asia/Taipei:20170629T080000
DTEND;TZID=Asia/Taipei:20170629T120000
DTSTAMP:20260425T031707
CREATED:20200304T031355Z
LAST-MODIFIED:20200304T031721Z
UID:7291-1498723200-1498737600@topteamimc.com
SUMMARY:【活動紀錄】西屯區公所 花藝造景成果發表會
DESCRIPTION:西屯區公所  \n花藝造景成果發表會 \n 【支援器材項目】 \n\n\n	【出租 / 搭設】6米宮廷帳\n查看內容	\n			\n\n\n	【出租 / 搭設】接龍帳\n查看內容	\n			\n\n\n	【出租 / 製作】揭幕紅布條\n查看內容	\n			\n\n\n	【出租 / 運送】關東旗\n查看內容	\n			\n\n\n	【搭設】主題背板 / 照相背板《ㄇ字型Truss》\n查看內容	\n			\n\n\n	【搭設】廣告看板 / 活動主題背板《口字型Truss》\n查看內容	\n			\n\n\n	【搭設】標準舞台（含主舞台、舞台腳圍布、舞台面地毯、兩側舞台樓梯）\n查看內容	\n			\n\n\n	【製作 / 施工】珍珠背板\n查看內容	\n			\n\n\n \n 【圖片 & 活動連結】
URL:https://topteamimc.com/event/2017-06-29/
LOCATION:西屯區公所\, 西屯區市政北二路386號\, 台中市
CATEGORIES:宣傳活動
ATTACH;FMTTYPE=image/jpeg:https://topteamimc.com/wp-content/uploads/2020/01/西屯區公所-花藝造景成果發表會-揭牌儀式-紅布幕-Truss-輸出牌-出租製作搭設-4.jpg
END:VEVENT
BEGIN:VEVENT
DTSTART;VALUE=DATE:20170622
DTEND;VALUE=DATE:20170630
DTSTAMP:20260425T031707
CREATED:20200306T092628Z
LAST-MODIFIED:20200306T092628Z
UID:7314-1498089600-1498780799@topteamimc.com
SUMMARY:【活動紀錄】Living x iHouse 智能貨櫃屋宣傳活動
DESCRIPTION:Living x iHouse 智能貨櫃屋宣傳活動  \n 【支援器材項目】 \n\n\n	【出租 / 搭設】3米快速帳\n查看內容	\n			\n\n\n	【出租 / 搭設】55吋液晶電視\n查看內容	\n			\n\n\n	【出租 / 搭設】器材支撐架《I字Truss》\n查看內容	\n			\n\n\n	【出租 / 搭設】簡易燈光音響組\n查看內容	\n			\n\n\n	【出租 / 載運】大摺疊會議桌\n查看內容	\n			\n\n\n	【出租 / 載運】黑色摺疊椅\n查看內容	\n			\n\n\n	【出租 / 運送】舞台紅龍伸縮圍欄\n查看內容	\n			\n\n\n	【搭設】廣告看板 / 活動主題背板《口字型Truss》\n查看內容	\n			\n\n\n \n 【圖片 & 活動連結】
URL:https://topteamimc.com/event/2017-06-22/
LOCATION:草悟道廣場\, 西區英才路534號\, 台中市\, 台灣
CATEGORIES:宣傳活動
ATTACH;FMTTYPE=image/jpeg:https://topteamimc.com/wp-content/uploads/2017/08/智能貨櫃屋宣傳主題帆布-Truss1.jpg
END:VEVENT
BEGIN:VEVENT
DTSTART;VALUE=DATE:20170611
DTEND;VALUE=DATE:20170612
DTSTAMP:20260425T031707
CREATED:20200308T011928Z
LAST-MODIFIED:20200308T011928Z
UID:7321-1497139200-1497225599@topteamimc.com
SUMMARY:【活動紀錄】Louis Motorrad 重機部品連鎖店開幕
DESCRIPTION:Louis Motorrad \n重機部品連鎖店開幕 \n 【支援器材項目】 \n\n\n	【出租 / 運送】交通錐組\n查看內容	\n			\n\n\n	【出租 / 運送】舞台紅龍伸縮圍欄\n查看內容	\n			\n\n\n	【出租 / 鋪設】舞台面 / 走道 《紅色地毯》\n查看內容	\n			\n\n\n	【出租】開幕剪綵用器材《金剪刀 / 手套 / 綵球 / 托盤》\n查看內容	\n			\n\n\n	【搭設】主題背板 / 照相背板《ㄇ字型Truss》\n查看內容	\n			\n\n\n \n 【圖片 & 活動紀錄連結】
URL:https://topteamimc.com/event/2017-06-11/
LOCATION:Louis Motorrad 台北店\, 中正區北平東路30-3號\, 台北市
CATEGORIES:開幕活動
ATTACH;FMTTYPE=image/jpeg:https://topteamimc.com/wp-content/uploads/2017/02/LOUIS重機部品連鎖店開幕活動-剪綵用具-白手套-金剪刀-綵球-出租運送-2.jpg
END:VEVENT
BEGIN:VEVENT
DTSTART;TZID=Asia/Taipei:20170507T080000
DTEND;TZID=Asia/Taipei:20170507T170000
DTSTAMP:20260425T031707
CREATED:20170518T055926Z
LAST-MODIFIED:20200220T010637Z
UID:4897-1494144000-1494176400@topteamimc.com
SUMMARY:【活動紀錄】于美人關懷弱勢感恩五月親子活動
DESCRIPTION:于美人關懷弱勢感恩五月親子活動 \n 【支援項目】 \n\n\n	【出租 / 搭設】接龍帳\n查看內容	\n			\n\n\n	【出租 / 搭設】歐式帳篷\n查看內容	\n			\n\n\n	【出租 / 載運】大摺疊會議桌\n查看內容	\n			\n\n\n	【出租 / 載運】紅色塑膠椅評分 5.00 滿分 5\n查看內容	\n			\n\n\n	【出租 / 運送】舞台紅龍伸縮圍欄\n查看內容	\n			\n\n\n	【出租】帳篷吊扇\n查看內容	\n			\n\n\n	【搭設】主題背板 / 照相背板《ㄇ字型Truss》\n查看內容	\n			\n\n\n	【配套】外場區域專用《15吋喇叭》\n查看內容	\n			\n\n\n \n 【圖片 & 活動連結】
URL:https://topteamimc.com/event/2017-05-07/
CATEGORIES:節日活動
ATTACH;FMTTYPE=image/jpeg:https://topteamimc.com/wp-content/uploads/2016/11/音響桌椅帳篷搭設-12.jpg
END:VEVENT
BEGIN:VEVENT
DTSTART;VALUE=DATE:20170422
DTEND;VALUE=DATE:20170423
DTSTAMP:20260425T031707
CREATED:20200409T033224Z
LAST-MODIFIED:20200409T033553Z
UID:7582-1492819200-1492905599@topteamimc.com
SUMMARY:【活動紀錄】世界地球日揪愛淨灘
DESCRIPTION:世界地球日揪愛淨灘 \n 【器材項目】 \n\n\n	【出租 / 搭設】城堡型充氣拱門\n查看內容	\n			\n\n\n	【出租 / 搭設】簡易燈光音響組\n查看內容	\n			\n\n\n	【出租 / 載運】基本型發電機\n查看內容	\n			\n\n\n	【出租 / 運送】貴賓椅\n查看內容	\n			\n\n\n	【出租 / 運送】關東旗\n查看內容	\n			\n\n\n	【搭設】主題背板 / 照相背板《ㄇ字型Truss》\n查看內容	\n			\n\n\n	【搭設】標準舞台（含主舞台、舞台腳圍布、舞台面地毯、兩側舞台樓梯）\n查看內容	\n			\n\n\n	【製作 / 施工】珍珠背板\n查看內容	\n			\n\n\n \n 【圖片 & 活動照片連結】
URL:https://topteamimc.com/event/2017-04-22/
LOCATION:大安濱海樂園\, 大安區福住村北汕路86巷1號
CATEGORIES:宣傳活動,節日活動
ATTACH;FMTTYPE=image/jpeg:https://topteamimc.com/wp-content/uploads/2020/04/世界地球日揪愛淨灘-主題背板-TRUSS-充氣拱門-燈光音響-標準舞台-貴賓椅-關東旗-人形立牌-發電機-出租運送-1.jpg
END:VEVENT
BEGIN:VEVENT
DTSTART;TZID=Asia/Taipei:20170406T080000
DTEND;TZID=Asia/Taipei:20170406T170000
DTSTAMP:20260425T031707
CREATED:20200306T042118Z
LAST-MODIFIED:20200306T042118Z
UID:7299-1491465600-1491498000@topteamimc.com
SUMMARY:【活動紀錄】極品莊園咖啡開幕典禮
DESCRIPTION:極品莊園咖啡開幕典禮 \n 【器材項目】 \n\n\n	【出租 / 搭設】6米宮廷帳\n查看內容	\n			\n\n\n	【出租 / 搭設】歐式帳篷\n查看內容	\n			\n\n\n	【出租 / 運送】舞台紅龍伸縮圍欄\n查看內容	\n			\n\n\n	【出租 / 鋪設】舞台面 / 走道 《紅色地毯》\n查看內容	\n			\n\n\n	【出租】開幕剪綵用器材《金剪刀 / 手套 / 綵球 / 托盤》\n查看內容	\n			\n\n\n	【搭設】主題背板 / 照相背板《ㄇ字型Truss》\n查看內容	\n			\n\n\n	【搭設】標準舞台（含主舞台、舞台腳圍布、舞台面地毯、兩側舞台樓梯）\n查看內容	\n			\n\n\n \n 【圖片 & 活動連結】
URL:https://topteamimc.com/event/2017-04-06/
LOCATION:極品莊園咖啡\, 大林鎮三村里橋子頭1-6號
CATEGORIES:開幕活動
ATTACH;FMTTYPE=image/jpeg:https://topteamimc.com/wp-content/uploads/2020/03/極品莊園咖啡開幕典禮-舞台-宮廷帳-主題背板-走道紅地毯-出租搭設鋪設.jpg
END:VEVENT
BEGIN:VEVENT
DTSTART;TZID=Asia/Taipei:20170330T180000
DTEND;TZID=Asia/Taipei:20170330T213000
DTSTAMP:20260425T031707
CREATED:20200311T032222Z
LAST-MODIFIED:20200311T032222Z
UID:7380-1490896800-1490909400@topteamimc.com
SUMMARY:【活動紀錄】玄天上帝聖誕萬壽晚宴
DESCRIPTION:玄天上帝聖誕萬壽晚宴 \n 【器材項目】 \n\n\n	【出租 / 搭設】200吋投影布幕\n查看內容	\n			\n\n\n	【出租 / 搭設】5000流明投影機\n查看內容	\n			\n\n\n	【出租 / 搭設】接龍帳\n查看內容	\n			\n\n\n	【出租 / 搭設】簡易燈光音響組\n查看內容	\n			\n\n\n	【出租】120吋手拉式投影布幕\n查看內容	\n			\n\n\n	【搭設】主題背板 / 照相背板《ㄇ字型Truss》\n查看內容	\n			\n\n\n \n 【圖片 & 活動照片連結】
URL:https://topteamimc.com/event/2017-03-30/
ATTACH;FMTTYPE=image/jpeg:https://topteamimc.com/wp-content/uploads/2020/03/玄天上帝聖誕萬壽晚宴-舞台車-接龍帳-燈光音響-投影機-投影布幕-投影框架布幕truss-出租搭設-8.jpg
END:VEVENT
BEGIN:VEVENT
DTSTART;TZID=Asia/Taipei:20170325T170000
DTEND;TZID=Asia/Taipei:20170325T193000
DTSTAMP:20260425T031707
CREATED:20170328T031217Z
LAST-MODIFIED:20200225T010750Z
UID:4858-1490461200-1490470200@topteamimc.com
SUMMARY:【活動紀錄】颶風極限藝術舞蹈《成果發表活動》
DESCRIPTION:颶風極限藝術舞蹈《成果發表活動》 \n 【支援項目】 \n\n\n	【出租 / 載運】基本型發電機\n查看內容	\n			\n\n\n	【出租 / 載運】手搖式燈架 / 喇叭架\n查看內容	\n			\n\n\n	【出租 / 運送】活動歌唱 & 主持用《無線麥克風套組》\n查看內容	\n			\n\n\n	【出租 / 配套】場地染色效果《染色燈光組》\n查看內容	\n			\n\n\n	【搭設】主題背板 / 照相背板《ㄇ字型Truss》\n查看內容	\n			\n\n\n	【配套】外場區域專用《15吋喇叭》\n查看內容	\n			\n\n\n	【配套】舞台表演效果《六頭光束電腦燈》\n查看內容	\n			\n\n\n \n 【圖片】
URL:https://topteamimc.com/event/2017-03-25b/
LOCATION:水利大樓廣場\,  號\, No. 11尊賢街北區\, 台中市
CATEGORIES:宣傳活動
ATTACH;FMTTYPE=image/jpeg:https://topteamimc.com/wp-content/uploads/2017/03/颶風音響.jpg
END:VEVENT
BEGIN:VEVENT
DTSTART;TZID=Asia/Taipei:20170325T090000
DTEND;TZID=Asia/Taipei:20170325T200000
DTSTAMP:20260425T031707
CREATED:20170328T023350Z
LAST-MODIFIED:20200220T130141Z
UID:4846-1490432400-1490472000@topteamimc.com
SUMMARY:【活動紀錄】Nike尚智太平三店開幕活動
DESCRIPTION:Nike尚智太平三店開幕活動 \n 【支援項目】 \n\n\n	【出租 / 組裝】樂團表演專用《監聽耳機》\n查看內容	\n			\n\n\n	【出租 / 載運】大摺疊會議桌\n查看內容	\n			\n\n\n	【出租 / 運送】標示架 / 指示立牌\n查看內容	\n			\n\n\n	【出租 / 運送】舞台紅龍伸縮圍欄\n查看內容	\n			\n\n\n	【出租 / 運送組裝】外場表演專用《JD五粒組爵士鼓》\n查看內容	\n			\n\n\n	【出租】爵士鼓表演專用《Zildjian K級銅鈸組》\n查看內容	\n			\n\n\n	【配套】外場區域專用《15吋喇叭》\n查看內容	\n			\n\n\n	【配套】樂團表演專用《監聽喇叭》\n查看內容	\n			\n\n\n \n 【圖片】
URL:https://topteamimc.com/event/2017-03-25a/
LOCATION:Nike 尚智太平三\, 北區太平路57號\, 台中市
CATEGORIES:開幕活動
ATTACH;FMTTYPE=image/jpeg:https://topteamimc.com/wp-content/uploads/2017/03/Nike-燈光音響-2.jpg
END:VEVENT
BEGIN:VEVENT
DTSTART;TZID=Asia/Taipei:20170224T180000
DTEND;TZID=Asia/Taipei:20170224T213000
DTSTAMP:20260425T031707
CREATED:20170224T022203Z
LAST-MODIFIED:20200224T010902Z
UID:4812-1487959200-1487971800@topteamimc.com
SUMMARY:【活動紀錄】國際璀璨皇后全球總決賽
DESCRIPTION:國際璀璨皇后全球總決賽 \n 【支援項目】 \n\n\n	【出租 / 搭設】200吋投影布幕\n查看內容	\n			\n\n\n	【出租 / 搭設】走道延伸舞台\n查看內容	\n			\n\n\n	【出租 / 組裝】樂團表演專用《監聽耳機》\n查看內容	\n			\n\n\n	【出租 / 載運】進場焦點效果《舞台追蹤燈》\n查看內容	\n			\n\n\n	【出租 / 運送】外場表演專用《Roland KC-550電子琴音箱》\n查看內容	\n			\n\n\n	【出租 / 運送】活動歌唱 & 主持用《無線麥克風套組》\n查看內容	\n			\n\n\n	【出租 / 配套】場地染色效果《染色燈光組》\n查看內容	\n			\n\n\n	【出租 / 鋪設】舞台面 / 走道 《紅色地毯》\n查看內容	\n			\n\n\n	【出租】照明地燈 / 背板補光用燈光設備\n查看內容	\n			\n\n\n	【搭設】場地布置用《Truss圍欄》\n查看內容	\n			\n\n\n	【搭設】大型活動用《天口字Truss》\n查看內容	\n			\n\n\n	【搭設】廣告看板 / 活動主題背板《口字型Truss》\n查看內容	\n			\n\n\n	【配套】外場區域專用《15吋喇叭》\n查看內容	\n			\n\n\n	【配套】舞台表演效果《六頭光束電腦燈》\n查看內容	\n			\n\n\n	【配套】雙18吋重低音喇叭\n查看內容	\n			\n\n\n \n 【圖片】
URL:https://topteamimc.com/event/2017-02-24/
LOCATION:葳格國際會議中心\, 北屯區軍福十八路328號\, 台中市\, 台灣
ATTACH;FMTTYPE=image/jpeg:https://topteamimc.com/wp-content/uploads/2016/11/選美活動-燈光音響-76.jpg
END:VEVENT
BEGIN:VEVENT
DTSTART;TZID=Asia/Taipei:20170218T090000
DTEND;TZID=Asia/Taipei:20170218T170000
DTSTAMP:20260425T031707
CREATED:20170217T093515Z
LAST-MODIFIED:20170217T111220Z
UID:4800-1487408400-1487437200@topteamimc.com
SUMMARY:【燈光音響活動紀錄】西屯區公所《全國客家日樂活西屯慶天穿》
DESCRIPTION:全國客家日樂活西屯慶 \n 【支援項目】 \n \n 【圖片】
URL:https://topteamimc.com/event/2017-02-17/
LOCATION:西屯區公所\, 西屯區市政北二路386號\, 台中市
CATEGORIES:節日活動
ATTACH;FMTTYPE=image/jpeg:https://topteamimc.com/wp-content/uploads/2017/02/燈光音響.jpg
END:VEVENT
BEGIN:VEVENT
DTSTART;TZID=Asia/Taipei:20170209T120000
DTEND;TZID=Asia/Taipei:20170209T150000
DTSTAMP:20260425T031707
CREATED:20170209T111745Z
LAST-MODIFIED:20200224T011431Z
UID:4778-1486641600-1486652400@topteamimc.com
SUMMARY:【活動紀錄】2017巨晴團圓宴
DESCRIPTION:2017巨晴團圓宴活動 \n 【支援項目】 \n\n\n	【出租 / 搭設】照明 / 背板打光《基本燈光組》\n查看內容	\n			\n\n\n	【出租】照明地燈 / 背板補光用燈光設備\n查看內容	\n			\n\n\n	【搭設】廣告看板 / 活動主題背板《口字型Truss》\n查看內容	\n			\n\n\n	【製作 / 施工】珍珠背板\n查看內容	\n			\n\n\n \n 【圖片】
URL:https://topteamimc.com/event/2017-02-09/
LOCATION:葳格國際會議中心\, 北屯區軍福十八路328號\, 台中市\, 台灣
CATEGORIES:尾牙活動
ATTACH;FMTTYPE=image/jpeg:https://topteamimc.com/wp-content/uploads/2017/02/巨晴團圓宴-主題背板搭設-10.jpg
END:VEVENT
BEGIN:VEVENT
DTSTART;TZID=Asia/Taipei:20170116T080000
DTEND;TZID=Asia/Taipei:20170116T210000
DTSTAMP:20260425T031707
CREATED:20170117T092627Z
LAST-MODIFIED:20200222T004513Z
UID:4650-1484553600-1484600400@topteamimc.com
SUMMARY:【活動紀錄】愛爾康Alcon尾牙活動
DESCRIPTION:愛爾康Alcon尾牙活動 \n 【支援項目】 \n\n\n	【出租 / 搭設】180吋投影布幕\n查看內容	\n			\n\n\n	【出租 / 搭設】200吋投影布幕\n查看內容	\n			\n\n\n	【出租 / 搭設】42吋液晶電視\n查看內容	\n			\n\n\n	【出租 / 搭設】器材支撐架《I字Truss》\n查看內容	\n			\n\n\n	【出租 / 載運】Truss壓克力講桌\n查看內容	\n			\n\n\n	【出租 / 載運】進場焦點效果《舞台追蹤燈》\n查看內容	\n			\n\n\n	【出租 / 配套】場地染色效果《染色燈光組》\n查看內容	\n			\n\n\n	【出租 / 配電】展場夾燈\n查看內容	\n			\n\n\n	【出租】10000流明投影機\n查看內容	\n			\n\n\n	【出租】喇叭訊號線 / 電源線 / 排插 / 樂器導線 / DIBox 《各類音響線材》\n查看內容	\n			\n\n\n	【出租】控場聯絡專用《無線對講機》\n查看內容	\n			\n\n\n	【出租】照明地燈 / 背板補光用燈光設備\n查看內容	\n			\n\n\n	【搭設】主題背板 / 照相背板《ㄇ字型Truss》\n查看內容	\n			\n\n\n	【製作 / 施工】珍珠背板\n查看內容	\n			\n\n\n	【配套】LOGO宣傳效果《圖案電腦燈》\n查看內容	\n			\n\n\n	【配套】外場區域專用《15吋喇叭》\n查看內容	\n			\n\n\n	【配套】多人樂團收音用《ShotGun廣角收音麥》\n查看內容	\n			\n\n\n	【配套】戶外高空效果《光束電腦燈》\n查看內容	\n			\n\n\n	【配套】舞台表演效果《六頭光束電腦燈》\n查看內容	\n			\n\n\n \n 【圖片】
URL:https://topteamimc.com/event/2017-01-16/
LOCATION:長榮鳳凰酒店\, 礁溪鄉健康路77號\, 宜蘭縣\, 台灣
CATEGORIES:尾牙活動
ATTACH;FMTTYPE=image/jpeg:https://topteamimc.com/wp-content/uploads/2017/01/愛爾康Alcon-尾牙活動-1.jpg
END:VEVENT
BEGIN:VEVENT
DTSTART;TZID=Asia/Taipei:20170115T080000
DTEND;TZID=Asia/Taipei:20170115T143000
DTSTAMP:20260425T031707
CREATED:20170122T024531Z
LAST-MODIFIED:20200221T013507Z
UID:4689-1484467200-1484490600@topteamimc.com
SUMMARY:【燈光音響活動紀錄】1月15日婚宴活動
DESCRIPTION:1月15日婚宴活動 \n 【支援項目】 \n\n\n	【出租 / 鋪設】舞台面 / 走道 《紅色地毯》\n查看內容	\n			\n\n\n	【搭設】主題背板 / 照相背板《ㄇ字型Truss》\n查看內容	\n			\n\n\n	【搭設】標準舞台（含主舞台、舞台腳圍布、舞台面地毯、兩側舞台樓梯）\n查看內容	\n			\n\n\n	【配套】Bose802喇叭\n查看內容	\n			\n\n\n \n 【圖片】
URL:https://topteamimc.com/event/2017-01-15/
CATEGORIES:婚宴活動
ATTACH;FMTTYPE=image/jpeg:https://topteamimc.com/wp-content/uploads/2016/11/1月15日婚宴活動-31.jpg
END:VEVENT
BEGIN:VEVENT
DTSTART;TZID=Asia/Taipei:20170108T080000
DTEND;TZID=Asia/Taipei:20170111T170000
DTSTAMP:20260425T031707
CREATED:20161229T125213Z
LAST-MODIFIED:20200224T005848Z
UID:4617-1483862400-1484154000@topteamimc.com
SUMMARY:【活動紀錄】達新2017年度回饋特賣活動
DESCRIPTION:達新工業《2017年度回饋特賣活動》 \n 【支援項目】 \n\n\n	【出租 / 搭設】簡易燈光音響組\n查看內容	\n			\n\n\n	【出租 / 運送】活動歌唱 & 主持用《無線麥克風套組》\n查看內容	\n			\n\n\n	【搭設】主題背板 / 照相背板《ㄇ字型Truss》\n查看內容	\n			\n\n\n	【搭設】廣告看板 / 活動主題背板《口字型Truss》\n查看內容	\n			\n\n\n	【配套】Bose802喇叭\n查看內容	\n			\n\n\n	【配套】外場區域專用《15吋喇叭》\n查看內容	\n			\n\n\n \n 【圖片】
URL:https://topteamimc.com/event/2017-01-08/
LOCATION:達新工業\, 西屯區工業區三十五路51號\, 台中市
CATEGORIES:特賣活動
ATTACH;FMTTYPE=image/jpeg:https://topteamimc.com/wp-content/uploads/2016/12/達新工業年度回饋特賣活動-4.jpg
END:VEVENT
BEGIN:VEVENT
DTSTART;TZID=Asia/Taipei:20170103T100000
DTEND;TZID=Asia/Taipei:20170103T120000
DTSTAMP:20260425T031707
CREATED:20170103T140034Z
LAST-MODIFIED:20200220T131230Z
UID:4631-1483437600-1483444800@topteamimc.com
SUMMARY:【活動紀錄】南丁格爾護理之家開幕典禮
DESCRIPTION:南丁格爾護理之家開幕典禮 \n 【支援項目】 \n\n\n	【出租 / 搭設】歐式帳篷\n查看內容	\n			\n\n\n	【出租 / 載運】黑色摺疊椅\n查看內容	\n			\n\n\n	【出租】開幕剪綵用器材《金剪刀 / 手套 / 綵球 / 托盤》\n查看內容	\n			\n\n\n	【搭設】主題背板 / 照相背板《ㄇ字型Truss》\n查看內容	\n			\n\n\n	【搭設】標準舞台（含主舞台、舞台腳圍布、舞台面地毯、兩側舞台樓梯）\n查看內容	\n			\n\n\n	【配套】外場區域專用《15吋喇叭》\n查看內容	\n			\n\n\n \n 【圖片 & 活動連結】
URL:https://topteamimc.com/event/2017-01-03/
LOCATION:南丁格爾護理之家\, 烏日區大同九街38號\, 台中市烏日區大同九街38號\, 台灣
CATEGORIES:開幕活動
ATTACH;FMTTYPE=image/jpeg:https://topteamimc.com/wp-content/uploads/2017/01/南丁格爾音響-57.jpg
END:VEVENT
BEGIN:VEVENT
DTSTART;TZID=Asia/Taipei:20161231T190000
DTEND;TZID=Asia/Taipei:20170101T010000
DTSTAMP:20260425T031707
CREATED:20170102T064122Z
LAST-MODIFIED:20200222T002948Z
UID:4625-1483210800-1483232400@topteamimc.com
SUMMARY:【活動紀錄】2016望高寮跨年活動
DESCRIPTION:2016望高寮跨年活動 \n 【支援項目】 \n\n\n	【出租 / 搭設】燈光Truss套組\n查看內容	\n			\n\n\n	【出租 / 搭設】簡易燈光音響組\n查看內容	\n			\n\n\n	【出租】舞台表演效果《噴霧機》\n查看內容	\n			\n\n\n	【搭設】主題背板 / 照相背板《ㄇ字型Truss》\n查看內容	\n			\n\n\n	【配套】戶外高空效果《光束電腦燈》\n查看內容	\n			\n\n\n \n 【圖片 & 活動連結】
URL:https://topteamimc.com/event/2016-12-31/
LOCATION:望高寮莊園\, 南屯區中台路398號\, 台中市\, 台灣
CATEGORIES:節日活動
ATTACH;FMTTYPE=image/jpeg:https://topteamimc.com/wp-content/uploads/2017/01/望高寮跨年活動-16.jpg
END:VEVENT
BEGIN:VEVENT
DTSTART;VALUE=DATE:20161230
DTEND;VALUE=DATE:20170109
DTSTAMP:20260425T031707
CREATED:20161229T124317Z
LAST-MODIFIED:20200222T005544Z
UID:4612-1483056000-1483919999@topteamimc.com
SUMMARY:【活動紀錄】勤益柒度向限畢業展
DESCRIPTION:勤益科大文創系【柒度向限】畢業展 \n 【支援項目】 \n\n\n	【出租 / 配電】展場夾燈\n查看內容	\n			\n\n\n	【出租】喇叭訊號線 / 電源線 / 排插 / 樂器導線 / DIBox 《各類音響線材》\n查看內容	\n			\n\n\n \n 【圖片】
URL:https://topteamimc.com/event/2016-12-28/
CATEGORIES:學校活動,展覽活動
ATTACH;FMTTYPE=image/jpeg:https://topteamimc.com/wp-content/uploads/2016/12/勤益科大文創園區活動-24.jpg
END:VEVENT
BEGIN:VEVENT
DTSTART;VALUE=DATE:20161230
DTEND;VALUE=DATE:20161231
DTSTAMP:20260425T031707
CREATED:20161231T105423Z
LAST-MODIFIED:20200316T105609Z
UID:7491-1483056000-1483142399@topteamimc.com
SUMMARY:【活動紀錄】全國花園鄉村俱樂部 泳池跨年婚禮派對
DESCRIPTION:全國花園鄉村俱樂部  \n泳池跨年婚禮派對 \n 【器材項目】 \n\n\n	【出租 / 搭設】6米宮廷帳\n查看內容	\n			\n\n\n	【出租 / 搭設】照明 / 背板打光《基本燈光組》\n查看內容	\n			\n\n\n	【出租 / 搭設】簡易燈光音響組\n查看內容	\n			\n\n\n \n 【圖片 & 活動照片連結】
URL:https://topteamimc.com/event/2016-12-31-2/
LOCATION:全國花園鄉村俱樂部\, 苑裡鎮358
CATEGORIES:婚宴活動
ATTACH;FMTTYPE=image/jpeg:https://topteamimc.com/wp-content/uploads/2020/03/全國花園鄉村俱樂部-跨年草地婚禮派對-宮廷帳-燈光-簡易音響套組-出租搭設.jpg
END:VEVENT
BEGIN:VEVENT
DTSTART;TZID=Asia/Taipei:20161223T150000
DTEND;TZID=Asia/Taipei:20161224T200000
DTSTAMP:20260425T031707
CREATED:20161225T015121Z
LAST-MODIFIED:20200222T005206Z
UID:4598-1482505200-1482609600@topteamimc.com
SUMMARY:【活動紀錄】屯區藝文中心《咘鈴咘鈴的奇拉聖誕節音樂會》
DESCRIPTION:咘鈴咘鈴的奇拉聖誕節音樂會 \n 【支援項目】 \n\n\n	【出租 / 搭設】歐式帳篷\n查看內容	\n			\n\n\n	【出租 / 配套】場地染色效果《染色燈光組》\n查看內容	\n			\n\n\n	【出租】照明地燈 / 背板補光用燈光設備\n查看內容	\n			\n\n\n	【出租】麥克風架\n查看內容	\n			\n\n\n	【配套】外場區域專用《15吋喇叭》\n查看內容	\n			\n\n\n	【配套】多人樂團收音用《ShotGun廣角收音麥》\n查看內容	\n			\n\n\n \n 【圖片 & 活動連結】
URL:https://topteamimc.com/event/2016-12-24/
LOCATION:屯區藝文中心\, 太平區大興路201號\, 台中市\, 台灣
CATEGORIES:節日活動
ATTACH;FMTTYPE=image/jpeg:https://topteamimc.com/wp-content/uploads/2016/12/屯區藝文中心聖誕音樂會-31.jpg
END:VEVENT
BEGIN:VEVENT
DTSTART;VALUE=DATE:20161218
DTEND;VALUE=DATE:20161219
DTSTAMP:20260425T031707
CREATED:20200412T024544Z
LAST-MODIFIED:20200412T024544Z
UID:7622-1482019200-1482105599@topteamimc.com
SUMMARY:【活動紀錄】賀伯特管理學院&戴尼提豐原中心 開幕活動
DESCRIPTION:賀伯特管理學院-戴尼提豐原中心 \n開幕典禮-雙喜喬遷 \n 【器材項目】 \n\n\n	【出租 / 載運】紅色塑膠椅評分 5.00 滿分 5\n查看內容	\n			\n\n\n	【出租 / 載運】黑色摺疊椅\n查看內容	\n			\n\n\n	【出租】開幕剪綵用器材《金剪刀 / 手套 / 綵球 / 托盤》\n查看內容	\n			\n\n\n	【搭設】廣告看板 / 活動主題背板《口字型Truss》\n查看內容	\n			\n\n\n	【搭設】揭幕綵球用《Γ型Truss》\n查看內容	\n			\n\n\n	【搭設】標準舞台（含主舞台、舞台腳圍布、舞台面地毯、兩側舞台樓梯）\n查看內容	\n			\n\n\n \n 【圖片 & 活動照片連結】
URL:https://topteamimc.com/event/2016-12-18/
LOCATION:賀伯特管理學院-戴尼提豐原中心\, 北屯區文心路四段875號4樓
CATEGORIES:開幕活動
ATTACH;FMTTYPE=image/jpeg:https://topteamimc.com/wp-content/uploads/2017/11/赫伯特管理學院戴尼提豐原中心宣傳活動-揭幕綵球Truss-製作出租-3.jpg
END:VEVENT
BEGIN:VEVENT
DTSTART;VALUE=DATE:20161217
DTEND;VALUE=DATE:20161219
DTSTAMP:20260425T031707
CREATED:20161215T141600Z
LAST-MODIFIED:20200220T090456Z
UID:4571-1481932800-1482105599@topteamimc.com
SUMMARY:【活動紀錄】2016 Super V Grand Final 國際飛鏢總決賽
DESCRIPTION:2016 Super V Grand Final 國際飛鏢總決賽 \n 【支援項目】 \n\n\n	【出租 / 搭設】200吋投影布幕\n查看內容	\n			\n\n\n	【出租 / 搭設】55吋液晶電視\n查看內容	\n			\n\n\n	【出租 / 運送】舞台紅龍伸縮圍欄\n查看內容	\n			\n\n\n	【出租 / 鋪設】舞台面 / 走道 《紅色地毯》\n查看內容	\n			\n\n\n	【出租】10000流明投影機\n查看內容	\n			\n\n\n	【出租】舞台表演效果《噴霧機》\n查看內容	\n			\n\n\n	【搭設】主題背板 / 照相背板《ㄇ字型Truss》\n查看內容	\n			\n\n\n	【搭設】大型活動用《天口字Truss》\n查看內容	\n			\n\n\n	【搭設】展板隔間\n查看內容	\n			\n\n\n	【搭設】標準舞台（含主舞台、舞台腳圍布、舞台面地毯、兩側舞台樓梯）\n查看內容	\n			\n\n\n	【配套】外場區域專用《15吋喇叭》\n查看內容	\n			\n\n\n	【配套】戶外高空效果《光束電腦燈》\n查看內容	\n			\n\n\n	【配套】舞台表演效果《六頭光束電腦燈》\n查看內容	\n			\n\n\n	【配套】雙18吋重低音喇叭\n查看內容	\n			\n\n\n \n 【圖片 & 活動連結】
URL:https://topteamimc.com/event/2016-12-17/
LOCATION:台中世貿中心二館\, 西屯區天保街60號\, 台中市\, 台灣
CATEGORIES:宣傳活動
END:VEVENT
BEGIN:VEVENT
DTSTART;VALUE=DATE:20161217
DTEND;VALUE=DATE:20161218
DTSTAMP:20260425T031707
CREATED:20200310T075033Z
LAST-MODIFIED:20200310T075102Z
UID:7372-1481932800-1482019199@topteamimc.com
SUMMARY:【活動紀錄】宜寧中學 105學年校慶園遊會
DESCRIPTION:宜寧中學 105學年校慶園遊會 \n 【器材項目】 \n\n\n	【出租 / 搭設】活動鷹架\n查看內容	\n			\n\n\n	【搭設】主題背板 / 照相背板《ㄇ字型Truss》\n查看內容	\n			\n\n\n	【搭設】標準舞台（含主舞台、舞台腳圍布、舞台面地毯、兩側舞台樓梯）\n查看內容	\n			\n\n\n \n 【圖片 & 活動照片連結】
URL:https://topteamimc.com/event/2016-12-17-2/
LOCATION:宜寧中學新學區\, 西屯區東大路一段555號
CATEGORIES:學校活動
ATTACH;FMTTYPE=image/jpeg:https://topteamimc.com/wp-content/uploads/2016/11/IMG_7716.jpg
END:VEVENT
BEGIN:VEVENT
DTSTART;TZID=Asia/Taipei:20161210T080000
DTEND;TZID=Asia/Taipei:20161210T130000
DTSTAMP:20260425T031707
CREATED:20161210T092325Z
LAST-MODIFIED:20200221T014216Z
UID:4534-1481356800-1481374800@topteamimc.com
SUMMARY:【活動紀錄】台中市參與式預算成果發表會
DESCRIPTION:台中市參與式預算成果發表會 \n 【支援項目】 \n\n\n	【出租 / 搭設】180吋投影布幕\n查看內容	\n			\n\n\n	【出租 / 搭設】5000流明投影機\n查看內容	\n			\n\n\n	【出租 / 搭設】照明 / 背板打光《基本燈光組》\n查看內容	\n			\n\n\n	【出租 / 載運】Truss壓克力講桌\n查看內容	\n			\n\n\n	【出租 / 載運】手搖式燈架 / 喇叭架\n查看內容	\n			\n\n\n	【出租 / 運送】活動歌唱 & 主持用《無線麥克風套組》\n查看內容	\n			\n\n\n	【搭設】主題背板 / 照相背板《ㄇ字型Truss》\n查看內容	\n			\n\n\n	【配套】外場區域專用《15吋喇叭》\n查看內容	\n			\n\n\n \n 【圖片 & 活動連結】
URL:https://topteamimc.com/event/2016-12-10/
LOCATION:陽明大樓\, 豐原區陽明街36號\, 台中市\, 台灣
CATEGORIES:宣傳活動
ATTACH;FMTTYPE=image/jpeg:https://topteamimc.com/wp-content/uploads/2016/12/IMG_7627.jpg
END:VEVENT
BEGIN:VEVENT
DTSTART;TZID=Asia/Taipei:20161201T120000
DTEND;TZID=Asia/Taipei:20161203T170000
DTSTAMP:20260425T031707
CREATED:20161201T074737Z
LAST-MODIFIED:20200223T010021Z
UID:4508-1480593600-1480784400@topteamimc.com
SUMMARY:【活動紀錄】2016 TISCA國際烘豆邀請賽暨GCEF論壇活動
DESCRIPTION:2016TISCA國際烘豆邀請賽暨GCEF論壇活動 \n 【支援項目】 \n\n\n	【出租 / 搭設】42吋液晶電視\n查看內容	\n			\n\n\n	【出租 / 搭設】55吋液晶電視\n查看內容	\n			\n\n\n	【出租 / 搭設】器材支撐架《I字Truss》\n查看內容	\n			\n\n\n	【出租 / 載運】手搖式燈架 / 喇叭架\n查看內容	\n			\n\n\n	【出租】爵士鼓專用收音麥克風\n查看內容	\n			\n\n\n	【搭設】主題背板 / 照相背板《ㄇ字型Truss》\n查看內容	\n			\n\n\n	【搭設】展板隔間\n查看內容	\n			\n\n\n	【配套】外場區域專用《15吋喇叭》\n查看內容	\n			\n\n\n \n 【圖片】
URL:https://topteamimc.com/event/2016-12-03/
LOCATION:黎明新村\, 南屯區黎明路2段\, 台中市\, 台灣
CATEGORIES:宣傳活動,展覽活動
ATTACH;FMTTYPE=image/jpeg:https://topteamimc.com/wp-content/uploads/2016/12/黎明咖啡-2.jpg
END:VEVENT
BEGIN:VEVENT
DTSTART;TZID=Asia/Taipei:20161116T063000
DTEND;TZID=Asia/Taipei:20161116T220000
DTSTAMP:20260425T031707
CREATED:20161130T105724Z
LAST-MODIFIED:20200222T011518Z
UID:4489-1479277800-1479333600@topteamimc.com
SUMMARY:【活動紀錄】明道大學《2016Ducati重機改裝特展活動》
DESCRIPTION:2016Ducati 重機改裝特展活動 \n 【支援項目】 \n\n\n	【出租 / 搭設】歐式帳篷\n查看內容	\n			\n\n\n	【出租 / 載運】大摺疊會議桌\n查看內容	\n			\n\n\n	【出租 / 載運】手搖式燈架 / 喇叭架\n查看內容	\n			\n\n\n	【出租 / 載運】黑色摺疊椅\n查看內容	\n			\n\n\n	【出租 / 運送】活動歌唱 & 主持用《無線麥克風套組》\n查看內容	\n			\n\n\n	【出租 / 配套】場地染色效果《染色燈光組》\n查看內容	\n			\n\n\n	【出租 / 鋪設】舞台面 / 走道 《紅色地毯》\n查看內容	\n			\n\n\n	【出租 / 鋪設】鼠灰色地毯\n查看內容	\n			\n\n\n	【搭設】主題背板 / 照相背板《ㄇ字型Truss》\n查看內容	\n			\n\n\n	【配套】外場區域專用《15吋喇叭》\n查看內容	\n			\n\n\n	【配套】戶外高空效果《光束電腦燈》\n查看內容	\n			\n\n\n \n 【圖片 & 活動連結】
URL:https://topteamimc.com/event/2016-11-16/
CATEGORIES:展覽活動
ATTACH;FMTTYPE=image/jpeg:https://topteamimc.com/wp-content/uploads/2016/11/明道大學-Ducati重機改裝特展-248.jpg
END:VEVENT
BEGIN:VEVENT
DTSTART;TZID=Asia/Taipei:20161112T130000
DTEND;TZID=Asia/Taipei:20161112T170000
DTSTAMP:20260425T031707
CREATED:20161130T134428Z
LAST-MODIFIED:20200223T005210Z
UID:4506-1478955600-1478970000@topteamimc.com
SUMMARY:【活動紀錄】兒童福利聯盟文教基金會《暨收出養宣導園遊會》
DESCRIPTION:兒童福利聯盟文教基金會  \n暨收出養宣導園遊會 \n 【支援項目】 \n\n\n	【出租 / 搭設】Welcome充氣拱門\n查看內容	\n			\n\n\n	【出租 / 搭設】接龍帳\n查看內容	\n			\n\n\n	【出租 / 搭設】歐式帳篷\n查看內容	\n			\n\n\n	【出租 / 載運】基本型發電機\n查看內容	\n			\n\n\n	【出租 / 載運】大摺疊會議桌\n查看內容	\n			\n\n\n	【出租 / 載運】手搖式燈架 / 喇叭架\n查看內容	\n			\n\n\n	【出租 / 載運】紅色塑膠椅評分 5.00 滿分 5\n查看內容	\n			\n\n\n	【出租 / 運送】活動歌唱 & 主持用《無線麥克風套組》\n查看內容	\n			\n\n\n	【出租】壓重沙包\n查看內容	\n			\n\n\n	【搭設】主題背板 / 照相背板《ㄇ字型Truss》\n查看內容	\n			\n\n\n	【搭設】標準舞台（含主舞台、舞台腳圍布、舞台面地毯、兩側舞台樓梯）\n查看內容	\n			\n\n\n	【配套】外場區域專用《15吋喇叭》\n查看內容	\n			\n\n\n \n 【圖片】 \n \n 
URL:https://topteamimc.com/event/2016-11-12/
LOCATION:中興大學草地\, 南區興大路145號\, 台中市\, 台灣
CATEGORIES:宣傳活動
ATTACH;FMTTYPE=image/jpeg:https://topteamimc.com/wp-content/uploads/2016/11/兒童福利聯盟文教基金會-暨收出養宣導園遊會-主題背板Truss搭設.jpg
END:VEVENT
BEGIN:VEVENT
DTSTART;TZID=Asia/Taipei:20161105T150000
DTEND;TZID=Asia/Taipei:20161105T190000
DTSTAMP:20260425T031707
CREATED:20161202T113741Z
LAST-MODIFIED:20200312T033329Z
UID:4514-1478358000-1478372400@topteamimc.com
SUMMARY:【活動紀錄】職場進擊圓夢飛行活動
DESCRIPTION:職場進擊圓夢飛行活動 \n 【支援項目】 \n\n\n	【出租 / 搭設】55吋液晶電視\n查看內容	\n			\n\n\n	【出租 / 搭設】器材支撐架《I字Truss》\n查看內容	\n			\n\n\n	【出租 / 搭設】歐式帳篷\n查看內容	\n			\n\n\n	【出租 / 載運】手搖式燈架 / 喇叭架\n查看內容	\n			\n\n\n	【出租 / 運送】活動歌唱 & 主持用《無線麥克風套組》\n查看內容	\n			\n\n\n	【出租 / 運送】貴賓椅\n查看內容	\n			\n\n\n	【出租 / 運送】關東旗\n查看內容	\n			\n\n\n	【出租 / 鋪設】舞台面 / 走道 《紅色地毯》\n查看內容	\n			\n\n\n	【出租】彩帶噴筒\n查看內容	\n			\n\n\n	【搭設】主題背板 / 照相背板《ㄇ字型Truss》\n查看內容	\n			\n\n\n	【搭設】標準舞台（含主舞台、舞台腳圍布、舞台面地毯、兩側舞台樓梯）\n查看內容	\n			\n\n\n	【配套】外場區域專用《15吋喇叭》\n查看內容	\n			\n\n\n \n 【圖片 & 活動連結】
URL:https://topteamimc.com/event/2016-11-05/
LOCATION:勤美草悟道\, 西區公益路68號\, 台中市
CATEGORIES:宣傳活動,展覽活動
ATTACH;FMTTYPE=image/jpeg:https://topteamimc.com/wp-content/uploads/2016/12/truss.jpg
END:VEVENT
END:VCALENDAR