BEGIN:VCALENDAR
VERSION:2.0
PRODID:-//台中頂尖整合行銷-音樂教室.樂器.燈光音響.出租 - ECPv6.15.20//NONSGML v1.0//EN
CALSCALE:GREGORIAN
METHOD:PUBLISH
X-WR-CALNAME:台中頂尖整合行銷-音樂教室.樂器.燈光音響.出租
X-ORIGINAL-URL:https://topteamimc.com
X-WR-CALDESC:Events for 台中頂尖整合行銷-音樂教室.樂器.燈光音響.出租
REFRESH-INTERVAL;VALUE=DURATION:PT1H
X-Robots-Tag:noindex
X-PUBLISHED-TTL:PT1H
BEGIN:VTIMEZONE
TZID:Asia/Taipei
BEGIN:STANDARD
TZOFFSETFROM:+0800
TZOFFSETTO:+0800
TZNAME:CST
DTSTART:20190101T000000
END:STANDARD
END:VTIMEZONE
BEGIN:VEVENT
DTSTART;TZID=Asia/Taipei:20210115T180000
DTEND;TZID=Asia/Taipei:20210115T210000
DTSTAMP:20260424T060223
CREATED:20210121T082626Z
LAST-MODIFIED:20210121T082918Z
UID:8333-1610733600-1610744400@topteamimc.com
SUMMARY:【活動紀錄】可妮絲尾牙盛宴
DESCRIPTION:可妮絲尾牙盛宴 \n 【器材項目】 \n\n\n	【出租 / 載運】進場焦點效果《舞台追蹤燈》\n查看內容	\n			\n\n\n	【出租 / 運送】舞台紅龍伸縮圍欄\n查看內容	\n			\n\n\n	【出租 / 配套】瞬間爆點效果《CO2噴筒》\n查看內容	\n			\n\n\n	【出租】舞台表演效果《噴霧機》\n查看內容	\n			\n\n\n	【搭設】主題背板 / 照相背板《ㄇ字型Truss》\n查看內容	\n			\n\n\n	【配套】戶外高空效果《光束電腦燈》\n查看內容	\n			\n\n\n \n 【活動圖片連結】
URL:https://topteamimc.com/event/2021-01-15/
LOCATION:葳格國際會議中心\, 北屯區軍福十八路328號\, 台中市\, 台灣
CATEGORIES:公司活動,尾牙活動
ATTACH;FMTTYPE=image/jpeg:https://topteamimc.com/wp-content/uploads/2021/01/可妮絲尾牙活動-主題背板truss-CO2噴桶-追蹤燈-出租運送-3.jpg
END:VEVENT
BEGIN:VEVENT
DTSTART;TZID=Asia/Taipei:20210111T183000
DTEND;TZID=Asia/Taipei:20210111T223000
DTSTAMP:20260424T060223
CREATED:20210113T085029Z
LAST-MODIFIED:20210113T085225Z
UID:8305-1610389800-1610404200@topteamimc.com
SUMMARY:【活動紀錄】十全賽車 新總部開幕活動
DESCRIPTION:十全賽車  \n新總部開幕活動 \n 【器材項目】 \n\n\n	【出租 / 搭設】6米宮廷帳\n查看內容	\n			\n\n\n	【出租 / 載運】大摺疊會議桌\n查看內容	\n			\n\n\n	【出租 / 運送】白色塑膠圓桌\n查看內容	\n			\n\n\n	【出租 / 運送】貴賓椅\n查看內容	\n			\n\n\n	【出租】帳篷吊燈\n查看內容	\n			\n\n\n	【出租】帳篷圍布\n查看內容	\n			\n\n\n	【出租】酒紅色桌巾\n查看內容	\n			\n\n\n	【出租】香檳金桌巾\n查看內容	\n			\n\n\n \n 【圖片連結】
URL:https://topteamimc.com/event/2021-01-11/
LOCATION:十全賽車有限公司\, 北屯區環中東路二段619號
CATEGORIES:開幕活動,餐會活動
ATTACH;FMTTYPE=image/jpeg:https://topteamimc.com/wp-content/uploads/2018/05/十全賽車-開幕餐會-白色宮廷帳-擋風用帳篷圍布-出租搭設-2.jpg
END:VEVENT
BEGIN:VEVENT
DTSTART;VALUE=DATE:20201223
DTEND;VALUE=DATE:20201229
DTSTAMP:20260424T060223
CREATED:20201227T030908Z
LAST-MODIFIED:20201227T030908Z
UID:8295-1608681600-1609199999@topteamimc.com
SUMMARY:【活動紀錄】苗準青動栗耶誕市集
DESCRIPTION:苗準青動栗 耶誕市集  \n 【器材項目】 \n\n\n	【出租 / 搭設】3米快速帳\n查看內容	\n			\n\n\n	【出租 / 搭設】LED裝飾串燈\n查看內容	\n			\n\n\n	【出租 / 載運】大摺疊會議桌\n查看內容	\n			\n\n\n	【出租 / 載運】紅色塑膠椅評分 5.00 滿分 5\n查看內容	\n			\n\n\n	【出租 / 運送】交通錐組\n查看內容	\n			\n\n\n	【出租 / 運送】舞台紅龍伸縮圍欄\n查看內容	\n			\n\n\n	【出租】LED警示燈\n查看內容	\n			\n\n\n	【出租】帳篷吊燈\n查看內容	\n			\n\n\n	【出租】帳篷圍布\n查看內容	\n			\n\n\n \n 【圖片連結】
URL:https://topteamimc.com/event/2020-12-25/
LOCATION:苗栗縣政府\, 苗栗縣府路100號
CATEGORIES:市集活動,節日活動
ATTACH;FMTTYPE=image/jpeg:https://topteamimc.com/wp-content/uploads/2020/09/苗栗縣政府-聖誕市集活動-出租運送-5.jpg
END:VEVENT
BEGIN:VEVENT
DTSTART;VALUE=DATE:20201218
DTEND;VALUE=DATE:20201219
DTSTAMP:20260424T060223
CREATED:20210401T081152Z
LAST-MODIFIED:20210401T092848Z
UID:8404-1608249600-1608335999@topteamimc.com
SUMMARY:【活動紀錄】周記園藝 庭園婚宴
DESCRIPTION:周記園藝 庭園婚宴 \n 【器材項目】 \n\n\n	【出租 / 搭設】LED裝飾串燈\n查看內容	\n			\n\n\n	【出租 / 搭設】器材支撐架《I字Truss》\n查看內容	\n			\n\n\n	【出租 / 搭設】照明 / 背板打光《基本燈光組》\n查看內容	\n			\n\n\n	【出租】10000流明投影機\n查看內容	\n			\n\n\n	【出租】150吋手拉式投影布幕\n查看內容	\n			\n\n\n	【搭設】標準舞台（含主舞台、舞台腳圍布、舞台面地毯、兩側舞台樓梯）\n查看內容	\n			\n\n\n \n 【活動圖片】
URL:https://topteamimc.com/event/2020-12-18/
LOCATION:周記園藝\, 田尾鄉民生路二段195號
CATEGORIES:婚宴活動
ATTACH;FMTTYPE=image/jpeg:https://topteamimc.com/wp-content/uploads/2021/04/周記園藝-婚宴活動-場地佈置串燈-標準舞台-Truss支撐架-投影機-投影布幕-LED照明燈-出租搭設-13.jpg
END:VEVENT
BEGIN:VEVENT
DTSTART;VALUE=DATE:20201208
DTEND;VALUE=DATE:20201209
DTSTAMP:20260424T060223
CREATED:20201210T010727Z
LAST-MODIFIED:20201210T010727Z
UID:8269-1607385600-1607471999@topteamimc.com
SUMMARY:【器材紀錄】台鐵新烏日車站 會議活動
DESCRIPTION:台鐵新烏日車站  \n會議活動 \n 【器材項目】 \n\n\n	【出租 / 搭設】器材支撐架《I字Truss》\n查看內容	\n			\n\n\n	【出租 / 載運】Truss壓克力講桌\n查看內容	\n			\n\n\n	【出租】10000流明投影機\n查看內容	\n			\n\n\n	【出租】150吋手拉式投影布幕\n查看內容	\n			\n\n\n	【搭設】主題背板 / 照相背板《ㄇ字型Truss》\n查看內容	\n			\n\n\n	【搭設】場地布置用《Truss圍欄》\n查看內容	\n			\n\n\n \n 【圖片連結】
URL:https://topteamimc.com/event/2020-12-08/
LOCATION:新烏日車站\, 烏日區三和里高鐵東一路26 號
CATEGORIES:公司活動
ATTACH;FMTTYPE=image/jpeg:https://topteamimc.com/wp-content/uploads/2016/12/八卦山隧道防評演習-投影機-投影機架-truss投影布幕框架-Truss護欄-壓克力講桌-出租運送-21.jpg
END:VEVENT
BEGIN:VEVENT
DTSTART;TZID=Asia/Taipei:20201205T100000
DTEND;TZID=Asia/Taipei:20201205T150000
DTSTAMP:20260424T060223
CREATED:20201206T042746Z
LAST-MODIFIED:20201206T042746Z
UID:8255-1607162400-1607180400@topteamimc.com
SUMMARY:【活動紀錄】持法媽祖宮 12月5日婚禮午宴
DESCRIPTION:持法媽祖宮廣場 \n12月5日婚禮午宴 \n 【器材項目】 \n\n\n	【出租 / 搭設】75吋液晶電視\n查看內容	\n			\n\n\n	【出租 / 搭設】器材支撐架《I字Truss》\n查看內容	\n			\n\n\n	【出租 / 搭設】接龍帳\n查看內容	\n			\n\n\n	【出租 / 搭設】照明 / 背板打光《基本燈光組》\n查看內容	\n			\n\n\n	【出租 / 鋪設】舞台面 / 走道 《紅色地毯》\n查看內容	\n			\n\n\n	【搭設】標準舞台（含主舞台、舞台腳圍布、舞台面地毯、兩側舞台樓梯）\n查看內容	\n			\n\n\n \n 【圖片】
URL:https://topteamimc.com/event/2020-12-05/
LOCATION:持法媽祖宮廣場\, 雲林縣虎尾鎮
CATEGORIES:婚宴活動
ATTACH;FMTTYPE=image/jpeg:https://topteamimc.com/wp-content/uploads/2020/12/虎尾-戶外婚宴活動-液晶電視-燈光音響-紅地毯鋪設-truss立架-桌椅帳篷-出租搭設-12.jpg
END:VEVENT
BEGIN:VEVENT
DTSTART;VALUE=DATE:20201205
DTEND;VALUE=DATE:20201206
DTSTAMP:20260424T060223
CREATED:20201212T023949Z
LAST-MODIFIED:20201212T023949Z
UID:8286-1607126400-1607212799@topteamimc.com
SUMMARY:【活動紀錄】育賢共好生活節 好鄰茶會
DESCRIPTION:育賢共好生活節  \n好鄰茶會 \n 【器材項目】 \n\n\n	【出租 / 載運】大摺疊會議桌\n查看內容	\n			\n\n\n	【出租 / 載運】白色摺疊椅\n查看內容	\n			\n\n\n	【搭設】標準舞台（含主舞台、舞台腳圍布、舞台面地毯、兩側舞台樓梯）\n查看內容	\n			\n\n\n \n 【圖片】
URL:https://topteamimc.com/event/2020-11-29/
LOCATION:育賢社會住宅
CATEGORIES:社區活動
ATTACH;FMTTYPE=image/jpeg:https://topteamimc.com/wp-content/uploads/2018/02/育賢社宅-共好生活節-標準舞台-鼠灰色地毯-出租搭設-9.jpg
END:VEVENT
BEGIN:VEVENT
DTSTART;TZID=Asia/Taipei:20201128T100000
DTEND;TZID=Asia/Taipei:20201128T170000
DTSTAMP:20260424T060223
CREATED:20201206T021504Z
LAST-MODIFIED:20201212T023457Z
UID:8249-1606557600-1606582800@topteamimc.com
SUMMARY:【活動紀錄】育賢共好生活節 主題講座
DESCRIPTION:育賢共好生活節  \n主題講座 紀錄片放映 \n 【器材項目】 \n\n\n	【出租 / 搭設】LED電視牆\n查看內容	\n			\n\n\n	【出租 / 搭設】照明 / 背板打光《基本燈光組》\n查看內容	\n			\n\n\n	【出租 / 載運】大摺疊會議桌\n查看內容	\n			\n\n\n	【出租 / 載運】紅色塑膠椅評分 5.00 滿分 5\n查看內容	\n			\n\n\n	【出租 / 載運】黑色摺疊椅\n查看內容	\n			\n\n\n	【出租】黑色彈力桌套\n查看內容	\n			\n\n\n	【搭設】主題背板 / 照相背板《ㄇ字型Truss》\n查看內容	\n			\n\n\n	【搭設】標準舞台（含主舞台、舞台腳圍布、舞台面地毯、兩側舞台樓梯）\n查看內容	\n			\n\n\n \n 【圖片】
URL:https://topteamimc.com/event/2020-11-27/
LOCATION:育賢社會住宅
CATEGORIES:社區活動
ATTACH;FMTTYPE=image/jpeg:https://topteamimc.com/wp-content/uploads/2020/12/育賢社會住宅共好生活節-桌椅帳篷-舞台truss-電視牆-出租搭設.jpg
END:VEVENT
BEGIN:VEVENT
DTSTART;VALUE=DATE:20201128
DTEND;VALUE=DATE:20201129
DTSTAMP:20260424T060223
CREATED:20201129T090634Z
LAST-MODIFIED:20201129T090634Z
UID:8228-1606521600-1606607999@topteamimc.com
SUMMARY:【活動紀錄】埔里蔬食生活節
DESCRIPTION:埔里蔬食生活節 \n 【器材項目】 \n\n\n	【出租 / 搭設】3米快速帳\n查看內容	\n			\n\n\n	【出租 / 搭設】LED裝飾串燈\n查看內容	\n			\n\n\n	【出租 / 搭設】器材支撐架《I字Truss》\n查看內容	\n			\n\n\n	【出租 / 載運】大摺疊會議桌\n查看內容	\n			\n\n\n	【出租 / 載運】手搖式燈架 / 喇叭架\n查看內容	\n			\n\n\n	【出租 / 載運】白色摺疊椅\n查看內容	\n			\n\n\n	【出租 / 載運】紅色塑膠椅評分 5.00 滿分 5\n查看內容	\n			\n\n\n	【出租 / 運送】戶外休閒傘\n查看內容	\n			\n\n\n	【出租 / 運送】舞台紅龍伸縮圍欄\n查看內容	\n			\n\n\n \n 【圖片】
URL:https://topteamimc.com/event/2020-11-28/
CATEGORIES:市集活動,節日活動,餐會活動
ATTACH;FMTTYPE=image/jpeg:https://topteamimc.com/wp-content/uploads/2020/11/埔里蔬食節-戶外餐會用裝飾串燈-出租運送-4.jpg
END:VEVENT
BEGIN:VEVENT
DTSTART;VALUE=DATE:20201123
DTEND;VALUE=DATE:20201130
DTSTAMP:20260424T060223
CREATED:20201124T013327Z
LAST-MODIFIED:20201124T013327Z
UID:7914-1606089600-1606694399@topteamimc.com
SUMMARY:【活動紀錄】昇恆昌免稅商店 Family Sale 活動
DESCRIPTION:昇恆昌免稅商店 Family Sale 活動 \n 【器材項目】 \n\n\n	【出租 / 搭設】照明 / 背板打光《基本燈光組》\n查看內容	\n			\n\n\n	【出租 / 載運】大摺疊會議桌\n查看內容	\n			\n\n\n \n 【圖片】
URL:https://topteamimc.com/event/2020-11-23/
LOCATION:臻悅美饌花園婚宴會館\, 北屯區昌平東三路68號
CATEGORIES:特賣活動
ATTACH;FMTTYPE=image/jpeg:https://topteamimc.com/wp-content/uploads/2020/11/昇恆昌特賣會活動-摺疊桌-照明燈-出租運送-1.jpg
END:VEVENT
BEGIN:VEVENT
DTSTART;VALUE=DATE:20201120
DTEND;VALUE=DATE:20201123
DTSTAMP:20260424T060223
CREATED:20201125T090740Z
LAST-MODIFIED:20201125T090846Z
UID:8214-1605830400-1606089599@topteamimc.com
SUMMARY:【活動紀錄】顏氏牧場 台灣荒原俱樂部20周年會活動
DESCRIPTION:顏氏牧場 \n台灣荒原俱樂部20周年會活動 \n 【器材項目】 \n\n\n	【出租 / 搭設】3米快速帳\n查看內容	\n			\n\n\n	【出租 / 搭設】LED裝飾串燈\n查看內容	\n			\n\n\n	【出租 / 搭設】器材支撐架《I字Truss》\n查看內容	\n			\n\n\n	【出租 / 載運】基本型發電機\n查看內容	\n			\n\n\n	【出租 / 載運】外場表演專用《貝斯音箱》\n查看內容	\n			\n\n\n	【出租 / 載運】外場表演指定《JC-120電吉他音箱》\n查看內容	\n			\n\n\n	【出租 / 載運】木吉他表演專用音箱《Roland AC-60》\n查看內容	\n			\n\n\n	【出租 / 運送】關東旗\n查看內容	\n			\n\n\n	【出租 / 運送組裝】外場表演專用《Mapex 爵士鼓》\n查看內容	\n			\n\n\n	【出租 / 配套】場地染色效果《染色燈光組》\n查看內容	\n			\n\n\n	【出租】10000流明投影機\n查看內容	\n			\n\n\n	【出租】150吋手拉式投影布幕\n查看內容	\n			\n\n\n	【搭設】主題背板 / 照相背板《ㄇ字型Truss》\n查看內容	\n			\n\n\n	【搭設】標準舞台（含主舞台、舞台腳圍布、舞台面地毯、兩側舞台樓梯）\n查看內容	\n			\n\n\n	【配套】舞台表演效果《六頭光束電腦燈》\n查看內容	\n			\n\n\n \n 【活動照片連結】
URL:https://topteamimc.com/event/2020-11-21/
LOCATION:顏氏牧場\, 埔里鎮水上巷28號
CATEGORIES:市集活動
ATTACH;FMTTYPE=image/jpeg:https://topteamimc.com/wp-content/uploads/2020/08/台灣荒原俱樂部20周年草地音樂會-主舞台表演區佈置用-串燈-出租搭設.jpg
END:VEVENT
BEGIN:VEVENT
DTSTART;VALUE=DATE:20201120
DTEND;VALUE=DATE:20201221
DTSTAMP:20260424T060223
CREATED:20201118T044033Z
LAST-MODIFIED:20201118T100409Z
UID:8199-1605830400-1608508799@topteamimc.com
SUMMARY:【活動紀錄】Costco好市多 北台中店開幕活動
DESCRIPTION:Costco好市多 \n北台中店開幕活動 \n 【器材項目】 \n\n\n	【出租 / 搭設】3米快速帳\n查看內容	\n			\n\n\n	【出租 / 運送】交通錐組\n查看內容	\n			\n\n\n	【出租 / 運送】舞台紅龍伸縮圍欄\n查看內容	\n			\n\n\n	【出租】壓重沙包\n查看內容	\n			\n\n\n \n 【圖片】
URL:https://topteamimc.com/event/2020-11-20/
LOCATION:Costco北台中店\, 北屯區敦富路366號\, 台中市
CATEGORIES:特賣活動,開幕活動
ATTACH;FMTTYPE=image/jpeg:https://topteamimc.com/wp-content/uploads/2020/11/Costco-北台中店-開幕活動-排隊線-紅龍柱-伸縮圍欄-出租運送.jpg
END:VEVENT
BEGIN:VEVENT
DTSTART;VALUE=DATE:20201107
DTEND;VALUE=DATE:20201108
DTSTAMP:20260424T060223
CREATED:20201111T090509Z
LAST-MODIFIED:20201111T090509Z
UID:8181-1604707200-1604793599@topteamimc.com
SUMMARY:【活動紀錄】龍華靜修院 觀音菩薩出家紀念日
DESCRIPTION:龍華靜修院  \n觀音菩薩出家紀念日 \n 【器材項目】 \n\n\n	【出租 / 搭設】Welcome充氣拱門\n查看內容	\n			\n\n\n	【出租 / 搭設】器材支撐架《I字Truss》\n查看內容	\n			\n\n\n	【出租 / 搭設】照明 / 背板打光《基本燈光組》\n查看內容	\n			\n\n\n	【出租 / 運送】舞台紅龍伸縮圍欄\n查看內容	\n			\n\n\n	【出租】10000流明投影機\n查看內容	\n			\n\n\n	【出租】150吋手拉式投影布幕\n查看內容	\n			\n\n\n	【搭設】主題背板 / 照相背板《ㄇ字型Truss》\n查看內容	\n			\n\n\n \n 【圖片】
URL:https://topteamimc.com/event/2020-11-07/
LOCATION:龍華靜修院\, 南屯區新鎮和路636號
CATEGORIES:宮廟活動
ATTACH;FMTTYPE=image/jpeg:https://topteamimc.com/wp-content/uploads/2020/09/龍華靜修院-觀音菩薩出家紀念日-紅龍柱出租運送-5.jpg
END:VEVENT
BEGIN:VEVENT
DTSTART;VALUE=DATE:20201102
DTEND;VALUE=DATE:20201103
DTSTAMP:20260424T060223
CREATED:20201103T013317Z
LAST-MODIFIED:20201111T090523Z
UID:8151-1604275200-1604361599@topteamimc.com
SUMMARY:【活動紀錄】太平地政事務所檔案展
DESCRIPTION:太平地政事務所檔案展 \n 【器材項目】 \n\n\n	【出租 / 搭設】照明 / 背板打光《基本燈光組》\n查看內容	\n			\n\n\n	【出租 / 載運】Truss壓克力講桌\n查看內容	\n			\n\n\n	【出租 / 載運】大摺疊會議桌\n查看內容	\n			\n\n\n	【出租 / 運送】貴賓椅\n查看內容	\n			\n\n\n	【出租 / 運送】開幕啟動球\n查看內容	\n			\n\n\n	【出租 / 鋪設】舞台面 / 走道 《紅色地毯》\n查看內容	\n			\n\n\n	【出租】簡單活動主持 / 音樂播放專用《行動音響》\n查看內容	\n			\n\n\n	【搭設】主題背板 / 照相背板《ㄇ字型Truss》\n查看內容	\n			\n\n\n	【搭設】標準舞台（含主舞台、舞台腳圍布、舞台面地毯、兩側舞台樓梯）\n查看內容	\n			\n\n\n \n 【圖片】
URL:https://topteamimc.com/event/2020-11-02/
LOCATION:太平地政事務所\, 太平區大源路1之19號
CATEGORIES:展覽活動
ATTACH;FMTTYPE=image/jpeg:https://topteamimc.com/wp-content/uploads/2018/11/太平地政事務所檔案展-全息啟動球-出租運送-15.jpg
END:VEVENT
BEGIN:VEVENT
DTSTART;VALUE=DATE:20201031
DTEND;VALUE=DATE:20201101
DTSTAMP:20260424T060223
CREATED:20201101T074254Z
LAST-MODIFIED:20201113T072417Z
UID:8141-1604102400-1604188799@topteamimc.com
SUMMARY:【活動紀錄】穿梭草悟道遇見英語角
DESCRIPTION:穿梭草悟道遇見英語角 \n萬聖節活動 \n 【器材項目】 \n\n\n	【出租 / 搭設】3米快速帳\n查看內容	\n			\n\n\n	【出租 / 搭設】簡易燈光音響組\n查看內容	\n			\n\n\n	【出租 / 載運】大摺疊會議桌\n查看內容	\n			\n\n\n	【出租 / 載運】白色摺疊椅\n查看內容	\n			\n\n\n	【出租 / 鋪設】舞台面 / 走道 《紅色地毯》\n查看內容	\n			\n\n\n	【出租】外場表演專用《譜架》\n查看內容	\n			\n\n\n	【出租】麥克風架\n查看內容	\n			\n\n\n	【搭設】主題背板 / 照相背板《ㄇ字型Truss》\n查看內容	\n			\n\n\n \n 【圖片】
URL:https://topteamimc.com/event/2020-10-31/
LOCATION:勤美草悟道\, 西區公益路68號\, 台中市
CATEGORIES:節日活動
ATTACH;FMTTYPE=image/jpeg:https://topteamimc.com/wp-content/uploads/2020/11/穿梭草悟道遇見英語角-主題背板-truss-出租搭設.jpg
END:VEVENT
BEGIN:VEVENT
DTSTART;TZID=Asia/Taipei:20201029T110000
DTEND;TZID=Asia/Taipei:20201029T170000
DTSTAMP:20260424T060223
CREATED:20201029T144442Z
LAST-MODIFIED:20201029T144604Z
UID:8130-1603969200-1603990800@topteamimc.com
SUMMARY:【活動紀錄】伸興公司營運總部落成典禮
DESCRIPTION:伸興公司營運總部落成典禮 \n 【器材項目】 \n\n\n	【出租 / 運送】掛繩迎賓柱\n查看內容	\n			\n\n\n	【出租 / 運送】貴賓椅\n查看內容	\n			\n\n\n	【出租 / 配套】瞬間爆點效果《CO2噴筒》\n查看內容	\n			\n\n\n	【出租 / 鋪設】舞台面 / 走道 《紅色地毯》\n查看內容	\n			\n\n\n	【出租】彩帶噴筒\n查看內容	\n			\n\n\n	【出租】開幕剪綵用器材《金剪刀 / 手套 / 綵球 / 托盤》\n查看內容	\n			\n\n\n \n 【圖片】
URL:https://topteamimc.com/event/2020-10-29/
LOCATION:伸興工業股份有限公司\, 太平區永成路78號411
CATEGORIES:開幕活動
ATTACH;FMTTYPE=image/jpeg:https://topteamimc.com/wp-content/uploads/2016/03/伸興公司營運總部落成典禮-CO2噴桶-出租運送-1.jpg
END:VEVENT
BEGIN:VEVENT
DTSTART;TZID=Asia/Taipei:20201021T080000
DTEND;TZID=Asia/Taipei:20201021T120000
DTSTAMP:20260424T060223
CREATED:20201103T014624Z
LAST-MODIFIED:20201103T014802Z
UID:8157-1603267200-1603281600@topteamimc.com
SUMMARY:【活動紀錄】清潔員節慶祝活動
DESCRIPTION:清潔員節慶祝活動 \n 【器材項目】 \n\n\n	【出租 / 搭設】3米快速帳\n查看內容	\n			\n\n\n	【出租 / 搭設】6米宮廷帳\n查看內容	\n			\n\n\n	【出租 / 搭設】城堡型充氣拱門\n查看內容	\n			\n\n\n	【出租 / 運送】貴賓椅\n查看內容	\n			\n\n\n	【出租】壓重沙包\n查看內容	\n			\n\n\n	【搭設】舞台屋頂型Truss\n查看內容	\n			\n\n\n	【製作】主題輸出帆布\n查看內容	\n			\n\n\n \n 【圖片】
URL:https://topteamimc.com/event/2020-10-21/
LOCATION:新平公園\, 北屯區中平路783號
CATEGORIES:節日活動
ATTACH;FMTTYPE=image/jpeg:https://topteamimc.com/wp-content/uploads/2020/11/清潔隊員節慶祝活動-屋型Truss-出租搭設-5.jpg
END:VEVENT
BEGIN:VEVENT
DTSTART;TZID=Asia/Taipei:20200925T080000
DTEND;TZID=Asia/Taipei:20200925T170000
DTSTAMP:20260424T060223
CREATED:20200924T114205Z
LAST-MODIFIED:20200928T102535Z
UID:8014-1601020800-1601053200@topteamimc.com
SUMMARY:【活動紀錄】逢甲大學USR成果豐收季
DESCRIPTION:逢甲大學USR成果豐收季 \n市集活動 \n 【支援器材項目】 \n\n\n	【出租 / 載運】大摺疊會議桌\n查看內容	\n			\n\n\n	【出租 / 載運】白色摺疊椅\n查看內容	\n			\n\n\n	【出租 / 運送】戶外休閒傘\n查看內容	\n			\n\n\n	【出租】壓重沙包\n查看內容	\n			\n\n\n	【出租】酒紅色桌巾\n查看內容	\n			\n\n\n	【搭設】標準舞台（含主舞台、舞台腳圍布、舞台面地毯、兩側舞台樓梯）\n查看內容	\n			\n\n\n \n 【圖片 & 活動連結】
URL:https://topteamimc.com/event/2020-09-24/
LOCATION:逢甲大學學思園\, 西屯區文華路100號
CATEGORIES:學校活動,市集活動
ATTACH;FMTTYPE=image/jpeg:https://topteamimc.com/wp-content/uploads/2020/09/逢甲大學USR成果豐收季-折疊椅-摺疊桌-休閒陽傘-標準舞台-出租搭設-36.jpg
END:VEVENT
BEGIN:VEVENT
DTSTART;VALUE=DATE:20200923
DTEND;VALUE=DATE:20201024
DTSTAMP:20260424T060223
CREATED:20200928T104411Z
LAST-MODIFIED:20200928T104420Z
UID:8038-1600819200-1603497599@topteamimc.com
SUMMARY:【活動紀錄】享自在生態園區 森林市集
DESCRIPTION:享自在生態園區 森林市集 \n 【支援器材項目】 \n\n\n	【出租 / 搭設】6米宮廷帳\n查看內容	\n			\n\n\n	【出租 / 載運】白色塑膠靠背椅\n查看內容	\n			\n\n\n	【出租 / 運送】白色塑膠圓桌\n查看內容	\n			\n\n\n	【出租】壓重沙包\n查看內容	\n			\n\n\n \n 【圖片 & 活動連結】
URL:https://topteamimc.com/event/2020-09-23/
LOCATION:享自在生態園區\, 北屯區東山路二段民興巷民興路207-5號
CATEGORIES:市集活動
ATTACH;FMTTYPE=image/jpeg:https://topteamimc.com/wp-content/uploads/2018/05/享自在生態園區-二週年慶-白色宮廷帳-出租搭設-11.jpg
END:VEVENT
BEGIN:VEVENT
DTSTART;VALUE=DATE:20200919
DTEND;VALUE=DATE:20200920
DTSTAMP:20260424T060223
CREATED:20200919T034337Z
LAST-MODIFIED:20200924T120610Z
UID:7993-1600473600-1600559999@topteamimc.com
SUMMARY:【活動紀錄】豐邑菁科城中秋烤肉活動
DESCRIPTION:豐邑菁科城中秋烤肉活動 \n 【支援器材項目】 \n\n\n	【出租 / 載運】18吋電風扇\n查看內容	\n			\n\n\n	【出租 / 載運】白色摺疊椅\n查看內容	\n			\n\n\n	【出租 / 運送】白色塑膠圓桌\n查看內容	\n			\n\n\n	【出租】小塑膠椅（點心椅、烤肉椅）\n查看內容	\n			\n\n\n	【出租】帳篷吊燈\n查看內容	\n			\n\n\n	【出租】帳篷圍布\n查看內容	\n			\n\n\n	【施工】帳篷攤位配線\n查看內容	\n			\n\n\n \n 【圖片 & 活動連結】
URL:https://topteamimc.com/event/2020-09-18/
LOCATION:豐邑菁科城\, 南屯區五權西路二段
CATEGORIES:節日活動,餐會活動
ATTACH;FMTTYPE=image/jpeg:https://topteamimc.com/wp-content/uploads/2020/09/豐邑菁科城中秋烤肉活動-圓桌-折疊椅-出租運送.jpg
END:VEVENT
BEGIN:VEVENT
DTSTART;VALUE=DATE:20200916
DTEND;VALUE=DATE:20200928
DTSTAMP:20260424T060223
CREATED:20200916T141937Z
LAST-MODIFIED:20200928T102504Z
UID:7985-1600214400-1601251199@topteamimc.com
SUMMARY:【活動紀錄】創意台中 火車站展覽活動
DESCRIPTION:創意台中 \n台中火車站展覽活動 \n 【器材項目】 \n\n\n	【出租 / 搭設】6米宮廷帳\n查看內容	\n			\n\n\n	【出租 / 搭設】LED裝飾串燈\n查看內容	\n			\n\n\n	【出租 / 運送】線槽板\n查看內容	\n			\n\n\n	【出租 / 運送】舞台紅龍伸縮圍欄\n查看內容	\n			\n\n\n	【搭設】標準舞台（含主舞台、舞台腳圍布、舞台面地毯、兩側舞台樓梯）\n查看內容	\n			\n\n\n	【製作 / 施工】珍珠背板\n查看內容	\n			\n\n\n \n 【圖片】
URL:https://topteamimc.com/event/2020-09-16/
LOCATION:新台中火車站\, 臺灣大道一段1號
CATEGORIES:展覽活動
ATTACH;FMTTYPE=image/jpeg:https://topteamimc.com/wp-content/uploads/2018/05/創意台中-火車站展覽活動-6米-白色宮廷帳-出租搭設-7.jpg
END:VEVENT
BEGIN:VEVENT
DTSTART;VALUE=DATE:20200912
DTEND;VALUE=DATE:20200913
DTSTAMP:20260424T060223
CREATED:20200915T080750Z
LAST-MODIFIED:20200915T080750Z
UID:7978-1599868800-1599955199@topteamimc.com
SUMMARY:【活動紀錄】吉輔公益日活動
DESCRIPTION:吉輔公益日活動 \n 【器材項目】 \n\n\n	【出租 / 搭設】6米宮廷帳\n查看內容	\n			\n\n\n	【出租】壓重沙包\n查看內容	\n			\n\n\n	【搭設】主題背板 / 照相背板《ㄇ字型Truss》\n查看內容	\n			\n\n\n	【搭設】標準舞台（含主舞台、舞台腳圍布、舞台面地毯、兩側舞台樓梯）\n查看內容	\n			\n\n\n	【製作】主題輸出帆布\n查看內容	\n			\n\n\n \n 【圖片 & 活動照片連結】
URL:https://topteamimc.com/event/2020-09-12/
LOCATION:吉輔企業有限公司\, 潭子區祥和路133巷33號\, 台中市
CATEGORIES:公司活動
ATTACH;FMTTYPE=image/jpeg:https://topteamimc.com/wp-content/uploads/2018/05/吉輔公益日活動-宮廷帳-主題背板Truss-標準舞台-出租搭設-3.jpg
END:VEVENT
BEGIN:VEVENT
DTSTART;TZID=Asia/Taipei:20200909T080000
DTEND;TZID=Asia/Taipei:20200909T120000
DTSTAMP:20260424T060223
CREATED:20200908T121719Z
LAST-MODIFIED:20200915T080951Z
UID:7942-1599638400-1599652800@topteamimc.com
SUMMARY:【活動紀錄】創意台中Trendy Midtown 時尚中城 記者會
DESCRIPTION:創意台中Trendy Midtown 時尚中城  \n記者會活動 \n 【器材項目】 \n\n\n	【出租 / 搭設】照明 / 背板打光《基本燈光組》\n查看內容	\n			\n\n\n	【出租 / 載運】大摺疊會議桌\n查看內容	\n			\n\n\n	【出租 / 載運】白色摺疊椅\n查看內容	\n			\n\n\n	【出租 / 鋪設】鼠灰色地毯\n查看內容	\n			\n\n\n	【搭設】主題背板 / 照相背板《ㄇ字型Truss》\n查看內容	\n			\n\n\n	【製作】主題輸出帆布\n查看內容	\n			\n\n\n \n 【圖片】
URL:https://topteamimc.com/event/2020-09-09/
LOCATION:台中市政府\, 西屯區臺灣大道三段99號\, 台中市\, 台灣
CATEGORIES:宣傳活動
ATTACH;FMTTYPE=image/jpeg:https://topteamimc.com/wp-content/uploads/2017/08/2020創意台中Trendy-Midtown-時尚中城-記者會活動-帆布包Truss-施工.jpg
END:VEVENT
BEGIN:VEVENT
DTSTART;TZID=Asia/Taipei:20200825T080000
DTEND;TZID=Asia/Taipei:20200825T150000
DTSTAMP:20260424T060223
CREATED:20200909T015616Z
LAST-MODIFIED:20200909T015616Z
UID:7946-1598342400-1598367600@topteamimc.com
SUMMARY:【活動紀錄】台中港外港區擴建計畫 環評公聽會
DESCRIPTION:台中港外港區擴建計畫 \n環評公聽會 \n 【器材項目】 \n\n\n	【出租 / 搭設】3米快速帳\n查看內容	\n			\n\n\n	【出租 / 搭設】器材支撐架《I字Truss》\n查看內容	\n			\n\n\n	【出租 / 搭設】接龍帳\n查看內容	\n			\n\n\n	【出租 / 載送】 基本型A3指示立牌\n查看內容	\n			\n\n\n	【出租 / 載運】大摺疊會議桌\n查看內容	\n			\n\n\n	【出租 / 載運】紅色塑膠椅評分 5.00 滿分 5\n查看內容	\n			\n\n\n	【出租 / 運送】標示架 / 指示立牌\n查看內容	\n			\n\n\n	【出租 / 運送】水冷扇\n查看內容	\n			\n\n\n	【出租 / 運送】舞台紅龍伸縮圍欄\n查看內容	\n			\n\n\n	【出租 / 運送】貴賓椅\n查看內容	\n			\n\n\n	【出租】10000流明投影機\n查看內容	\n			\n\n\n	【出租】150吋手拉式投影布幕\n查看內容	\n			\n\n\n	【出租】簡單活動主持 / 音樂播放專用《行動音響》\n查看內容	\n			\n\n\n	【出租】酒紅色桌巾\n查看內容	\n			\n\n\n \n 【圖片 & 活動照片連結】
URL:https://topteamimc.com/event/2020-08-25/
ATTACH;FMTTYPE=image/jpeg:https://topteamimc.com/wp-content/uploads/2020/09/台中港外港區擴建計畫-環評公聽會-音響-桌椅帳篷-水冷扇-指示牌-出租運送.jpg
END:VEVENT
BEGIN:VEVENT
DTSTART;TZID=Asia/Taipei:20200809T080000
DTEND;TZID=Asia/Taipei:20200809T170000
DTSTAMP:20260424T060223
CREATED:20200809T083534Z
LAST-MODIFIED:20200809T083534Z
UID:7874-1596960000-1596992400@topteamimc.com
SUMMARY:【活動紀錄】2020梨山水蜜桃節
DESCRIPTION:2020梨山水蜜桃節 \n 【器材項目】 \n\n\n	【出租 / 搭設】6米宮廷帳\n查看內容	\n			\n\n\n	【出租 / 搭設】接龍帳\n查看內容	\n			\n\n\n	【出租 / 搭設】歐式帳篷\n查看內容	\n			\n\n\n	【出租 / 搭設】流星燈\n查看內容	\n			\n\n\n \n 【圖片 & 活動照片連結】
URL:https://topteamimc.com/event/2020-08-08/
LOCATION:梨山賓館\, 和平區中正路91號\, 台中市
CATEGORIES:節日活動
ATTACH;FMTTYPE=image/jpeg:https://topteamimc.com/wp-content/uploads/2017/12/梨山水蜜桃節-營火晚會-樹裝飾用流星燈管冷白色款-出租搭設.jpg
END:VEVENT
BEGIN:VEVENT
DTSTART;TZID=Asia/Taipei:20200723T080000
DTEND;TZID=Asia/Taipei:20200723T100000
DTSTAMP:20260424T060223
CREATED:20200724T015546Z
LAST-MODIFIED:20200724T015546Z
UID:7841-1595491200-1595498400@topteamimc.com
SUMMARY:【活動紀錄】興睿工程 藍麒科技廠房新建動土典禮
DESCRIPTION:興睿工程  \n藍麒科技廠房新建動土典禮 \n 【器材項目】 \n\n\n	【出租 / 搭設】6米宮廷帳\n查看內容	\n			\n\n\n	【出租 / 載運】大摺疊會議桌\n查看內容	\n			\n\n\n	【出租 / 載運】黑色摺疊椅\n查看內容	\n			\n\n\n	【出租】壓重沙包\n查看內容	\n			\n\n\n	【出租】簡單活動主持 / 音樂播放專用《行動音響》\n查看內容	\n			\n\n\n	【出租】酒紅色桌巾\n查看內容	\n			\n\n\n \n 【圖片】
URL:https://topteamimc.com/event/2020-07-23/
CATEGORIES:開幕活動
ATTACH;FMTTYPE=image/jpeg:https://topteamimc.com/wp-content/uploads/2020/07/藍麒科技廠房新建-動土典禮-6米宮廷帳折疊椅-行動音響-摺疊桌-出租搭設-18.jpg
END:VEVENT
BEGIN:VEVENT
DTSTART;VALUE=DATE:20200705
DTEND;VALUE=DATE:20200706
DTSTAMP:20260424T060223
CREATED:20200722T015827Z
LAST-MODIFIED:20210408T072531Z
UID:7831-1593907200-1593993599@topteamimc.com
SUMMARY:【活動紀錄】公老坪荔枝節 Buffet自助餐活動
DESCRIPTION:公老坪荔枝節 \nBuffet自助餐活動 \n 【器材項目】 \n\n\n	【出租 / 搭設】6米宮廷帳\n查看內容	\n			\n\n\n	【出租 / 搭設】LED裝飾串燈\n查看內容	\n			\n\n\n	【出租 / 載運】大摺疊會議桌\n查看內容	\n			\n\n\n	【出租 / 運送】貴賓椅\n查看內容	\n			\n\n\n	【出租 / 配套】場地染色效果《染色燈光組》\n查看內容	\n			\n\n\n	【出租】遙控變色燈\n查看內容	\n			\n\n\n	【搭設】主題背板 / 照相背板《ㄇ字型Truss》\n查看內容	\n			\n\n\n	【搭設】屋型帳篷\n查看內容	\n			\n\n\n \n 【圖片】
URL:https://topteamimc.com/event/2020-07-05/
LOCATION:公老坪\, 豐原區水源路坪\, 台中市
CATEGORIES:餐會活動
ATTACH;FMTTYPE=image/jpeg:https://topteamimc.com/wp-content/uploads/2018/02/公老坪荔枝節-Buffet自助餐活動-屋型帳篷-裝飾串燈-出租搭設-35.jpg
END:VEVENT
BEGIN:VEVENT
DTSTART;TZID=Asia/Taipei:20200606T180000
DTEND;TZID=Asia/Taipei:20200606T213000
DTSTAMP:20260424T060223
CREATED:20200622T151541Z
LAST-MODIFIED:20200622T151541Z
UID:7768-1591466400-1591479000@topteamimc.com
SUMMARY:【活動紀錄】千樺花園餐廳 求婚活動
DESCRIPTION:千樺花園餐廳 求婚活動 \n 【器材項目】 \n\n\n	【出租 / 搭設】LED裝飾串燈\n查看內容	\n			\n\n\n	【出租 / 搭設】簡易燈光音響組\n查看內容	\n			\n\n\n	【出租】10000流明投影機\n查看內容	\n			\n\n\n	【出租】120吋手拉式投影布幕\n查看內容	\n			\n\n\n	【出租】小提琴 / 木吉他收音專用《小蜜蜂麥克風》\n查看內容	\n			\n\n\n \n 【圖片 & 活動照片連結】
URL:https://topteamimc.com/event/2020-06-06/
LOCATION:千樺花園餐廳\, 新社區協興街61號\, 台中市
CATEGORIES:婚宴活動
ATTACH;FMTTYPE=image/jpeg:https://topteamimc.com/wp-content/uploads/2020/01/6月6日-千樺花園餐廳-婚禮晚宴-串燈-投影設備-音響-出租搭設-4.jpg
END:VEVENT
BEGIN:VEVENT
DTSTART;TZID=Asia/Taipei:20200530T080000
DTEND;TZID=Asia/Taipei:20200531T170000
DTSTAMP:20260424T060223
CREATED:20200531T004752Z
LAST-MODIFIED:20200928T104949Z
UID:7723-1590825600-1590944400@topteamimc.com
SUMMARY:【活動紀錄】中原大學 卓然果園食果市集活動
DESCRIPTION:中原大學 卓然果園食果市集 \n小農市集 x 生態教育 x 遊戲體驗 \n 【器材項目】 \n\n\n	【出租 / 載運】大摺疊會議桌\n查看內容	\n			\n\n\n	【出租 / 載運】白色塑膠靠背椅\n查看內容	\n			\n\n\n	【出租 / 載運】白色摺疊椅\n查看內容	\n			\n\n\n	【出租 / 運送】交通錐組\n查看內容	\n			\n\n\n	【出租 / 運送】水冷扇\n查看內容	\n			\n\n\n	【出租 / 運送】白色塑膠圓桌\n查看內容	\n			\n\n\n	【出租 / 運送】舞台紅龍伸縮圍欄\n查看內容	\n			\n\n\n	【出租】100吋手拉式投影布幕\n查看內容	\n			\n\n\n	【出租】帳篷吊燈\n查看內容	\n			\n\n\n \n 【圖片 & 活動照片連結】
URL:https://topteamimc.com/event/2020-05-31/
LOCATION:內灣國小白帆分校\, 內灣里白布帆61號\, 苗栗縣
CATEGORIES:市集活動,特賣活動
ATTACH;FMTTYPE=image/jpeg:https://topteamimc.com/wp-content/uploads/2020/05/中原大學-卓然果園食果市集活動-歐式帳篷-3米帳-帳篷燈-出租運送-42.jpg
END:VEVENT
BEGIN:VEVENT
DTSTART;TZID=Asia/Taipei:20200512T080000
DTEND;TZID=Asia/Taipei:20200512T120000
DTSTAMP:20260424T060223
CREATED:20200512T015021Z
LAST-MODIFIED:20200513T004958Z
UID:7683-1589270400-1589284800@topteamimc.com
SUMMARY:【活動紀錄】大肚山彈藥分庫 中科擴建環評說明會
DESCRIPTION:大肚山彈藥分庫 \n中科園區擴建用地-環評說明會 \n 【器材項目】 \n\n\n	【出租 / 搭設】3米快速帳\n查看內容	\n			\n\n\n	【出租 / 搭設】器材支撐架《I字Truss》\n查看內容	\n			\n\n\n	【出租 / 搭設】接龍帳\n查看內容	\n			\n\n\n	【出租 / 載送】 基本型A3指示立牌\n查看內容	\n			\n\n\n	【出租 / 載運】18吋電風扇\n查看內容	\n			\n\n\n	【出租 / 載運】大摺疊會議桌\n查看內容	\n			\n\n\n	【出租 / 載運】紅色塑膠椅評分 5.00 滿分 5\n查看內容	\n			\n\n\n	【出租 / 運送】標示架 / 指示立牌\n查看內容	\n			\n\n\n	【出租 / 運送】舞台紅龍伸縮圍欄\n查看內容	\n			\n\n\n	【出租 / 運送】貴賓椅\n查看內容	\n			\n\n\n	【出租】10000流明投影機\n查看內容	\n			\n\n\n	【出租】100吋手拉式投影布幕\n查看內容	\n			\n\n\n	【出租】150吋手拉式投影布幕\n查看內容	\n			\n\n\n	【出租】酒紅色桌巾\n查看內容	\n			\n\n\n \n 【圖片 & 活動照片連結】
URL:https://topteamimc.com/event/2020-05-12/
LOCATION:中部科學園區管理局\, 西屯區中科路2號
ATTACH;FMTTYPE=image/jpeg:https://topteamimc.com/wp-content/uploads/2020/01/大肚山彈藥分庫中科園區擴建用地-環評說明會-區域規劃用-紅龍伸縮圍欄-出租運送.jpg
END:VEVENT
END:VCALENDAR