BEGIN:VCALENDAR
VERSION:2.0
PRODID:-//台中頂尖整合行銷-音樂教室.樂器.燈光音響.出租 - ECPv6.15.20//NONSGML v1.0//EN
CALSCALE:GREGORIAN
METHOD:PUBLISH
X-ORIGINAL-URL:https://topteamimc.com
X-WR-CALDESC:Events for 台中頂尖整合行銷-音樂教室.樂器.燈光音響.出租
REFRESH-INTERVAL;VALUE=DURATION:PT1H
X-Robots-Tag:noindex
X-PUBLISHED-TTL:PT1H
BEGIN:VTIMEZONE
TZID:Asia/Taipei
BEGIN:STANDARD
TZOFFSETFROM:+0800
TZOFFSETTO:+0800
TZNAME:CST
DTSTART:20180101T000000
END:STANDARD
END:VTIMEZONE
BEGIN:VEVENT
DTSTART;VALUE=DATE:20191225
DTEND;VALUE=DATE:20200102
DTSTAMP:20260424T121737
CREATED:20200303T010624Z
LAST-MODIFIED:20200303T010624Z
UID:7270-1577232000-1577923199@topteamimc.com
SUMMARY:【活動紀錄】國定古蹟頤圃105週年
DESCRIPTION:霧峰頤園國定古蹟頤圃105週年 \n活動場地佈置 \n 【支援器材項目】 \n\n\n	【出租 / 搭設】LED聖誕燈\n查看內容	\n			\n\n\n	【出租 / 搭設】LED裝飾串燈\n查看內容	\n			\n\n\n	【出租 / 搭設】LED裝飾網燈\n查看內容	\n			\n\n\n \n 【圖片 & 活動連結】
URL:https://topteamimc.com/event/2019-12-25/
LOCATION:霧峰頤園\, 霧峰區民生路26號
CATEGORIES:節日活動
ATTACH;FMTTYPE=image/jpeg:https://topteamimc.com/wp-content/uploads/2019/11/霧峰林家-頤圃園區-古蹟推廣活動-串燈-聖誕燈-小彩燈-網燈-出租搭設-14.jpg
END:VEVENT
BEGIN:VEVENT
DTSTART;VALUE=DATE:20191221
DTEND;VALUE=DATE:20191222
DTSTAMP:20260424T121737
CREATED:20200219T012210Z
LAST-MODIFIED:20200219T012231Z
UID:7055-1576886400-1576972799@topteamimc.com
SUMMARY:【活動紀錄】紐洛琳聖誕百老匯
DESCRIPTION:紐洛琳英語學院 \n聖誕百老匯 \n 【支援器材項目】 \n\n\n	【出租 / 搭設】LED電視牆\n查看內容	\n			\n\n\n	【出租 / 搭設】照明 / 背板打光《基本燈光組》\n查看內容	\n			\n\n\n	【搭設】標準舞台（含主舞台、舞台腳圍布、舞台面地毯、兩側舞台樓梯）\n查看內容	\n			\n\n\n	【配套】樂團表演專用《監聽喇叭》\n查看內容	\n			\n\n\n \n 【圖片 & 活動連結】
URL:https://topteamimc.com/event/2019-12-21/
LOCATION:豐樂公園\, 文心南五路一段331號
CATEGORIES:學校活動,節日活動
ATTACH;FMTTYPE=image/jpeg:https://topteamimc.com/wp-content/uploads/2020/02/紐洛琳英語學院-聖誕百老匯活動-電視牆-音響-出租搭設-2.jpg
END:VEVENT
BEGIN:VEVENT
DTSTART;TZID=Asia/Taipei:20191220T150000
DTEND;TZID=Asia/Taipei:20191220T213000
DTSTAMP:20260424T121737
CREATED:20200218T012204Z
LAST-MODIFIED:20200928T105009Z
UID:7025-1576854000-1576877400@topteamimc.com
SUMMARY:【活動紀錄】Bright Light聖誕音樂會
DESCRIPTION:安平愛鄰協會  \nBright Light聖誕音樂會 \n 【支援器材項目】 \n\n\n	【出租 / 搭設】LED裝飾串燈\n查看內容	\n			\n\n\n	【出租 / 搭設】器材支撐架《I字Truss》\n查看內容	\n			\n\n\n	【出租 / 載運】基本型發電機\n查看內容	\n			\n\n\n	【出租 / 載運】大摺疊會議桌\n查看內容	\n			\n\n\n	【出租 / 載運】白色塑膠靠背椅\n查看內容	\n			\n\n\n	【出租 / 載運】黑色摺疊椅\n查看內容	\n			\n\n\n	【出租 / 運送】白色塑膠圓桌\n查看內容	\n			\n\n\n	【出租 / 運送】舞台紅龍伸縮圍欄\n查看內容	\n			\n\n\n	【出租】帳篷吊燈\n查看內容	\n			\n\n\n \n 【圖片 & 活動連結】
URL:https://topteamimc.com/event/2019-12-20/
LOCATION:安億公園\, 安平區安億路
CATEGORIES:市集活動,特賣活動,節日活動
ATTACH;FMTTYPE=image/jpeg:https://topteamimc.com/wp-content/uploads/2019/06/安平愛鄰協會-聖誕草地音樂會-Bright-Light-攤位區-LED裝飾串燈-出租搭設-10.jpg
END:VEVENT
BEGIN:VEVENT
DTSTART;VALUE=DATE:20191214
DTEND;VALUE=DATE:20191215
DTSTAMP:20260424T121737
CREATED:20200217T114737Z
LAST-MODIFIED:20200218T021430Z
UID:7008-1576281600-1576367999@topteamimc.com
SUMMARY:【活動紀錄】台體都會盃 定向越野挑戰賽
DESCRIPTION:台體都會盃 定向越野挑戰賽 \n 【支援器材項目】 \n\n\n	【出租 / 搭設】3米快速帳\n查看內容	\n			\n\n\n	【出租 / 載運】基本型發電機\n查看內容	\n			\n\n\n	【出租 / 載運】大摺疊會議桌\n查看內容	\n			\n\n\n	【出租 / 載運】黑色摺疊椅\n查看內容	\n			\n\n\n	【出租 / 運送】交通錐組\n查看內容	\n			\n\n\n	【出租 / 運送】關東旗\n查看內容	\n			\n\n\n	【搭設】主題背板 / 照相背板《ㄇ字型Truss》\n查看內容	\n			\n\n\n	【搭設】入口主題看板用《門楣型Truss》\n查看內容	\n			\n\n\n	【製作 / 施工】珍珠背板\n查看內容	\n			\n\n\n \n 【圖片 & 活動連結】
URL:https://topteamimc.com/event/2019-12-14/
LOCATION:都會公園\, 西屯區都會園路1215巷140號\, 台中市
CATEGORIES:學校活動
ATTACH;FMTTYPE=image/jpeg:https://topteamimc.com/wp-content/uploads/2016/11/台體都會盃-定向越野挑戰賽-Truss主題背板搭設-出租-5.jpg
END:VEVENT
BEGIN:VEVENT
DTSTART;VALUE=DATE:20191209
DTEND;VALUE=DATE:20200102
DTSTAMP:20260424T121737
CREATED:20200226T081015Z
LAST-MODIFIED:20200302T020458Z
UID:7213-1575849600-1577923199@topteamimc.com
SUMMARY:【活動紀錄】國碩電子遊藝場 聖誕活動場地佈置
DESCRIPTION:國碩電子遊藝場  \n聖誕活動場地佈置 \n 【支援器材項目】 \n\n\n	【出租 / 搭設】LED聖誕燈\n查看內容	\n			\n\n\n	【出租 / 搭設】LED裝飾串燈\n查看內容	\n			\n\n\n	【出租 / 搭設】LED裝飾網燈\n查看內容	\n			\n\n\n	【出租 / 搭設】流星燈\n查看內容	\n			\n\n\n \n 【圖片 & 活動連結】
URL:https://topteamimc.com/event/2019-12-09/
LOCATION:國碩電子遊藝場\, 北屯區河北路三段89號\, 台中市
CATEGORIES:節日活動
ATTACH;FMTTYPE=image/jpeg:https://topteamimc.com/wp-content/uploads/2019/11/國碩電子遊戲場-聖誕節活動-樹裝飾小彩燈-網燈-流星燈-出租施工搭設-4.jpg
END:VEVENT
BEGIN:VEVENT
DTSTART;VALUE=DATE:20191205
DTEND;VALUE=DATE:20191208
DTSTAMP:20260424T121737
CREATED:20200223T032935Z
LAST-MODIFIED:20200223T033122Z
UID:7174-1575504000-1575763199@topteamimc.com
SUMMARY:【活動紀錄】世界飛盤運動精神日
DESCRIPTION:世界飛盤運動精神日 \n  \n 【支援器材項目】 \n\n\n	【出租 / 搭設】3米快速帳\n查看內容	\n			\n\n\n	【出租 / 載運】大摺疊會議桌\n查看內容	\n			\n\n\n	【出租 / 載運】紅色塑膠椅評分 5.00 滿分 5\n查看內容	\n			\n\n\n	【搭設】主題背板 / 照相背板《ㄇ字型Truss》\n查看內容	\n			\n\n\n \n 【圖片 & 活動連結】
URL:https://topteamimc.com/event/2019-12-05/
LOCATION:朝馬運動中心\, 西屯區朝貴路199號
CATEGORIES:學校活動,節日活動
ATTACH;FMTTYPE=image/jpeg:https://topteamimc.com/wp-content/uploads/2019/03/2019世界飛盤運動精神日-休息區服務台-3m快速帳-1.jpg
END:VEVENT
BEGIN:VEVENT
DTSTART;VALUE=DATE:20191130
DTEND;VALUE=DATE:20191201
DTSTAMP:20260424T121737
CREATED:20200218T013737Z
LAST-MODIFIED:20200218T014029Z
UID:7037-1575072000-1575158399@topteamimc.com
SUMMARY:【活動紀錄】提起菜籃講座活動
DESCRIPTION:主婦聯盟生活消費合作社  \n提起菜籃講座活動  \n 【支援器材項目】 \n\n\n	【出租 / 載運】大摺疊會議桌\n查看內容	\n			\n\n\n	【出租 / 載運】白色摺疊椅\n查看內容	\n			\n\n\n	【出租 / 載運】紅色塑膠椅評分 5.00 滿分 5\n查看內容	\n			\n\n\n	【出租 / 配電】展場夾燈\n查看內容	\n			\n\n\n	【搭設】展板隔間\n查看內容	\n			\n\n\n \n 【圖片 & 活動連結】
URL:https://topteamimc.com/event/2019-11-30/
CATEGORIES:宣傳活動
ATTACH;FMTTYPE=image/jpeg:https://topteamimc.com/wp-content/uploads/2019/05/主婦聯盟生活消費合作社-提起菜籃講座活動-文創園區-白色摺疊椅-出租運送-8.jpg
END:VEVENT
BEGIN:VEVENT
DTSTART;VALUE=DATE:20191130
DTEND;VALUE=DATE:20191202
DTSTAMP:20260424T121737
CREATED:20200302T020243Z
LAST-MODIFIED:20200302T020243Z
UID:7230-1575072000-1575244799@topteamimc.com
SUMMARY:【活動紀錄】美福教會 喬伊森林露營活動
DESCRIPTION:美福教會  \n2019喬伊森林露營活動  \n  \n 【支援器材項目】 \n\n\n	【出租 / 搭設】3米快速帳\n查看內容	\n			\n\n\n	【出租 / 載運】大摺疊會議桌\n查看內容	\n			\n\n\n	【出租 / 載運】紅色塑膠椅評分 5.00 滿分 5\n查看內容	\n			\n\n\n	【出租】壓重沙包\n查看內容	\n			\n\n\n \n 【圖片 & 活動連結】
URL:https://topteamimc.com/event/2019-11-30-2/
LOCATION:不遠山莊\, 苗栗縣三義鄉
CATEGORIES:社區活動
ATTACH;FMTTYPE=image/jpeg:https://topteamimc.com/wp-content/uploads/2019/03/美福教會-2019喬伊森林-不遠山莊露營-3米快速帳-摺疊桌-塑膠椅-出租運送-20.jpg
END:VEVENT
BEGIN:VEVENT
DTSTART;VALUE=DATE:20191125
DTEND;VALUE=DATE:20191202
DTSTAMP:20260424T121737
CREATED:20200221T015143Z
LAST-MODIFIED:20200221T015352Z
UID:7131-1574640000-1575244799@topteamimc.com
SUMMARY:【活動紀錄】Costco好市多《黑色購物節》
DESCRIPTION:Costco好市多《黑色購物節》 \n 【支援器材項目】 \n\n\n	【出租 / 運送】舞台紅龍伸縮圍欄\n查看內容	\n			\n\n\n \n 【圖片 & 活動連結】
URL:https://topteamimc.com/event/2019-11-25/
LOCATION:Costco好市多\, 南屯區文心南三路289號\, 台中市\, 台灣
CATEGORIES:特賣活動
ATTACH;FMTTYPE=image/jpeg:https://topteamimc.com/wp-content/uploads/2016/04/2018-Costco黑色購物節-紅龍伸縮圍欄運送出租-10.jpg
END:VEVENT
BEGIN:VEVENT
DTSTART;VALUE=DATE:20191116
DTEND;VALUE=DATE:20191117
DTSTAMP:20260424T121737
CREATED:20200219T041653Z
LAST-MODIFIED:20201009T074949Z
UID:7063-1573862400-1573948799@topteamimc.com
SUMMARY:【活動紀錄】秋冬音樂沙龍演奏會
DESCRIPTION:清心築樂工作室 \n秋冬音樂沙龍演奏會 \n 【支援器材項目】 \n\n\n	【出租 / 載運】外場表演專用電子琴《Yamaha PSR-950》\n查看內容	\n			\n\n\n	【出租 / 載運】白色塑膠靠背椅\n查看內容	\n			\n\n\n	【出租 / 運送】白色塑膠圓桌\n查看內容	\n			\n\n\n	【出租】電子琴架\n查看內容	\n			\n\n\n	【配套】樂團表演專用《監聽喇叭》\n查看內容	\n			\n\n\n \n 【圖片 & 活動連結】
URL:https://topteamimc.com/event/2019-11-16/
LOCATION:清心築樂\, 中區建國路49號
CATEGORIES:展覽活動
ATTACH;FMTTYPE=image/jpeg:https://topteamimc.com/wp-content/uploads/2020/02/清心築樂-2019秋冬音樂沙龍-休閒桌椅組-舞台監聽喇叭-出租運送-12.jpg
END:VEVENT
BEGIN:VEVENT
DTSTART;VALUE=DATE:20191113
DTEND;VALUE=DATE:20191114
DTSTAMP:20260424T121737
CREATED:20200221T061909Z
LAST-MODIFIED:20200221T062019Z
UID:7137-1573603200-1573689599@topteamimc.com
SUMMARY:【活動紀錄】豐原地政檔案展
DESCRIPTION:豐原地政檔案展 \n 【支援器材項目】 \n\n\n	【出租 / 載運】Truss壓克力講桌\n查看內容	\n			\n\n\n	【出租 / 載運】大摺疊會議桌\n查看內容	\n			\n\n\n	【出租 / 運送】貴賓椅\n查看內容	\n			\n\n\n	【出租 / 運送】開幕啟動球\n查看內容	\n			\n\n\n	【出租 / 鋪設】舞台面 / 走道 《紅色地毯》\n查看內容	\n			\n\n\n	【出租】照明地燈 / 背板補光用燈光設備\n查看內容	\n			\n\n\n	【搭設】標準舞台（含主舞台、舞台腳圍布、舞台面地毯、兩側舞台樓梯）\n查看內容	\n			\n\n\n \n 【圖片 & 活動連結】
URL:https://topteamimc.com/event/2019-11-13/
LOCATION:豐原地政事務所\, 豐原區西安街21號
CATEGORIES:展覽活動
ATTACH;FMTTYPE=image/jpeg:https://topteamimc.com/wp-content/uploads/2016/05/豐原地政檔案展-Truss壓克力講桌-出租運送-2.jpg
END:VEVENT
BEGIN:VEVENT
DTSTART;VALUE=DATE:20191101
DTEND;VALUE=DATE:20191102
DTSTAMP:20260424T121737
CREATED:20200220T020533Z
LAST-MODIFIED:20200220T020533Z
UID:7099-1572566400-1572652799@topteamimc.com
SUMMARY:【活動紀錄】庭園自助餐式婚宴活動
DESCRIPTION:庭園自助餐式婚宴活動 \n 【支援器材項目】 \n\n\n	【出租 / 搭設】簡易燈光音響組\n查看內容	\n			\n\n\n	【出租 / 載運】大摺疊會議桌\n查看內容	\n			\n\n\n	【出租 / 載運】白色塑膠靠背椅\n查看內容	\n			\n\n\n	【出租 / 運送】戶外休閒傘\n查看內容	\n			\n\n\n	【出租 / 運送】白色塑膠圓桌\n查看內容	\n			\n\n\n	【出租 / 運送】貴賓椅\n查看內容	\n			\n\n\n	【出租】帳篷圍布\n查看內容	\n			\n\n\n \n 【圖片 & 活動連結】
URL:https://topteamimc.com/event/2019-11-01/
CATEGORIES:婚宴活動
END:VEVENT
BEGIN:VEVENT
DTSTART;TZID=Asia/Taipei:20191026T180000
DTEND;TZID=Asia/Taipei:20191026T220000
DTSTAMP:20260424T121737
CREATED:20200223T034646Z
LAST-MODIFIED:20200226T003438Z
UID:7180-1572112800-1572127200@topteamimc.com
SUMMARY:【活動紀錄】中興小禮堂 階梯廣場求婚
DESCRIPTION:中興小禮堂 階梯廣場求婚 \n 【支援器材項目】 \n\n\n	【出租 / 搭設】LED裝飾串燈\n查看內容	\n			\n\n\n	【出租 / 搭設】照明 / 背板打光《基本燈光組》\n查看內容	\n			\n\n\n	【出租 / 搭設】簡易燈光音響組\n查看內容	\n			\n\n\n \n 【圖片 & 活動連結】
URL:https://topteamimc.com/event/2019-10-26/
LOCATION:中興小禮堂\, 南區國光路250號
CATEGORIES:婚宴活動
ATTACH;FMTTYPE=image/jpeg:https://topteamimc.com/wp-content/uploads/2019/06/中興大學-禮堂廣場求婚活動-婚禮場地佈置串燈-出租搭設-10.jpg
END:VEVENT
BEGIN:VEVENT
DTSTART;VALUE=DATE:20191018
DTEND;VALUE=DATE:20191021
DTSTAMP:20260424T121737
CREATED:20200219T010551Z
LAST-MODIFIED:20200219T010608Z
UID:7048-1571356800-1571615999@topteamimc.com
SUMMARY:【活動紀錄】美敦力家庭日
DESCRIPTION:美敦力家庭日 \n 【支援器材項目】 \n\n\n	【出租 / 搭設】3米快速帳\n查看內容	\n			\n\n\n	【出租 / 搭設】城堡型充氣拱門\n查看內容	\n			\n\n\n	【出租 / 搭設】歐式帳篷\n查看內容	\n			\n\n\n	【出租 / 載運】基本型發電機\n查看內容	\n			\n\n\n	【出租 / 載運】大摺疊會議桌\n查看內容	\n			\n\n\n	【出租 / 載運】紅色塑膠椅評分 5.00 滿分 5\n查看內容	\n			\n\n\n	【出租】壓重沙包\n查看內容	\n			\n\n\n \n 【圖片 & 活動連結】
URL:https://topteamimc.com/event/2019-10-19/
LOCATION:溪頭森林自然園區\, 鹿谷鄉森林巷9號
CATEGORIES:公司活動
ATTACH;FMTTYPE=image/jpeg:https://topteamimc.com/wp-content/uploads/2016/03/FY20-美敦力-福委會-溪頭家庭日活動-充氣拱門搭設-出租-1.jpg
END:VEVENT
BEGIN:VEVENT
DTSTART;VALUE=DATE:20191016
DTEND;VALUE=DATE:20191017
DTSTAMP:20260424T121737
CREATED:20200221T063246Z
LAST-MODIFIED:20200221T063320Z
UID:7142-1571184000-1571270399@topteamimc.com
SUMMARY:【活動紀錄】龍華靜修院義賣活動
DESCRIPTION:龍華靜修院義賣活動 \n 【支援器材項目】 \n\n\n	【出租 / 搭設】200吋投影布幕\n查看內容	\n			\n\n\n	【出租 / 搭設】Welcome充氣拱門\n查看內容	\n			\n\n\n	【出租 / 搭設】器材支撐架《I字Truss》\n查看內容	\n			\n\n\n	【出租】10000流明投影機\n查看內容	\n			\n\n\n	【搭設】主題背板 / 照相背板《ㄇ字型Truss》\n查看內容	\n			\n\n\n \n 【圖片 & 活動連結】
URL:https://topteamimc.com/event/2019-10-16/
LOCATION:龍華靜修院\, 南屯區新鎮和路636號
CATEGORIES:節日活動
ATTACH;FMTTYPE=image/jpeg:https://topteamimc.com/wp-content/uploads/2016/11/龍華靜修院-義賣活動-入口Welcome型拱門出租搭設.jpg
END:VEVENT
BEGIN:VEVENT
DTSTART;VALUE=DATE:20191013
DTEND;VALUE=DATE:20191014
DTSTAMP:20260424T121737
CREATED:20200218T011034Z
LAST-MODIFIED:20200218T011034Z
UID:7014-1570924800-1571011199@topteamimc.com
SUMMARY:【活動紀錄】大里光正家聚
DESCRIPTION:大里光正家聚 \n 【支援器材項目】 \n\n\n	【出租 / 搭設】LED電視牆\n查看內容	\n			\n\n\n	【出租 / 載運】基本型發電機\n查看內容	\n			\n\n\n	【出租 / 載運】大摺疊會議桌\n查看內容	\n			\n\n\n	【出租 / 載運】白色塑膠靠背椅\n查看內容	\n			\n\n\n	【出租 / 載運】黑色摺疊椅\n查看內容	\n			\n\n\n	【出租 / 運送】戶外休閒傘\n查看內容	\n			\n\n\n	【出租 / 運送】白色塑膠圓桌\n查看內容	\n			\n\n\n \n 【圖片 & 活動連結】
URL:https://topteamimc.com/event/2019-10-13/
LOCATION:大里光正\, 大里區仁化路8號\, 台中市
CATEGORIES:社區活動
ATTACH;FMTTYPE=image/jpeg:https://topteamimc.com/wp-content/uploads/2018/01/大里光正社會住宅-座談活動-LED電視牆-出租搭設.jpg
END:VEVENT
BEGIN:VEVENT
DTSTART;VALUE=DATE:20191004
DTEND;VALUE=DATE:20191006
DTSTAMP:20260424T121737
CREATED:20200218T035410Z
LAST-MODIFIED:20200218T035410Z
UID:7042-1570147200-1570319999@topteamimc.com
SUMMARY:【活動紀錄】川岳盃籃球邀請賽
DESCRIPTION:川岳盃籃球邀請賽 \n 【支援器材項目】 \n\n\n	【出租 / 運送】水冷扇\n查看內容	\n			\n\n\n	【搭設】主題背板 / 照相背板《ㄇ字型Truss》\n查看內容	\n			\n\n\n	【製作】主題輸出帆布\n查看內容	\n			\n\n\n	【配套】樂團表演專用《監聽喇叭》\n查看內容	\n			\n\n\n \n 【圖片 & 活動連結】
URL:https://topteamimc.com/event/2019-10-04/
LOCATION:亞洲大學\, 霧峰區柳豐路500號
CATEGORIES:學校活動
ATTACH;FMTTYPE=image/jpeg:https://topteamimc.com/wp-content/uploads/2020/02/川岳盃邀請賽-籃球隊認養儀式-主題背板Truss-出租搭設-2.jpg
END:VEVENT
BEGIN:VEVENT
DTSTART;VALUE=DATE:20190919
DTEND;VALUE=DATE:20190920
DTSTAMP:20260424T121737
CREATED:20200314T012024Z
LAST-MODIFIED:20200314T012024Z
UID:7441-1568851200-1568937599@topteamimc.com
SUMMARY:【活動紀錄】V-tex 運動鞋促銷活動
DESCRIPTION:V-tex 運動鞋促銷活動 \n 【器材項目】 \n\n\n	【出租 / 搭設】3米快速帳\n查看內容	\n			\n\n\n	【出租 / 搭設】照明 / 背板打光《基本燈光組》\n查看內容	\n			\n\n\n	【出租 / 載運】大摺疊會議桌\n查看內容	\n			\n\n\n	【出租 / 載運】紅色塑膠椅評分 5.00 滿分 5\n查看內容	\n			\n\n\n	【出租 / 運送】關東旗\n查看內容	\n			\n\n\n \n 【圖片 & 活動照片連結】
URL:https://topteamimc.com/event/2019-09-19/
LOCATION:草悟道廣場\, 西區英才路534號\, 台中市\, 台灣
CATEGORIES:特賣活動
ATTACH;FMTTYPE=image/jpeg:https://topteamimc.com/wp-content/uploads/2019/03/V-tex-運動鞋促銷活動-勤美草悟道-3m快速帳-出租搭設-2.jpg
END:VEVENT
BEGIN:VEVENT
DTSTART;VALUE=DATE:20190831
DTEND;VALUE=DATE:20190901
DTSTAMP:20260424T121737
CREATED:20200217T093040Z
LAST-MODIFIED:20200217T112302Z
UID:6996-1567209600-1567295999@topteamimc.com
SUMMARY:【活動紀錄】宗教聯盟黨敬天祈福大法會
DESCRIPTION:宗教聯盟黨 敬天祈福大法會 \n 【支援器材項目】 \n\n\n	【出租 / 搭設】3米快速帳\n查看內容	\n			\n\n\n	【出租 / 搭設】城堡型充氣拱門\n查看內容	\n			\n\n\n	【出租 / 搭設】接龍帳\n查看內容	\n			\n\n\n	【出租 / 搭設】活動鷹架\n查看內容	\n			\n\n\n	【出租 / 載運】大摺疊會議桌\n查看內容	\n			\n\n\n	【出租 / 載運】紅色塑膠椅評分 5.00 滿分 5\n查看內容	\n			\n\n\n	【出租 / 載運】黑色摺疊椅\n查看內容	\n			\n\n\n	【出租 / 運送】交通錐組\n查看內容	\n			\n\n\n	【出租 / 運送】水冷扇\n查看內容	\n			\n\n\n	【出租 / 運送】關東旗\n查看內容	\n			\n\n\n	【出租 / 鋪設】舞台面 / 走道 《紅色地毯》\n查看內容	\n			\n\n\n	【出租】X展架\n查看內容	\n			\n\n\n	【出租】香檳金桌巾\n查看內容	\n			\n\n\n	【搭設】主題背板 / 照相背板《ㄇ字型Truss》\n查看內容	\n			\n\n\n	【搭設】標準舞台（含主舞台、舞台腳圍布、舞台面地毯、兩側舞台樓梯）\n查看內容	\n			\n\n\n \n 【圖片 & 活動連結】
URL:https://topteamimc.com/event/2019-08-31/
LOCATION:Tiger City旁停車場
CATEGORIES:選舉活動
ATTACH;FMTTYPE=image/jpeg:https://topteamimc.com/wp-content/uploads/2016/11/宗教聯盟黨造勢活動-50米走道紅地毯-出租鋪設-2.jpg
END:VEVENT
BEGIN:VEVENT
DTSTART;VALUE=DATE:20190823
DTEND;VALUE=DATE:20190824
DTSTAMP:20260424T121737
CREATED:20200308T074710Z
LAST-MODIFIED:20200308T074753Z
UID:7347-1566518400-1566604799@topteamimc.com
SUMMARY:【活動紀錄】台灣汽機車靜態街頭改裝文化祭
DESCRIPTION:台灣汽機車靜態街頭改裝文化祭 \n 【器材項目】 \n\n\n	【出租 / 載運】大摺疊會議桌\n查看內容	\n			\n\n\n	【出租 / 載運】紅色塑膠椅評分 5.00 滿分 5\n查看內容	\n			\n\n\n	【出租 / 運送】交通錐組\n查看內容	\n			\n\n\n \n 【圖片】
URL:https://topteamimc.com/event/2019-08-23/
LOCATION:大台中國際會展中心\, 烏日區高鐵五路161號\, 台中市\, 台灣
CATEGORIES:展覽活動
ATTACH;FMTTYPE=image/jpeg:https://topteamimc.com/wp-content/uploads/2017/10/台灣汽機車街頭靜態改裝文化祭-屋日展場-三角錐-交通錐-出租運送.jpg
END:VEVENT
BEGIN:VEVENT
DTSTART;VALUE=DATE:20190821
DTEND;VALUE=DATE:20190829
DTSTAMP:20260424T121737
CREATED:20200314T023418Z
LAST-MODIFIED:20200314T023418Z
UID:7446-1566345600-1567036799@topteamimc.com
SUMMARY:【活動紀錄】家扶基金會 裝置藝術特展
DESCRIPTION:家扶基金會 & 東海大學工業設計系 \n裝置藝術特展 \n 【器材項目】 \n\n\n	【出租 / 載運】小型發電機\n查看內容	\n			\n\n\n	【出租】簡單活動主持 / 音樂播放專用《行動音響》\n查看內容	\n			\n\n\n	【施工】帳篷攤位配線\n查看內容	\n			\n\n\n \n 【圖片 & 活動照片連結】
URL:https://topteamimc.com/event/2019-08-21/
LOCATION:草悟道廣場\, 西區英才路534號\, 台中市\, 台灣
CATEGORIES:展覽活動
ATTACH;FMTTYPE=image/jpeg:https://topteamimc.com/wp-content/uploads/2020/03/家扶基金會-裝置藝術特展-服務台-3M快速帳-出租搭設-2.jpg
END:VEVENT
BEGIN:VEVENT
DTSTART;TZID=Asia/Taipei:20190818T080000
DTEND;TZID=Asia/Taipei:20190818T170000
DTSTAMP:20260424T121737
CREATED:20200314T024523Z
LAST-MODIFIED:20200314T024523Z
UID:7450-1566115200-1566147600@topteamimc.com
SUMMARY:【活動紀錄】時美齋鐘錶 招待中心餐會
DESCRIPTION:時美齋鐘錶 招待中心餐會 \n 【器材項目】 \n\n\n	【出租 / 搭設】5000流明投影機\n查看內容	\n			\n\n\n	【出租 / 搭設】歐式帳篷\n查看內容	\n			\n\n\n	【出租 / 載運】紅色塑膠椅評分 5.00 滿分 5\n查看內容	\n			\n\n\n	【出租 / 鋪設】舞台面 / 走道 《紅色地毯》\n查看內容	\n			\n\n\n	【出租】100吋手拉式投影布幕\n查看內容	\n			\n\n\n \n 【圖片 & 活動照片連結】
URL:https://topteamimc.com/event/2019-08-18/
CATEGORIES:公司活動
ATTACH;FMTTYPE=image/jpeg:https://topteamimc.com/wp-content/uploads/2018/02/時美齋鐘錶-招待中心餐會-行動音響出租運送.jpg
END:VEVENT
BEGIN:VEVENT
DTSTART;VALUE=DATE:20190729
DTEND;VALUE=DATE:20190730
DTSTAMP:20260424T121737
CREATED:20200410T115331Z
LAST-MODIFIED:20200410T115358Z
UID:7599-1564358400-1564444799@topteamimc.com
SUMMARY:【活動紀錄】地天泰酵素工廠啟用典禮
DESCRIPTION:地天泰酵素工廠啟用典禮 \n【器材項目】 \n\n\n	【出租 / 搭設】城堡型充氣拱門\n查看內容	\n			\n\n\n	【出租 / 載運】大摺疊會議桌\n查看內容	\n			\n\n\n	【出租 / 載運】黑色摺疊椅\n查看內容	\n			\n\n\n	【出租 / 運送】舞台紅龍伸縮圍欄\n查看內容	\n			\n\n\n	【出租 / 運送】貴賓椅\n查看內容	\n			\n\n\n	【出租 / 運送】開幕啟動球\n查看內容	\n			\n\n\n	【出租 / 鋪設】舞台面 / 走道 《紅色地毯》\n查看內容	\n			\n\n\n	【搭設】廣告看板 / 活動主題背板《口字型Truss》\n查看內容	\n			\n\n\n \n 【圖片 & 活動照片連結】
URL:https://topteamimc.com/event/2019-07-29/
LOCATION:地天泰農業生技公司\, 西屯區工業區十路1號
CATEGORIES:開幕活動
ATTACH;FMTTYPE=image/jpeg:https://topteamimc.com/wp-content/uploads/2020/04/地天泰酵素工廠啟用典禮活動-紅龍伸縮圍欄-走到地毯-主題背板-啟動儀式3d球-燈光音響-出租搭設-3.jpg
END:VEVENT
BEGIN:VEVENT
DTSTART;VALUE=DATE:20190728
DTEND;VALUE=DATE:20190729
DTSTAMP:20260424T121737
CREATED:20200217T113604Z
LAST-MODIFIED:20200928T105043Z
UID:7001-1564272000-1564358399@topteamimc.com
SUMMARY:【活動紀錄】感覺實驗室 綠川小市集
DESCRIPTION:感覺實驗室 綠川小市集 \n 【支援器材項目】 \n\n\n	【出租 / 搭設】3米快速帳\n查看內容	\n			\n\n\n	【出租 / 搭設】LED裝飾串燈\n查看內容	\n			\n\n\n	【出租 / 載運】基本型發電機\n查看內容	\n			\n\n\n	【出租 / 載運】大摺疊會議桌\n查看內容	\n			\n\n\n	【出租 / 載運】黑色摺疊椅\n查看內容	\n			\n\n\n	【出租 / 運送】戶外休閒傘\n查看內容	\n			\n\n\n	【出租 / 運送】白色塑膠圓桌\n查看內容	\n			\n\n\n \n 【圖片 & 活動連結】
URL:https://topteamimc.com/event/2019-07-28/
LOCATION:台中綠川
CATEGORIES:市集活動,特賣活動
ATTACH;FMTTYPE=image/jpeg:https://topteamimc.com/wp-content/uploads/2019/03/感覺實驗室-綠川小市集-攤位快速帳-出租搭設.jpg
END:VEVENT
BEGIN:VEVENT
DTSTART;TZID=Asia/Taipei:20190622T180000
DTEND;TZID=Asia/Taipei:20190622T213000
DTSTAMP:20260424T121737
CREATED:20200223T075702Z
LAST-MODIFIED:20200223T075702Z
UID:7184-1561226400-1561239000@topteamimc.com
SUMMARY:【活動紀錄】樂尼尼餐廳庭園婚禮
DESCRIPTION:樂尼尼餐廳庭園婚禮 \n 【支援器材項目】 \n\n\n	【出租 / 搭設】歐式帳篷\n查看內容	\n			\n\n\n	【出租 / 載運】大摺疊會議桌\n查看內容	\n			\n\n\n	【出租 / 運送】貴賓椅\n查看內容	\n			\n\n\n	【出租】帳篷吊燈\n查看內容	\n			\n\n\n	【出租】帳篷圍布\n查看內容	\n			\n\n\n	【出租】香檳金桌巾\n查看內容	\n			\n\n\n \n 【圖片 & 活動連結】
URL:https://topteamimc.com/event/2019-06-22/
LOCATION:樂尼尼義式餐廳\, 北屯區廍子巷5-11號
CATEGORIES:婚宴活動
ATTACH;FMTTYPE=image/jpeg:https://topteamimc.com/wp-content/uploads/2019/03/樂尼尼義式餐廳-求婚活動-LED裝飾串燈-出租搭設-3.jpg
END:VEVENT
BEGIN:VEVENT
DTSTART;TZID=Asia/Taipei:20190616T120000
DTEND;TZID=Asia/Taipei:20190616T180000
DTSTAMP:20260424T121737
CREATED:20200303T023214Z
LAST-MODIFIED:20200303T023301Z
UID:7276-1560686400-1560708000@topteamimc.com
SUMMARY:【活動紀錄】紐洛琳英語表達能力大賽
DESCRIPTION:紐洛琳英語學院 \n小小聯合國英語表達能力大賽 \n 【支援器材項目】 \n\n\n	【出租 / 搭設】照明 / 背板打光《基本燈光組》\n查看內容	\n			\n\n\n	【出租】10000流明投影機\n查看內容	\n			\n\n\n	【出租】桌上型麥克風架\n查看內容	\n			\n\n\n	【搭設】主題背板 / 照相背板《ㄇ字型Truss》\n查看內容	\n			\n\n\n	【搭設】標準舞台（含主舞台、舞台腳圍布、舞台面地毯、兩側舞台樓梯）\n查看內容	\n			\n\n\n	【配套】樂團表演專用《監聽喇叭》\n查看內容	\n			\n\n\n \n 【圖片 & 活動連結】
URL:https://topteamimc.com/event/2019-06-16/
LOCATION:豐樂公園\, 文心南五路一段331號
CATEGORIES:學校活動
ATTACH;FMTTYPE=image/jpeg:https://topteamimc.com/wp-content/uploads/2020/03/紐洛琳英語學院-英語表達能力大賽-燈光音響-投影設備-主題背板出租-103.jpg
END:VEVENT
BEGIN:VEVENT
DTSTART;VALUE=DATE:20190616
DTEND;VALUE=DATE:20190617
DTSTAMP:20260424T121737
CREATED:20190616T082329Z
LAST-MODIFIED:20200217T091625Z
UID:6988-1560643200-1560729599@topteamimc.com
SUMMARY:【活動紀錄】尊任咖啡文酷展
DESCRIPTION:尊任咖啡文酷展 \n 【支援項目】 \n\n\n	【出租 / 載運】大摺疊會議桌\n查看內容	\n			\n\n\n	【出租 / 載運】紅色塑膠椅評分 5.00 滿分 5\n查看內容	\n			\n\n\n	【出租 / 載運】黑色摺疊椅\n查看內容	\n			\n\n\n	【出租】10000流明投影機\n查看內容	\n			\n\n\n	【出租】150吋手拉式投影布幕\n查看內容	\n			\n\n\n	【出租】X展架\n查看內容	\n			\n\n\n	【出租】香檳金桌巾\n查看內容	\n			\n\n\n \n 【圖片 & 活動連結】
URL:https://topteamimc.com/event/2019-06-15/
LOCATION:台中大魯閣新時代\, 復興路四段186號\, 台中\, 台灣
CATEGORIES:特賣活動
ATTACH;FMTTYPE=image/jpeg:https://topteamimc.com/wp-content/uploads/2020/02/尊任咖啡-大魯閣新時代-文酷展桌椅出租運送-7.jpg
END:VEVENT
BEGIN:VEVENT
DTSTART;VALUE=DATE:20190611
DTEND;VALUE=DATE:20190612
DTSTAMP:20260424T121737
CREATED:20200302T085307Z
LAST-MODIFIED:20200302T085710Z
UID:7243-1560211200-1560297599@topteamimc.com
SUMMARY:【活動紀錄】小北百貨25週年慶
DESCRIPTION:小北百貨25週年慶 \n 【支援器材項目】 \n\n\n	【出租 / 搭設】3米快速帳\n查看內容	\n			\n\n\n	【出租 / 搭設】55吋液晶電視\n查看內容	\n			\n\n\n	【出租 / 搭設】簡易燈光音響組\n查看內容	\n			\n\n\n	【出租 / 運送】舞台紅龍伸縮圍欄\n查看內容	\n			\n\n\n	【出租 / 運送】貴賓椅\n查看內容	\n			\n\n\n	【出租 / 鋪設】舞台面 / 走道 《紅色地毯》\n查看內容	\n			\n\n\n	【搭設】主題背板 / 照相背板《ㄇ字型Truss》\n查看內容	\n			\n\n\n \n 【圖片 & 活動連結】
URL:https://topteamimc.com/event/2019-06-11/
LOCATION:小北百貨樹孝店\, 太平區樹孝路272號
CATEGORIES:特賣活動
ATTACH;FMTTYPE=image/jpeg:https://topteamimc.com/wp-content/uploads/2020/03/太平小北百貨25週年慶摸彩-桌椅-紅龍題背板truss-55吋電視-音響租用-紅地毯鋪設.jpg
END:VEVENT
BEGIN:VEVENT
DTSTART;VALUE=DATE:20190605
DTEND;VALUE=DATE:20190606
DTSTAMP:20260424T121737
CREATED:20200328T022918Z
LAST-MODIFIED:20200328T022918Z
UID:7530-1559692800-1559779199@topteamimc.com
SUMMARY:【活動紀錄】住宅新建工程 動土祈福典禮
DESCRIPTION:住宅新建工程 動土祈福典禮 \n 【器材項目】 \n\n\n	【出租 / 搭設】6米宮廷帳\n查看內容	\n			\n\n\n	【出租 / 載運】大摺疊會議桌\n查看內容	\n			\n\n\n	【出租 / 載運】紅色塑膠椅評分 5.00 滿分 5\n查看內容	\n			\n\n\n	【出租】酒紅色桌巾\n查看內容	\n			\n\n\n \n 【圖片 & 活動照片連結】
URL:https://topteamimc.com/event/2019-06-05/
CATEGORIES:開幕活動
ATTACH;FMTTYPE=image/jpeg:https://topteamimc.com/wp-content/uploads/2019/02/住宅營建工程-動土祈福典禮-宮廷帳搭設-8.jpg
END:VEVENT
BEGIN:VEVENT
DTSTART;VALUE=DATE:20190519
DTEND;VALUE=DATE:20190520
DTSTAMP:20260424T121737
CREATED:20200410T113153Z
LAST-MODIFIED:20200410T113153Z
UID:7596-1558224000-1558310399@topteamimc.com
SUMMARY:【活動紀錄】甫運通運公司會議
DESCRIPTION:甫運通運 公司會議 \n 【器材項目】 \n\n\n	【出租 / 載運】Truss壓克力講桌\n查看內容	\n			\n\n\n	【出租 / 載運】大摺疊會議桌\n查看內容	\n			\n\n\n	【出租 / 載運】黑色摺疊椅\n查看內容	\n			\n\n\n	【出租 / 運送】標示架 / 指示立牌\n查看內容	\n			\n\n\n	【出租 / 運送】舞台紅龍伸縮圍欄\n查看內容	\n			\n\n\n	【搭設】標準舞台（含主舞台、舞台腳圍布、舞台面地毯、兩側舞台樓梯）\n查看內容	\n			\n\n\n \n 【圖片】
URL:https://topteamimc.com/event/2019-05-18/
LOCATION:甫運國際有限公司\, 霧峰區四德路142號
CATEGORIES:公司活動
ATTACH;FMTTYPE=image/jpeg:https://topteamimc.com/wp-content/uploads/2019/04/甫運通運活動-紅龍圍欄指示牌-兩用型柱-出租運送.jpg
END:VEVENT
END:VCALENDAR